BEGIN:VCALENDAR
VERSION:2.0
PRODID:-//MAX Ottawa - ECPv6.15.20//NONSGML v1.0//EN
CALSCALE:GREGORIAN
METHOD:PUBLISH
X-ORIGINAL-URL:https://maxottawa.ca
X-WR-CALDESC:Events for MAX Ottawa
REFRESH-INTERVAL;VALUE=DURATION:PT1H
X-Robots-Tag:noindex
X-PUBLISHED-TTL:PT1H
BEGIN:VTIMEZONE
TZID:America/Toronto
BEGIN:DAYLIGHT
TZOFFSETFROM:-0500
TZOFFSETTO:-0400
TZNAME:EDT
DTSTART:20240310T070000
END:DAYLIGHT
BEGIN:STANDARD
TZOFFSETFROM:-0400
TZOFFSETTO:-0500
TZNAME:EST
DTSTART:20241103T060000
END:STANDARD
BEGIN:DAYLIGHT
TZOFFSETFROM:-0500
TZOFFSETTO:-0400
TZNAME:EDT
DTSTART:20250309T070000
END:DAYLIGHT
BEGIN:STANDARD
TZOFFSETFROM:-0400
TZOFFSETTO:-0500
TZNAME:EST
DTSTART:20251102T060000
END:STANDARD
BEGIN:DAYLIGHT
TZOFFSETFROM:-0500
TZOFFSETTO:-0400
TZNAME:EDT
DTSTART:20260308T070000
END:DAYLIGHT
BEGIN:STANDARD
TZOFFSETFROM:-0400
TZOFFSETTO:-0500
TZNAME:EST
DTSTART:20261101T060000
END:STANDARD
END:VTIMEZONE
BEGIN:VEVENT
DTSTART;TZID=America/Toronto:20250208T230000
DTEND;TZID=America/Toronto:20250209T020000
DTSTAMP:20260425T151941
CREATED:20250204T175607Z
LAST-MODIFIED:20250204T175618Z
UID:10001901-1739055600-1739066400@maxottawa.ca
SUMMARY:HiSlay Super Bowl Halftime Drag Show Extravaganza
DESCRIPTION:Enjoy a show and DJ sets inspired by your favourite past halftime show legends\, pop stars and divas brought to life by the fierce and fabulous:🏈 @vera.just.vera (Ms. Capital Pride 2024)🎤 @saltinashaker (Swamp Queen 2020)🏈 @sunshineglitterchild (Gargoyle Queen 1902)🎤 @itsmydestinyxo (Toronto)🏈 @bj_stroker (Winner of ONDS All Stars)🎤 @xtravaganjaa (ONDS All Stars runner-up)🏈 @kikiwannakaikai (Canada’s Drag Race Season 1) \n\n\n\n📀 DJ @alexxmilsom spinning your favourite Super Bowl hits all night long! \n\n\n\n🎟️Tickets are tiered and once they’re gone\, they’re gone! \n\n\n\nTIER 1: $10TIER 2: $12.50TIER 3: $15TIER 4: $20DOOR: $25 \n\n\n\nChannel your inner MVP and come dressed in your sexiest cheerleader or sports gear! As always\, the looks that Hi-Slay the hardest get prizes at the end of the show!📣 \n\n\n\nGrab your team\, grab your drinks\, and get ready for a night of twirls and touchdowns! This is one Super Bowl celebration you won’t want to miss! ✨🏈 \n\n\n\nHI SLAY! is sponsored by our friends at Freddie! @gofreddie is a virtual service that delivers PrEP directly to your home. Make sure to check them out if you’re a community member who is interested!
URL:https://maxottawa.ca/list/hislay-super-bowl-halftime-drag-show-extravaganza/
LOCATION:The 27 Club\, 27 York St\, Ottawa\, ON\, K1N 5S7\, Canada
CATEGORIES:Drag & Burlesque,Nightlife
ORGANIZER;CN="Glittershaker Events":MAILTO:heybabe@glittershakerevents.com
END:VEVENT
BEGIN:VEVENT
DTSTART;TZID=America/Toronto:20250209T200000
DTEND;TZID=America/Toronto:20250209T230000
DTSTAMP:20260425T151941
CREATED:20241029T210043Z
LAST-MODIFIED:20241106T152947Z
UID:10000484-1739131200-1739142000@maxottawa.ca
SUMMARY:Karaoke Night
DESCRIPTION:Karaoke with fellow Queers hosted by Jolene.
URL:https://maxottawa.ca/list/karaoke-night/2025-02-09/
LOCATION:T’s\, 323 Somerset Street West\, Ottawa\, ON\, 2P 0J8\, Canada
CATEGORIES:Live music,Nightlife,Regular programming
END:VEVENT
END:VCALENDAR