BEGIN:VCALENDAR
VERSION:2.0
PRODID:-//MAX Ottawa - ECPv6.15.20//NONSGML v1.0//EN
CALSCALE:GREGORIAN
METHOD:PUBLISH
X-WR-CALNAME:MAX Ottawa
X-ORIGINAL-URL:https://maxottawa.ca
X-WR-CALDESC:Events for MAX Ottawa
REFRESH-INTERVAL;VALUE=DURATION:PT1H
X-Robots-Tag:noindex
X-PUBLISHED-TTL:PT1H
BEGIN:VTIMEZONE
TZID:America/Toronto
BEGIN:DAYLIGHT
TZOFFSETFROM:-0500
TZOFFSETTO:-0400
TZNAME:EDT
DTSTART:20240310T070000
END:DAYLIGHT
BEGIN:STANDARD
TZOFFSETFROM:-0400
TZOFFSETTO:-0500
TZNAME:EST
DTSTART:20241103T060000
END:STANDARD
BEGIN:DAYLIGHT
TZOFFSETFROM:-0500
TZOFFSETTO:-0400
TZNAME:EDT
DTSTART:20250309T070000
END:DAYLIGHT
BEGIN:STANDARD
TZOFFSETFROM:-0400
TZOFFSETTO:-0500
TZNAME:EST
DTSTART:20251102T060000
END:STANDARD
BEGIN:DAYLIGHT
TZOFFSETFROM:-0500
TZOFFSETTO:-0400
TZNAME:EDT
DTSTART:20260308T070000
END:DAYLIGHT
BEGIN:STANDARD
TZOFFSETFROM:-0400
TZOFFSETTO:-0500
TZNAME:EST
DTSTART:20261101T060000
END:STANDARD
END:VTIMEZONE
BEGIN:VEVENT
DTSTART;TZID=America/Toronto:20250212T210000
DTEND;TZID=America/Toronto:20250212T230000
DTSTAMP:20260421T233657
CREATED:20250207T191925Z
LAST-MODIFIED:20250207T191938Z
UID:10001916-1739394000-1739401200@maxottawa.ca
SUMMARY:T's Pub Presents: Talent Show Night
DESCRIPTION:Our monthly Talent Show returns to Ts on Wednesday Feb 12 at 9pm. We have a fabulous cast ready to slay the night away. So grab a friend and come on out to support local drag and the businesses the host them @tspub_ottawa \n\n\n\nFeaturing✨Vaccination Bathory Steele✨Ketsynn Wonderland✨Josephine Jay✨Nut Ella✨Lady Huntress
URL:https://maxottawa.ca/list/ts-pub-presents-talent-show-night/
LOCATION:T’s\, 323 Somerset Street West\, Ottawa\, ON\, 2P 0J8\, Canada
CATEGORIES:Drag & Burlesque,Nightlife
END:VEVENT
END:VCALENDAR