BEGIN:VCALENDAR
VERSION:2.0
PRODID:-//MAX Ottawa - ECPv6.15.20//NONSGML v1.0//EN
CALSCALE:GREGORIAN
METHOD:PUBLISH
X-WR-CALNAME:MAX Ottawa
X-ORIGINAL-URL:https://maxottawa.ca
X-WR-CALDESC:Events for MAX Ottawa
REFRESH-INTERVAL;VALUE=DURATION:PT1H
X-Robots-Tag:noindex
X-PUBLISHED-TTL:PT1H
BEGIN:VTIMEZONE
TZID:America/Toronto
BEGIN:DAYLIGHT
TZOFFSETFROM:-0500
TZOFFSETTO:-0400
TZNAME:EDT
DTSTART:20240310T070000
END:DAYLIGHT
BEGIN:STANDARD
TZOFFSETFROM:-0400
TZOFFSETTO:-0500
TZNAME:EST
DTSTART:20241103T060000
END:STANDARD
BEGIN:DAYLIGHT
TZOFFSETFROM:-0500
TZOFFSETTO:-0400
TZNAME:EDT
DTSTART:20250309T070000
END:DAYLIGHT
BEGIN:STANDARD
TZOFFSETFROM:-0400
TZOFFSETTO:-0500
TZNAME:EST
DTSTART:20251102T060000
END:STANDARD
BEGIN:DAYLIGHT
TZOFFSETFROM:-0500
TZOFFSETTO:-0400
TZNAME:EDT
DTSTART:20260308T070000
END:DAYLIGHT
BEGIN:STANDARD
TZOFFSETFROM:-0400
TZOFFSETTO:-0500
TZNAME:EST
DTSTART:20261101T060000
END:STANDARD
END:VTIMEZONE
BEGIN:VEVENT
DTSTART;TZID=America/Toronto:20250213T160000
DTEND;TZID=America/Toronto:20250213T220000
DTSTAMP:20260423T230550
CREATED:20250128T234340Z
LAST-MODIFIED:20250128T234346Z
UID:10001877-1739462400-1739484000@maxottawa.ca
SUMMARY:An Evening of Burlesque and Drag and Valentine's Craft Fair
DESCRIPTION:You are invited to CORA’s Valentines Fundraiser! \n\n\n\nThis Valentine’s Day\, join us for a one-of-a-kind FREE fundraiser market featuring an eclectic mix of local treasures! From enchanting witchy goods and stunning latex outfits to gourmet dog treats and unique handmade items\, there’s something special for everyone-whether you’re spoiling yourself\, your partner\, or your furry friend. Shop\, support local vendors\, and help us raise funds for a great cause- while you’re here\, you can buy your beloved a carnation and a love note\, too! \n\n\n\nFrom 4pm- 7pm followed by our ticketed Burlesque and Drag Event featuring: \n\n\n\n\nKoston Kreme\n\n\n\nSatin Sadie\n\n\n\nCleo Taurus\n\n\n\nMona Moor\n\n\n\nAdriana Exposee!\n\n\n\n\nPlease help us support our community with an evening of sexy fun and dance!
URL:https://maxottawa.ca/list/an-evening-of-burlesque-and-drag-and-valentines-craft-fair/
LOCATION:The Royal Canadian Legion – Montgomery Branch\, 330 Kent St.\, Ottawa\, Ontario\, K2P 2A6\, Canada
CATEGORIES:Advocacy & empowerment,Art,Drag & Burlesque,Nightlife
ORGANIZER;CN="CORA'S":MAILTO:admin@sswork.org
END:VEVENT
BEGIN:VEVENT
DTSTART;TZID=America/Toronto:20250213T200000
DTEND;TZID=America/Toronto:20250213T230000
DTSTAMP:20260423T230550
CREATED:20241029T210043Z
LAST-MODIFIED:20241106T152947Z
UID:10000485-1739476800-1739487600@maxottawa.ca
SUMMARY:Karaoke Night
DESCRIPTION:Karaoke with fellow Queers hosted by Jolene.
URL:https://maxottawa.ca/list/karaoke-night/2025-02-13/
LOCATION:T’s\, 323 Somerset Street West\, Ottawa\, ON\, 2P 0J8\, Canada
CATEGORIES:Live music,Nightlife,Regular programming
END:VEVENT
BEGIN:VEVENT
DTSTART;TZID=America/Toronto:20250213T203000
DTEND;TZID=America/Toronto:20250213T212000
DTSTAMP:20260423T230550
CREATED:20250204T203248Z
LAST-MODIFIED:20250204T203255Z
UID:10001907-1739478600-1739481600@maxottawa.ca
SUMMARY:She\, Men\, & the Giant F*cking Snake - 2025 undercurrents festival
DESCRIPTION:Join us the undercurrents for the Interstellar Drag Theatre Production \n\n\n\nShe\, Men & The Giant F*cking Snake: A Theatrical Song CycleBy Anthony Palermo – Toronto \n\n\n\n“She” is the mythological Greek figure Tiresias. \n\n\n\n“She” is a Twink in the Gay Village. \n\n\n\n“She” is being chased down by her ex\, a GIANT SNAKE. \n\n\n\n“She” is a multi-dimensional space bitch on a mission to figure out who touched her tits before she disappears into the multiverse. \n\n\n\nSet to a thrilling original pop-rock score\, She\, Men\, & the Giant F*cking Snake is a solo drag theatrical song cycle about gender identity\, sexual assault in queer spaces\, and the journey of understanding who you are. \n\n\n\nAfter the show’s run at Buddies in Bad Times Theatre and Soulpepper Theatre\, She and her Interstellar Radio can’t wait to travel through the multiverse to the undercurrents Festival this year.M | Audience Participation\, Flashing Lights\, Mature Language\, Sexual Content\, Violence \n\n\n\nDuration: 80 minutes
URL:https://maxottawa.ca/list/she-men-the-giant-fcking-snake-2025-undercurrents-festival-2/2025-02-13/
LOCATION:Arts Court\, 2 Daly Ave.\, Ottawa\, Ontario\, K1N 6E2\, Canada
CATEGORIES:Art,Drag & Burlesque,Nightlife
ORGANIZER;CN="Ottawa Fringe":MAILTO:info@ottawafringe.com
END:VEVENT
END:VCALENDAR