BEGIN:VCALENDAR
VERSION:2.0
PRODID:-//MAX Ottawa - ECPv6.15.20//NONSGML v1.0//EN
CALSCALE:GREGORIAN
METHOD:PUBLISH
X-WR-CALNAME:MAX Ottawa
X-ORIGINAL-URL:https://maxottawa.ca
X-WR-CALDESC:Events for MAX Ottawa
REFRESH-INTERVAL;VALUE=DURATION:PT1H
X-Robots-Tag:noindex
X-PUBLISHED-TTL:PT1H
BEGIN:VTIMEZONE
TZID:America/Toronto
BEGIN:DAYLIGHT
TZOFFSETFROM:-0500
TZOFFSETTO:-0400
TZNAME:EDT
DTSTART:20240310T070000
END:DAYLIGHT
BEGIN:STANDARD
TZOFFSETFROM:-0400
TZOFFSETTO:-0500
TZNAME:EST
DTSTART:20241103T060000
END:STANDARD
BEGIN:DAYLIGHT
TZOFFSETFROM:-0500
TZOFFSETTO:-0400
TZNAME:EDT
DTSTART:20250309T070000
END:DAYLIGHT
BEGIN:STANDARD
TZOFFSETFROM:-0400
TZOFFSETTO:-0500
TZNAME:EST
DTSTART:20251102T060000
END:STANDARD
BEGIN:DAYLIGHT
TZOFFSETFROM:-0500
TZOFFSETTO:-0400
TZNAME:EDT
DTSTART:20260308T070000
END:DAYLIGHT
BEGIN:STANDARD
TZOFFSETFROM:-0400
TZOFFSETTO:-0500
TZNAME:EST
DTSTART:20261101T060000
END:STANDARD
END:VTIMEZONE
BEGIN:VEVENT
DTSTART;TZID=America/Toronto:20250301T190000
DTEND;TZID=America/Toronto:20250301T220000
DTSTAMP:20260423T140035
CREATED:20241029T205445Z
LAST-MODIFIED:20241106T153226Z
UID:10000212-1740855600-1740866400@maxottawa.ca
SUMMARY:Bottomless Dine & Drag Dinner
DESCRIPTION:Every week\, on Saturday night\, Vanitea is the destination for the no. 1 voted drag dinner\, presented by beloved house host Devona Coe and a rotating calendar of featured local and visiting drag queens.Delivering their struts\, gag-worthy performances & all-over sass for your Saturday night pleasure\, + a fabulous 3 course tower (with meal included) and bottomless drinks!
URL:https://maxottawa.ca/list/bottomless-dine-drag-dinner/2025-03-01/
LOCATION:The Vanitea Room\, 551 Somerset St West\, Ottawa\, ON\, K1R 5J9\, Canada
CATEGORIES:Drag & Burlesque,Nightlife
END:VEVENT
BEGIN:VEVENT
DTSTART;TZID=America/Toronto:20250301T190000
DTEND;TZID=America/Toronto:20250302T010000
DTSTAMP:20260423T140035
CREATED:20250226T181517Z
LAST-MODIFIED:20250226T181525Z
UID:10001980-1740855600-1740877200@maxottawa.ca
SUMMARY:Probe's Queer Night - MASQUERADE
DESCRIPTION:Probe’s Queer Night: MASQUERADE \n\n\n\nBehind the mask\, the night comes alive… \n\n\n\nThis March\, embrace the dazzling spirit of Mardi Gras with a night steeped in glamour\, bold expression\, and colourful connection. Whether you’re drawn to shimmering beads\, enchanted masks\, or simply celebrating your true self\, MASQUERADE invites you to lose yourself in the magic of the moment. \n\n\n\n✨ What to Expect: \n\n\n\nAtmosphere: A lavish space dripping in jewel tones\, glowing lights\, and the allure of mystery. Think masked elegance\, carnival-inspired décor\, and a festive twist on queer connection. \n\n\n\nCraft Station: Design your own mask or add flair to your existing one—supplies provided to let your creativity shine! \n\n\n\nDress to Impress: Bring the drama! Bold colors\, gilded accents\, or a look that screams “carnival royalty.” Masks encouraged\, but the real treasure is you. \n\n\n\nDoors open at 7 PM. For the safety of all\, our entry door locks at 11 PM. \n\n\n\nUnmask your true self\, embrace the unknown\, and celebrate in a space where queerness reigns supreme. This is your night to dazzle\, play\, and revel in the joy of community. 💜💚💛 \n\n\n\nAt Probe\, inclusivity is at the heart of everything we do. We welcome all individuals of all sexual orientations\, genders\, and identities. Our aim is to create an environment where everyone feels respected\, valued\, and free to express themselves authentically. Our venue is wheelchair accessible\, with an elevator available. Our goal is to provide an accessible\, inclusive space. If you have any questions or have specific accommodation requests\, please reach out to us. \n\n\n\nA membership is required to attend our play parties. If you haven’t secured your membership yet\, be sure to do so before the event! You can sign up for your membership on our site here or can be purchased at the door. \n\n\n\nTickets are available on a sliding scale to promote inclusivity and accessibility. We offer limited “supported” and “sustain” tickets at a lower price for community members who might otherwise be unable to attend. Please choose the ticket price that makes this event accessible to you. If you’d like to support event accessibility\, consider purchasing a “generous” or “benevolent” ticket\, which helps subsidize lower-price options. All ticket types provide the same access to the event. \n\n\n\nA variety of snacks and non-alcoholic drinks will be available all night to keep you refreshed and energized. Please note that bringing alcohol is not allowed. \n\n\n\nOur dedicated Dungeon Monitors (DMs) will be present throughout the venue\, attentively supervising the play areas and offering assistance to ensure everyone’s safety.
URL:https://maxottawa.ca/list/probes-queer-night-masquerade/
LOCATION:Probe Ottawa\, 41 York St 3rd & 4th floor\, Ottawa\, Ontario\, K1N 5S7\, Canada
CATEGORIES:Nightlife,Social
ORGANIZER;CN="Probe Ottawa":MAILTO:probeottawa@gmail.com
END:VEVENT
BEGIN:VEVENT
DTSTART;TZID=America/Toronto:20250301T203000
DTEND;TZID=America/Toronto:20250301T233000
DTSTAMP:20260423T140035
CREATED:20241030T190429Z
LAST-MODIFIED:20250107T133458Z
UID:10001584-1740861000-1740871800@maxottawa.ca
SUMMARY:Art House: Metro Jazz
DESCRIPTION:On the first Saturday of each month\, Art House and host Garrett Warner are proud to present Metro Jazz — an evening of contemporary jazz with a rotating featured musician and backing band. \n\n\n\nDoors at 8:30pm. Jazz starts 9pm.  \n\n\n\nPlease note that there are a limited number of tickets so if advance tickets sell out\, then the event is at capacity. \n\n\n\nOnline tickets do guarantee a seat. While the music can be heard/experienced clearly in every room of the house\, we recommend coming early if you wish to snag a spot where you can see the band. \n\n\n\nREFUND POLICY: refunds can only be issued to those who bought tickets online. Please send an email with a screenshot or attachment of your ticket/receipt to events@thearthousecafe.ca no later than 24 hours prior to the event. \n\n\n\nIMPORTANT ACCESSIBILITY INFOWe provide gender-neutral washrooms.We are licensed to provide alcohol\, but serve a variety of non-alcoholic options.
URL:https://maxottawa.ca/list/art-house-metro-jazz/2025-03-01/
LOCATION:Art House\, 555 Somerset St. West\, Ottawa\, Ontario\, K1R5K1\, Canada
CATEGORIES:Live music,Nightlife,Regular programming
ORGANIZER;CN="Art House":MAILTO:info@arthousecafe.ca
END:VEVENT
BEGIN:VEVENT
DTSTART;TZID=America/Toronto:20250301T220000
DTEND;TZID=America/Toronto:20250302T023000
DTSTAMP:20260423T140035
CREATED:20250216T183955Z
LAST-MODIFIED:20250216T184008Z
UID:10001943-1740866400-1740882600@maxottawa.ca
SUMMARY:SKANK. Edition 1: at Berlin
DESCRIPTION:SKANK. is more than just a party – it’s a celebration of freedom\, self-expression\, and unity for everyone. Rooted in inclusivity and diversity\, SKANK. is a safe and vibrant space for the queer and trans communities\, as well as everyone in between. \n\n\n\nAt SKANK. we honour the roots and evolution of electronic music. From Detroit’s deep techno pulse to tribal rhythms\, breakbeats\, and the soul of underground house – this party is all about authenticity\, freedom of expression\, and the power of rhythm. Lose yourself on the dancefloor with Dijipoune(Montreal) /Tanner Castro / And.re \n\n\n\nWe are here to have a good time\, get wild and what better way to do so with a drag presence\, with Tinka to serve to welcome you at the door\, and a special performance by Sunshine Glitterchild \n\n\n\n✨What does S/K/A/N/K. stand for?✨ \n\n\n\nSexy / Kind / Authentic / Nerve / Kunnnnty!\n\n\n\n\n\n\n\nSCHEDULE: \n\n\n\nDOORS OPEN / 10 PM \n\n\n\nTANNER + AND.RE/ B2B UNTIL 1 AM \n\n\n\nSUNSHINE GLITTERCHILD PERFORMS 1 AM \n\n\n\nDIJIPOUNE / 1 AM TIL END \n\n\n\nTICKETS: \n\n\n\nTIER 1: $12.50 (limited quantities) \n\n\n\nTIER 2: $15 (limited quantities) \n\n\n\nTIER 3: $20 \n\n\n\nDoor: $25 \n\n\n\nlimited tickets for Tier 1 + 2\, when they gone\, they gone \n\n\n\nSPONSOR: \n\n\n\nSKANK. is sponsored by our friends at Freddie! Freddie is virtual service that delivers PrEP directly to your home. Make sure to check them out if you’re a community member who is interested! \n\n\n\nLOCATION: \n\n\n\nBerlin Nightclub / 56 Byward Market Sq / K1N 7A2 \n\n\n\nByward Market / Ottawa\, Ontario \n\n\n\nPARTY RULES: \n\n\n\n1. Respect the Legacy House music and culture exist because of the bold and brilliant contributions of queer\, trans\, and BIPOC communities. Show your gratitude by celebrating with integrity and respect for everyone around you. 2. Safe Space for All This is more than a party\, it’s a sanctuary. Every person here deserves to feel safe\, seen\, and celebrated. Discrimination\, harassment\, or hate of any kind is not welcome. 3. Dance with Consent Club culture thrives on freedom\, but freedom means boundaries too. Ask before you touch whether it’s to compliment someone’s outfit\, take a photo\, or share a dance. Respect everyone’s autonomy. 4. Zero Tolerance for Harmful Behavior Any behavior that disrupts the safety and joy of this space will not be tolerated. If you see something\, say something find us and let’s address it together. \n\n\n\nThis event is 19+. \n\n\n\nBathrooms are gendered. Ignore it\, just go pee. This venue requires stairs to enter and is not wheelchair accessible. \n\n\n\nNo refunds. Please email heybabe@glittershakerevents.com for any inquiries. \n\n\n\nTo hear about upcoming events\, subsribe to us here on Evenbrite and follow us on Instagram and Facebook at @glittershakerevents \n\n\n\nTEAM:\n\n\n\nTANNER CASTRO \n\n\n\nTanner Castro is an Ottawa-based DJ with Venezuelan roots\, whose passion for music was first ignited as a street dancer. This early love for movement and rhythm eventually led them to clubs like Stereo\, where they were introduced to the house music community and like-minded individuals who deepened their connection to the genre. \n\n\n\nWith respect for the elders and the roots of house music\, Tanner brings a unique point of view\, creating sets that bridge the gap between underground cuts and electrifying anthems offering a profound understanding of music’s healing and transformative power. \n\n\n\nAs a resident DJ at THROB\, Sashay\, Dance Temple\, Hi Slay!\, and now SKANK. Tanner has become a staple of Ottawa’s queer nightlife\, medicine circles and dancefloors curating experience where people can feel free\, connected\, and alive.
URL:https://maxottawa.ca/list/skank-edition-1-at-berlin/
LOCATION:Berlin Nightclub\, 56 Byward Market Sq\, Ottawa\, Ontario\, K1N 7A2\, Canada
CATEGORIES:Drag & Burlesque,Nightlife,Social
ORGANIZER;CN="Glittershaker Events":MAILTO:heybabe@glittershakerevents.com
END:VEVENT
END:VCALENDAR