BEGIN:VCALENDAR
VERSION:2.0
PRODID:-//MAX Ottawa - ECPv6.15.20//NONSGML v1.0//EN
CALSCALE:GREGORIAN
METHOD:PUBLISH
X-ORIGINAL-URL:https://maxottawa.ca
X-WR-CALDESC:Events for MAX Ottawa
REFRESH-INTERVAL;VALUE=DURATION:PT1H
X-Robots-Tag:noindex
X-PUBLISHED-TTL:PT1H
BEGIN:VTIMEZONE
TZID:America/Toronto
BEGIN:DAYLIGHT
TZOFFSETFROM:-0500
TZOFFSETTO:-0400
TZNAME:EDT
DTSTART:20240310T070000
END:DAYLIGHT
BEGIN:STANDARD
TZOFFSETFROM:-0400
TZOFFSETTO:-0500
TZNAME:EST
DTSTART:20241103T060000
END:STANDARD
BEGIN:DAYLIGHT
TZOFFSETFROM:-0500
TZOFFSETTO:-0400
TZNAME:EDT
DTSTART:20250309T070000
END:DAYLIGHT
BEGIN:STANDARD
TZOFFSETFROM:-0400
TZOFFSETTO:-0500
TZNAME:EST
DTSTART:20251102T060000
END:STANDARD
BEGIN:DAYLIGHT
TZOFFSETFROM:-0500
TZOFFSETTO:-0400
TZNAME:EDT
DTSTART:20260308T070000
END:DAYLIGHT
BEGIN:STANDARD
TZOFFSETFROM:-0400
TZOFFSETTO:-0500
TZNAME:EST
DTSTART:20261101T060000
END:STANDARD
END:VTIMEZONE
BEGIN:VEVENT
DTSTART;TZID=America/Toronto:20250419T180000
DTEND;TZID=America/Toronto:20250419T213000
DTSTAMP:20260421T061000
CREATED:20250325T155511Z
LAST-MODIFIED:20250325T155520Z
UID:10002167-1745085600-1745098200@maxottawa.ca
SUMMARY:Bloom QTBIPOC Dance Party
DESCRIPTION:Get ready to move at The Grove! This is a night for QTBIPOC joy\, music\, and movement—a space to dance\, connect\, and celebrate together. Pass the Vibes and the Queer Arts & Culture Network are back with another iteration Bloom! \n\n\n\n• Doors open at 6:00 PM \n\n\n\n• DJ sets start at 6:30 PM and go until 9:00 PM \n\n\n\n• KN95 or better masks are required and provided \n\n\n\nDJ Celestial and DJ Molimo will be bringing dance-worthy beats and amazing energy to keep the dance floor alive. Whether you’re here to dance all night or just soak in the vibe\, this space is for you. Come as you are\, move how you want\, and let’s make this a night to remember.
URL:https://maxottawa.ca/list/bloom-qtbipoc-dance-party/
LOCATION:The Grove\, 18 Louisa St.\, Ottawa\, Ontario\, K1R6Y6\, Canada
CATEGORIES:Advocacy & empowerment,Nightlife,Social
END:VEVENT
BEGIN:VEVENT
DTSTART;TZID=America/Toronto:20250419T190000
DTEND;TZID=America/Toronto:20250419T220000
DTSTAMP:20260421T061000
CREATED:20241029T205445Z
LAST-MODIFIED:20241106T153226Z
UID:10000219-1745089200-1745100000@maxottawa.ca
SUMMARY:Bottomless Dine & Drag Dinner
DESCRIPTION:Every week\, on Saturday night\, Vanitea is the destination for the no. 1 voted drag dinner\, presented by beloved house host Devona Coe and a rotating calendar of featured local and visiting drag queens.Delivering their struts\, gag-worthy performances & all-over sass for your Saturday night pleasure\, + a fabulous 3 course tower (with meal included) and bottomless drinks!
URL:https://maxottawa.ca/list/bottomless-dine-drag-dinner/2025-04-19/
LOCATION:The Vanitea Room\, 551 Somerset St West\, Ottawa\, ON\, K1R 5J9\, Canada
CATEGORIES:Drag & Burlesque,Nightlife
END:VEVENT
BEGIN:VEVENT
DTSTART;TZID=America/Toronto:20250419T200000
DTEND;TZID=America/Toronto:20250420T010000
DTSTAMP:20260421T061000
CREATED:20250415T214950Z
LAST-MODIFIED:20250415T215013Z
UID:10002444-1745092800-1745110800@maxottawa.ca
SUMMARY:Lez Go: BIRTHDAY BLISS
DESCRIPTION:Join Lez Go\, Ottawa’s lesbian+ events group\, for Birthday Bliss and celebrate our 3rd birthday with us! Featuring DJ Montana from Montreal & DJ Roxy Sunset\, spinning all of your dance and pop song favourites! \n\n\n\nWomen\, ages 19+\, who identify as lesbian\, trans\, Two-Spirit\, bi\, poly\, pan\, and queer or questioning\, including non binary lesbians are welcome. \n\n\n\n\n\n\n\nQueer Agenda:  \n\n\n\n\n8:00 pm – Doors open\n\n\n\n8:00 pm to 10:00 pm – DJ Roxy Sunset\n\n\n\n10 pm to 1 am – DJ Montana\n\n\n\n\nMore fun: photo backdrop with props\, glow bracelets\, free snacks\, free raffle prize draws\, Flying Solo section\, sponsored tickets available! \n\n\n\nFlying solo?  \n\n\n\nWe’ve got designated tables for you to meet new people! Our Flying Solo section keeps getting bigger and bigger. It’s a very friendly and welcoming group\, so don’t be shy! Feel free to use the name tags on the table.  \n\n\n\nAccessible space with wheelchair accessible bathrooms\, held at ground level.
URL:https://maxottawa.ca/list/lez-go-birthday-bliss/
LOCATION:Queen Street Fare\, 170 Queen St\, Ottawa\, ON\, K1P 5E1\, Canada
CATEGORIES:Live music,Nightlife,Parties,Social
ORGANIZER;CN="Lez Go":MAILTO:info@lez-go.com
END:VEVENT
BEGIN:VEVENT
DTSTART;TZID=America/Toronto:20250419T213000
DTEND;TZID=America/Toronto:20250420T000000
DTSTAMP:20260421T061000
CREATED:20250417T192858Z
LAST-MODIFIED:20250417T192909Z
UID:10002520-1745098200-1745107200@maxottawa.ca
SUMMARY:Basement Burlesque
DESCRIPTION:Join us for a night of entertainment at Swizzles basement bar for Basement Burlesque! Get ready to be dazzled by the seductive performances of talented burlesque artists and variety performers. This April edition\, your host Lolo Merlot takes you through performances by Randi Rouge\, Fenix Caprice\, Patience Plush\, BB Abundance\, and our resident favourite\, Kopy Cat! It’s a feast for the senses\, with cheeky hilarity\, sexy performaces\, and mesmerizing costumes. Don’t miss out on the chance to experience the art of burlesque up close and personal. Grab your friends\, dress to impress\, and prepare for a night of unforgettable fun. Get your tickets now! \n\n\n\nDoors at 9pm\, Show at 10pm \n\n\n\nCome early for a good seat! \n\n\n\nNO RESERVATIONS \n\n\n\nNO REFUNDS
URL:https://maxottawa.ca/list/basement-burlesque/
LOCATION:Swizzles\, 246 Queen Street\,\, Ottawa\, ON\, K1P 5E4\, Canada
CATEGORIES:Drag & Burlesque,Nightlife,Social
END:VEVENT
END:VCALENDAR