BEGIN:VCALENDAR
VERSION:2.0
PRODID:-//MAX Ottawa - ECPv6.15.20//NONSGML v1.0//EN
CALSCALE:GREGORIAN
METHOD:PUBLISH
X-WR-CALNAME:MAX Ottawa
X-ORIGINAL-URL:https://maxottawa.ca
X-WR-CALDESC:Events for MAX Ottawa
REFRESH-INTERVAL;VALUE=DURATION:PT1H
X-Robots-Tag:noindex
X-PUBLISHED-TTL:PT1H
BEGIN:VTIMEZONE
TZID:America/Toronto
BEGIN:DAYLIGHT
TZOFFSETFROM:-0500
TZOFFSETTO:-0400
TZNAME:EDT
DTSTART:20240310T070000
END:DAYLIGHT
BEGIN:STANDARD
TZOFFSETFROM:-0400
TZOFFSETTO:-0500
TZNAME:EST
DTSTART:20241103T060000
END:STANDARD
BEGIN:DAYLIGHT
TZOFFSETFROM:-0500
TZOFFSETTO:-0400
TZNAME:EDT
DTSTART:20250309T070000
END:DAYLIGHT
BEGIN:STANDARD
TZOFFSETFROM:-0400
TZOFFSETTO:-0500
TZNAME:EST
DTSTART:20251102T060000
END:STANDARD
BEGIN:DAYLIGHT
TZOFFSETFROM:-0500
TZOFFSETTO:-0400
TZNAME:EDT
DTSTART:20260308T070000
END:DAYLIGHT
BEGIN:STANDARD
TZOFFSETFROM:-0400
TZOFFSETTO:-0500
TZNAME:EST
DTSTART:20261101T060000
END:STANDARD
END:VTIMEZONE
BEGIN:VEVENT
DTSTART;TZID=America/Toronto:20250419T200000
DTEND;TZID=America/Toronto:20250420T010000
DTSTAMP:20260423T033110
CREATED:20250415T214950Z
LAST-MODIFIED:20250415T215013Z
UID:10002444-1745092800-1745110800@maxottawa.ca
SUMMARY:Lez Go: BIRTHDAY BLISS
DESCRIPTION:Join Lez Go\, Ottawa’s lesbian+ events group\, for Birthday Bliss and celebrate our 3rd birthday with us! Featuring DJ Montana from Montreal & DJ Roxy Sunset\, spinning all of your dance and pop song favourites! \n\n\n\nWomen\, ages 19+\, who identify as lesbian\, trans\, Two-Spirit\, bi\, poly\, pan\, and queer or questioning\, including non binary lesbians are welcome. \n\n\n\n\n\n\n\nQueer Agenda:  \n\n\n\n\n8:00 pm – Doors open\n\n\n\n8:00 pm to 10:00 pm – DJ Roxy Sunset\n\n\n\n10 pm to 1 am – DJ Montana\n\n\n\n\nMore fun: photo backdrop with props\, glow bracelets\, free snacks\, free raffle prize draws\, Flying Solo section\, sponsored tickets available! \n\n\n\nFlying solo?  \n\n\n\nWe’ve got designated tables for you to meet new people! Our Flying Solo section keeps getting bigger and bigger. It’s a very friendly and welcoming group\, so don’t be shy! Feel free to use the name tags on the table.  \n\n\n\nAccessible space with wheelchair accessible bathrooms\, held at ground level.
URL:https://maxottawa.ca/list/lez-go-birthday-bliss/
LOCATION:Queen Street Fare\, 170 Queen St\, Ottawa\, ON\, K1P 5E1\, Canada
CATEGORIES:Live music,Nightlife,Parties,Social
ORGANIZER;CN="Lez Go":MAILTO:info@lez-go.com
END:VEVENT
BEGIN:VEVENT
DTSTART;TZID=America/Toronto:20250426T150000
DTEND;TZID=America/Toronto:20250426T170000
DTSTAMP:20260423T033110
CREATED:20250417T190826Z
LAST-MODIFIED:20250417T190835Z
UID:10002458-1745679600-1745686800@maxottawa.ca
SUMMARY:First Anniversary Party & Cake Cutting
DESCRIPTION:Who is ready for some vegan anniversary cake to celebrate the Ottawa Queerly Sewcial Circle’s first year of existence? Come join us to enjoy the company of some crafty people and celebrate the community!
URL:https://maxottawa.ca/list/first-anniversary-party-cake-cutting/
LOCATION:Ottawa Trans Library\, 1104 Somerset St W\, Ottawa\, Ontario\, K1Y 3C8\, Canada
CATEGORIES:Art,Parties,Social
END:VEVENT
BEGIN:VEVENT
DTSTART;TZID=America/Toronto:20250426T210000
DTEND;TZID=America/Toronto:20250427T020000
DTSTAMP:20260423T033110
CREATED:20250415T212548Z
LAST-MODIFIED:20250415T213323Z
UID:10002443-1745701200-1745719200@maxottawa.ca
SUMMARY:Positive Fortress
DESCRIPTION:Join DJs Mossy Mugler\, Ilybo\, Sweet Morgane\, and Lilfr1dge\, for a night of gorgeous and silly electronic music and dancing at Club SAW!  \n\n\n\n9pm-10pm: Open Decks \n\n\n\n10pm-2pm: Sets by Mossy Mugler\, Ilybo\, Lilfr1dge\, Sweet Morgane  \n\n\n\nGalerie SAW Gallery is a wheelchair accessible venue with accessible and all-gender washrooms. Event is 19+ with bar service and seating.
URL:https://maxottawa.ca/list/positive-fortress/
LOCATION:SAW\, 67 Nicholas St\, Ottawa\, ON\, K1N 7B9\, Canada
CATEGORIES:Live music,Nightlife,Parties,Social
END:VEVENT
END:VCALENDAR