BEGIN:VCALENDAR
VERSION:2.0
PRODID:-//MAX Ottawa - ECPv6.15.20//NONSGML v1.0//EN
CALSCALE:GREGORIAN
METHOD:PUBLISH
X-ORIGINAL-URL:https://maxottawa.ca
X-WR-CALDESC:Events for MAX Ottawa
REFRESH-INTERVAL;VALUE=DURATION:PT1H
X-Robots-Tag:noindex
X-PUBLISHED-TTL:PT1H
BEGIN:VTIMEZONE
TZID:America/Toronto
BEGIN:DAYLIGHT
TZOFFSETFROM:-0500
TZOFFSETTO:-0400
TZNAME:EDT
DTSTART:20240310T070000
END:DAYLIGHT
BEGIN:STANDARD
TZOFFSETFROM:-0400
TZOFFSETTO:-0500
TZNAME:EST
DTSTART:20241103T060000
END:STANDARD
BEGIN:DAYLIGHT
TZOFFSETFROM:-0500
TZOFFSETTO:-0400
TZNAME:EDT
DTSTART:20250309T070000
END:DAYLIGHT
BEGIN:STANDARD
TZOFFSETFROM:-0400
TZOFFSETTO:-0500
TZNAME:EST
DTSTART:20251102T060000
END:STANDARD
BEGIN:DAYLIGHT
TZOFFSETFROM:-0500
TZOFFSETTO:-0400
TZNAME:EDT
DTSTART:20260308T070000
END:DAYLIGHT
BEGIN:STANDARD
TZOFFSETFROM:-0400
TZOFFSETTO:-0500
TZNAME:EST
DTSTART:20261101T060000
END:STANDARD
END:VTIMEZONE
BEGIN:VEVENT
DTSTART;TZID=America/Toronto:20250503T210000
DTEND;TZID=America/Toronto:20250504T020000
DTSTAMP:20260419T135410
CREATED:20250417T190007Z
LAST-MODIFIED:20250417T190030Z
UID:10002457-1746306000-1746324000@maxottawa.ca
SUMMARY:Neon Nights with JC Simon
DESCRIPTION:Light up the night with a neon lights themed DJ set at T’s all-welcoming club!  \n\n\n\n19+
URL:https://maxottawa.ca/list/neon-nights-with-jc-simon/
LOCATION:T’s\, 323 Somerset Street West\, Ottawa\, ON\, 2P 0J8\, Canada
CATEGORIES:Live music,Nightlife,Parties,Social
END:VEVENT
BEGIN:VEVENT
DTSTART;TZID=America/Toronto:20250510T190000
DTEND;TZID=America/Toronto:20250510T220000
DTSTAMP:20260419T135410
CREATED:20250429T220853Z
LAST-MODIFIED:20250429T220905Z
UID:10002555-1746903600-1746914400@maxottawa.ca
SUMMARY:Deliquesce Night Market & Gallery
DESCRIPTION:Come join us at Obscura Tattoo for a night of creativity and community at our DELIQUESCE Art Show and Maker Market! Browse through a diverse selection of local art pieces and handmade goods at our Night Market\, where you can find unique treasures to take home. Enjoy a community curated playlist\, delicious food\, and drinks as you explore the vibrant art scene. Don’t miss out on this opportunity to support local artists and immerse yourself in a night of art and culture! \n\n\n\nEvent Details \n\n\n\n\nFood and Drinks: 3 Drink limit\, cash bar\, Catering available.\n\n\n\nCharity raffle: Donate for a chance to win one of our gifts from local business’\n\n\n\nPayment: Vendors and Artists will be taking Cash\, e-transfers and some have paypal options\n\n\n\n\nAdd to our event playlist here – Spotify Deliquesce Playlist
URL:https://maxottawa.ca/list/deliquesce-night-market-gallery/
LOCATION:Obscura Tattoos\, 320 Catherine St Ste 22\, Ottawa\, Ontario\, K1R 1C4\, Canada
CATEGORIES:Art,Nightlife,Parties,Social
END:VEVENT
BEGIN:VEVENT
DTSTART;TZID=America/Toronto:20250510T210000
DTEND;TZID=America/Toronto:20250511T020000
DTSTAMP:20260419T135410
CREATED:20250506T155427Z
LAST-MODIFIED:20250506T155434Z
UID:10002578-1746910800-1746928800@maxottawa.ca
SUMMARY:Back in Time Mixes with DJ Slushy!
DESCRIPTION:Head over to T’s for a retro hits Saturday night! Featuring tunes from the 70s to the 00s\, DJ Slushy will have you singing along to all the nostalgic party beats!
URL:https://maxottawa.ca/list/back-in-time-mixes-with-dj-slushy/
LOCATION:T’s\, 323 Somerset Street West\, Ottawa\, ON\, 2P 0J8\, Canada
CATEGORIES:Nightlife,Parties,Sex positive,Social
END:VEVENT
BEGIN:VEVENT
DTSTART;TZID=America/Toronto:20250516T180000
DTEND;TZID=America/Toronto:20250516T230000
DTSTAMP:20260419T135410
CREATED:20250502T165920Z
LAST-MODIFIED:20250502T170243Z
UID:10002567-1747418400-1747436400@maxottawa.ca
SUMMARY:Queers & Beers: Spring Fling
DESCRIPTION:🌈 QUEERS & BEERS at Lowertown Brewery in the Byward Market! 🍻 \n\n\n\nQueers & Beers is heading back to Lowertown for this Indoor + outdoor (weather depending) event! 🎉 \n\n\n\nWe’d like to acknowledge and honor that all of the work we do is currently being done on unceded Algonquin Territory that was never given up and never surrendered. 🙏🌍 \n\n\n\nDo you love craft beer? 🍺 Do you like getting together with your community and meeting new friends? 🤝 Want to have interesting conversations & try new things? 🧐 Yes\, yes\, and YES! 🙌 So let’s get together and explore the craft brew scene here in Ottcity 🍻 & create a safer space for queer & trans pub lovers! 🌟 \n\n\n\nCome with friends 👯‍♀️\, come alone 🧑‍🤝‍🧑\, come with a date 💕\, end up on a date 💑\, make new pals 🤗\, talk to those you know 👋\, talk to those you don’t know but have always wanted to 😏\, or hey even keep to yourself 🤫\, because it’s all good & do what makes you feel most comfortable! 💖 \n\n\n\n[This is an open event\, so feel free to invite your pals! 🎉] \n\n\n\nAll genders & sexualities are welcome! 🌈 \n\n\n\nThe goal is to provide a fun & safer environment for enjoying craft beers & chatting with pals! 🍻💬 \n\n\n\nWe will try to prioritize visiting spaces that are physically accessible! 🚪♿ \n\n\n\nFeedback\, thoughts\, suggestions are welcome! You can shoot us a message anytime! 📩queering613@gmail.com \n\n\n\n📍 Lowertown Brewery73 York Street \n\n\n\nPhysical Accessibility Note:Lowertown is a physically accessible venue\, with a ramp at the entrance 🛣️ and accessible bathrooms on the main level 🚻. There is also an outdoor patio for COVID-safer spaces\, weather depending. 🌤️
URL:https://maxottawa.ca/list/queers-beers-spring-fling/
LOCATION:Lowertown Brewery\, 73 York St.\, Ottawa\, Ontario\, K1N 5T2\, Canada
CATEGORIES:Live music,Nightlife,Parties,Social
ORGANIZER;CN="Queering 613":MAILTO:queering613@gmail.com
END:VEVENT
BEGIN:VEVENT
DTSTART;TZID=America/Toronto:20250517T210000
DTEND;TZID=America/Toronto:20250518T020000
DTSTAMP:20260419T135410
CREATED:20250502T153700Z
LAST-MODIFIED:20250514T190615Z
UID:10002449-1747515600-1747533600@maxottawa.ca
SUMMARY:Teet 4 Teet
DESCRIPTION:Yeehaw Ottawa! Have you been looking for the right place to hoedown throwdown?! Well look no further!!!! 🤠 Be Proud and Miss Patience Plush have teamed up and are officially farmed and dangerous with the ranch rager of the year! 🐄 \n\n\n\nWe have a totally a-moo-sing drag and burlesque cast of Holli Cow\, Rip Em\, Shebiscuit\, Rhapsody Blue\, Kay Kalish and Miss Patience Plush! \n\n\n\nOur incredible lineup of performers is ready to dazzle\, and when the lights go down between sets\, Hug Mosh and Esme2K will be spinning the kind of tracks that’ll have you two-steppin’\, boot-scootin’\, and breaking a sweat on the dance floor! 🌾🔥 \n\n\n\nMake sure to come out for Teet 4 Teet and live the cream with us 🥛 🐮 \n\n\n\n**there is a discount code for trans and BIPOC community members. if you are part of these communities\, you can use the codes ‘trans’ and ‘bipoc’ at checkout. Note: these discounts do not combine. \n\n\n\n*if price is a barrier for attending\, please reach out! \n\n\n\nSAW is a physically accessible space. \n\n\n\nMasking is recommended but not mandatory. there will be air purifiers running throughout the event. \n\n\n\nThere will be masks and ear plugs available at the event. \n\n\n\nThis event is 19+
URL:https://maxottawa.ca/list/teet-4-teet-2/
LOCATION:SAW\, 67 Nicholas St\, Ottawa\, ON\, K1N 7B9\, Canada
CATEGORIES:Drag & Burlesque,Nightlife,Parties,Sex positive,Social
ORGANIZER;CN="BE PROUD Productions":MAILTO:beproud.prods@gmail.com
END:VEVENT
BEGIN:VEVENT
DTSTART;TZID=America/Toronto:20250518T200000
DTEND;TZID=America/Toronto:20250518T223000
DTSTAMP:20260419T135410
CREATED:20250502T162258Z
LAST-MODIFIED:20250502T162314Z
UID:10002564-1747598400-1747607400@maxottawa.ca
SUMMARY:Le Prince Harry with Special Guest Yolande Laroche
DESCRIPTION:On May 18th\, we welcome electro-punk duo @leprinceharry.be all the way from Liège\, Belgium! They will be joined by the magnetic @orchidae for a special solo performance 🧲🎛️ \n\n\n\nSee you at @happygoatcoffee – 35 Laurel Street for this all ages show! Doors at 8PM ⚡️
URL:https://maxottawa.ca/list/le-prince-harry-with-special-guest-yolande-laroche/
LOCATION:Happy Goat – Laurel\, 35 Laurel St.\, Ottawa\, Ontario\, K1Y4M4\, Canada
CATEGORIES:Live music,Nightlife,Parties,Social
ORGANIZER;CN="First Crush":MAILTO:firstcrushpromotion@gmail.com
END:VEVENT
BEGIN:VEVENT
DTSTART;TZID=America/Toronto:20250522T193000
DTEND;TZID=America/Toronto:20250523T010000
DTSTAMP:20260419T135410
CREATED:20250416T215156Z
LAST-MODIFIED:20250522T175931Z
UID:10002446-1747942200-1747962000@maxottawa.ca
SUMMARY:Canada’s Drag Race Takeover\, Celebration of Asian Heritage Month
DESCRIPTION:”A Night of Glitter\, History\, and Pride” is a spectacular drag show celebrating the rich diversity and vibrant culture of the Asian community. This showstopping event will bring together fierce drag performances and breathtaking fashion. \n\n\n\nJoin us for an unforgettable night of fierce queens\, cultural outfits\, and a community united in love and pride. It’s more than just a show—it’s a celebration of Asian heritage\, culture\, and the joy of self-expression.
URL:https://maxottawa.ca/list/canadas-drag-race-takeover-celebration-of-asian-heritage-month/
LOCATION:The Lookout Bar\, 41 York Street\, 2nd Floor\, Ottawa\, ON\, K1N 5S7\, Canada
CATEGORIES:Advocacy & empowerment,Drag & Burlesque,Live music,Nightlife,Parties,Social
END:VEVENT
BEGIN:VEVENT
DTSTART;TZID=America/Toronto:20250523T190000
DTEND;TZID=America/Toronto:20250523T220000
DTSTAMP:20260419T135410
CREATED:20250513T220626Z
LAST-MODIFIED:20250513T220642Z
UID:10002629-1748026800-1748037600@maxottawa.ca
SUMMARY:Pride Prom Cornwall
DESCRIPTION:🏳️‍🌈🏳️‍⚧️🪩Diversity Cornwall is excited to announce the return of one of our most favourite nights of the year!🪩🏳️‍⚧️🏳️‍🌈 \n\n\n\nPride Prom is more than just a dance — it’s a celebration of identity\, self-expression\, and belonging. \n\n\n\nOn May 23 from 7–10PM\, we invite folx ages 15 and up to join us at 167 Pitt Street for an unforgettable evening of music\, movement\, and connection — all in a space that celebrates who you are. \n\n\n\nEnjoy: \n\n\n\n\nLive music from DJ Roxy Sunset\,\n\n\n\nBelly dance lessons with Yafa Goawily\,\n\n\n\nFree refreshments\, good vibes\, and a welcoming space that gives you a chance to show up\, be seen\, and be celebrated — exactly as you are.\n\n\n\n\nRegistration is not required. Free admission. No pressure. No expectations. Just a night to feel proud\, safe\, and supported. \n\n\n\nHosted by Diversity Cornwall\, with support from the MLSE Foundation and the Social Development Council of Cornwall & Area. \n\n\n\nCome dance with us. You belong here.
URL:https://maxottawa.ca/list/pride-prom-cornwall/
LOCATION:Diversity Cornwall\, 167 Pitt St.\, Cornwall\, Ontario\, K6J 3P5\, Canada
CATEGORIES:Cornwall,Nightlife,Parties,Social
ORGANIZER;CN="Diversity Cornwall":MAILTO:cornwall.diversity@gmail.com
END:VEVENT
BEGIN:VEVENT
DTSTART;TZID=America/Toronto:20250524T190000
DTEND;TZID=America/Toronto:20250525T020000
DTSTAMP:20260419T135410
CREATED:20250424T213444Z
LAST-MODIFIED:20250424T213452Z
UID:10002536-1748113200-1748138400@maxottawa.ca
SUMMARY:Soft Serve: Waacking Dance Battle & Disco Party
DESCRIPTION:A two-part celebration of waacking\, disco\, and self-expression! \n\n\n\n✨ Part 1 – Waacking 1v1 Dance Battle Waacking is a vibrant\, queer dance style that champions individuality\, music\, and all the dramaaaa! Watch some of the nation’s top waackers battle it out for the cash prize and the title of Soft Serve 2025 Champion. Last year\, we had dancers from Toronto\, Ottawa\, Montreal\, and Halifax—who’s bringing the heat this year? \n\n\n\n👑 Battle Lineup 🟣 Judge: Colours (Toronto) 🎤 MC: Didi (Ottawa) 🎧 DJ: Lifeboogie (Ottawa) \n\n\n\n🏆 Prize: Cash + a bouquet of flowers! 🌸💵 \n\n\n\n🎶 Part 2 – Disco Party with Lifeboogie Once the battles wrap\, it’s time to hit the dance floor! Ottawa’s own Lifeboogie will be spinning disco and funk classics all night long.
URL:https://maxottawa.ca/list/soft-serve-waacking-dance-battle-disco-party/
LOCATION:The 27 Club\, 27 York St\, Ottawa\, ON\, K1N 5S7\, Canada
CATEGORIES:Nightlife,Parties,Social
END:VEVENT
BEGIN:VEVENT
DTSTART;TZID=America/Toronto:20250529T190000
DTEND;TZID=America/Toronto:20250529T230000
DTSTAMP:20260419T135410
CREATED:20250417T173258Z
LAST-MODIFIED:20250423T152530Z
UID:10002451-1748545200-1748559600@maxottawa.ca
SUMMARY:Connections & Scenes: A Social & Play Experience
DESCRIPTION:Discover a night of intentional connection and exploration at Connections & Scenes. Designed to help you meet new people and ease into play\, this event blends social interaction with opportunities to try something new in a consent-focused and welcoming environment. This event encourages a range of play styles\, so feel free to flirt and flog\, but save the more intimate adventures for one of our other play parties. \n\n\n\nRespectful spectating is always welcome—participation is never required. \n\n\n\nWhether you’re here to meet new people\, refine your negotiation skills\, or explore scenes in a supportive environment\, Connections & Scenes offers the perfect blend of social and playful opportunities.At Probe\, inclusivity is at the heart of everything we do. We welcome all individuals of all sexual orientations\, genders\, and identities. Our aim is to create an environment where everyone feels respected\, valued\, and free to express themselves authentically. Our venue is wheelchair accessible\, with an elevator available. Our goal is to provide an accessible\, inclusive space. If you have any questions or have specific accommodation requests\, please reach out to us. \n\n\n\nMembership not required. Tickets are available on a sliding scale to promote inclusivity and accessibility. Please choose the ticket price that makes this event accessible to you. All ticket types provide the same access to the event. \n\n\n\nA variety of snacks and non-alcoholic drinks will be available all night to keep you refreshed and energized. Please note that bringing alcohol is not allowed.
URL:https://maxottawa.ca/list/connections-scenes-a-social-play-experience/
LOCATION:Probe Ottawa\, 41 York St 3rd & 4th floor\, Ottawa\, Ontario\, K1N 5S7\, Canada
CATEGORIES:Parties,Sex positive,Social
ORGANIZER;CN="Probe Ottawa":MAILTO:probeottawa@gmail.com
END:VEVENT
BEGIN:VEVENT
DTSTART;TZID=America/Toronto:20250531T180000
DTEND;TZID=America/Toronto:20250531T223000
DTSTAMP:20260419T135410
CREATED:20250513T200215Z
LAST-MODIFIED:20250601T161951Z
UID:10002617-1748714400-1748730600@maxottawa.ca
SUMMARY:The Activate Mini Kiki Ball
DESCRIPTION:Queer people around the world know all too well what it feels like to live in the shadows. We’re told we’re not enough\, and that the best we can expect is a world that’s ashamed of us. \n\n\n\nBut it only takes one moment to ACTIVATE your power and release it into the world. This is that moment… \n\n\n\nThink of this ball as a retelling of a story we all know too well. The journey of an oftentimes lonely queer kid discovering their power\, building true community around them\, and falling in love with themselves all over again. \n\n\n\nThis is a story of hope. A story of resilience. A story of creativity. And a chance to finally be ourselves\, surrounded by a community that celebrates us\, even in a world that’s tried to make us feel unworthy.
URL:https://maxottawa.ca/list/the-activate-mini-kiki-ball/
LOCATION:Tom Brown Arena\, 141 Bayview Station Rd\, Ottawa\, Ontario\, K1Y 4T1\, Canada
CATEGORIES:Advocacy & empowerment,Art,Nightlife,Ottawa,Parties,Social
ORGANIZER;CN="Touch Grass Kiki":MAILTO:touchgrasskiki@gmail.com
END:VEVENT
END:VCALENDAR