BEGIN:VCALENDAR
VERSION:2.0
PRODID:-//MAX Ottawa - ECPv6.15.20//NONSGML v1.0//EN
CALSCALE:GREGORIAN
METHOD:PUBLISH
X-WR-CALNAME:MAX Ottawa
X-ORIGINAL-URL:https://maxottawa.ca
X-WR-CALDESC:Events for MAX Ottawa
REFRESH-INTERVAL;VALUE=DURATION:PT1H
X-Robots-Tag:noindex
X-PUBLISHED-TTL:PT1H
BEGIN:VTIMEZONE
TZID:America/Toronto
BEGIN:DAYLIGHT
TZOFFSETFROM:-0500
TZOFFSETTO:-0400
TZNAME:EDT
DTSTART:20240310T070000
END:DAYLIGHT
BEGIN:STANDARD
TZOFFSETFROM:-0400
TZOFFSETTO:-0500
TZNAME:EST
DTSTART:20241103T060000
END:STANDARD
BEGIN:DAYLIGHT
TZOFFSETFROM:-0500
TZOFFSETTO:-0400
TZNAME:EDT
DTSTART:20250309T070000
END:DAYLIGHT
BEGIN:STANDARD
TZOFFSETFROM:-0400
TZOFFSETTO:-0500
TZNAME:EST
DTSTART:20251102T060000
END:STANDARD
BEGIN:DAYLIGHT
TZOFFSETFROM:-0500
TZOFFSETTO:-0400
TZNAME:EDT
DTSTART:20260308T070000
END:DAYLIGHT
BEGIN:STANDARD
TZOFFSETFROM:-0400
TZOFFSETTO:-0500
TZNAME:EST
DTSTART:20261101T060000
END:STANDARD
BEGIN:DAYLIGHT
TZOFFSETFROM:-0500
TZOFFSETTO:-0400
TZNAME:EDT
DTSTART:20270314T070000
END:DAYLIGHT
BEGIN:STANDARD
TZOFFSETFROM:-0400
TZOFFSETTO:-0500
TZNAME:EST
DTSTART:20271107T060000
END:STANDARD
END:VTIMEZONE
BEGIN:VEVENT
DTSTART;TZID=America/Toronto:20260331T163000
DTEND;TZID=America/Toronto:20260331T180000
DTSTAMP:20260420T174907
CREATED:20260326T014243Z
LAST-MODIFIED:20260326T014246Z
UID:10004837-1774974600-1774980000@maxottawa.ca
SUMMARY:Transgender Day of Visibility Flag Raising Ceremony
DESCRIPTION:Join us at Centre33 for a special event celebrating Trans Day of Visibility! 🎉 \n\n\n\nThis day is all about recognizing and uplifting the incredible contributions of the trans community. Let’s stand together to promote visibility\, acceptance\, and love for all. Everyone is welcome\, so bring your friends and allies! \n\n\n\nTogether\, we can create a more inclusive world. 🌍
URL:https://maxottawa.ca/list/transgender-day-of-visibility-flag-raising-ceremony/
LOCATION:Centre33\, 33 Leacock Drive\, Kanata\, ON\, K2K 2B9\, Canada
CATEGORIES:Family friendly,Kanata
ORGANIZER;CN="Centre33":MAILTO:kanatacentre33@outlook.com
END:VEVENT
BEGIN:VEVENT
DTSTART;TZID=America/Toronto:20260225T163000
DTEND;TZID=America/Toronto:20260225T180000
DTSTAMP:20260420T174907
CREATED:20260213T142231Z
LAST-MODIFIED:20260213T142236Z
UID:10004746-1772037000-1772042400@maxottawa.ca
SUMMARY:Centre33’s February Mingle for Helping Professionals
DESCRIPTION:Are you an affirming organization\, professional\, or business? Let’s come together this February. \n\n\n\n🌈 Some attendees have included therapists\, artists\, barbers\, system navigators\, first responders\, community organizers\, mortgage brokers\, physicians… and the list keeps growing. \n\n\n\nlet’s talk about the fire / yes the world is heavy / yes that pain is realstart on time / even if time is a meaningless construct \n\n\n\nritual may not rescue / but rhythms can steady chaos \n\n\n\nyes you matter / yes it is scary / we don’t have answers but we’re still here helping \n\n\n\ninvite rage to rise / honor silence to stretch / make space for sensations that lack words and resolution \n\n\n\nallow questioning / bargaining / longing / crying / allowing all parts of you to be enveloped in community \n\n\n\nall emotions can unravel here \n\n\n\nkeep showing up with care / not because care saves or removes ache but because even in collapse / there is connection \n\n\n\nand in connection / there is softness fierce enough to carry the grief that silence does not fix / together\, we can hold what is too heavy to hold alone
URL:https://maxottawa.ca/list/centre33s-february-mingle-for-helping-professionals/
LOCATION:Centre33\, 33 Leacock Drive\, Kanata\, ON\, K2K 2B9\, Canada
CATEGORIES:Kanata,Social
ORGANIZER;CN="Centre33":MAILTO:kanatacentre33@outlook.com
END:VEVENT
BEGIN:VEVENT
DTSTART;TZID=America/Toronto:20251120T160000
DTEND;TZID=America/Toronto:20251120T180000
DTSTAMP:20260420T174907
CREATED:20251112T212603Z
LAST-MODIFIED:20251112T212610Z
UID:10003614-1763654400-1763661600@maxottawa.ca
SUMMARY:Transgender Day of Remembrance
DESCRIPTION:Join Us for a Meaningful Gathering on November 20\, 2025 ✨  \n\n\n\nCentre33 and West Side Pride are coming together again for Transgender Day of Remembrance to honor and remember the lives of transgender individuals lost to violence\, hatred\, and discrimination. This day is not just about remembrance; it’s a call to action for a safer\, more inclusive world for everyone\, regardless of gender identity. Spread the word and bring your friends! Let’s make this a day one of remembrance\, love\, and hope. 💜  \n\n\n\n🗓️ What to Expect:  \n\n\n\n\nTransgender Voices ~ Hear from friends in our community. \n\n\n\nMeaningful Art ~ Experience thought-provoking artworks that celebrate and honor trans lives. \n\n\n\nMeet Local Organizations ~ Connect with trans-affirming groups that support our community. \n\n\n\nMental Health Support ~ We’ll have two friendly mental health clinicians on-site\, ensuring a safe space for all. \n\n\n\nMingle Essentials ~ Hot chocolate and baked treats! \n\n\n\n\n🧠 Accessibility Matters:  \n\n\n\nThis event is designed to be accessible and neuro-inclusive\, welcoming everyone to come together in solidarity and support. Let’s stand united against violence and discrimination. Together\, we can create a world where everyone can thrive!  \n\n\n\n📍 Where: 33 Leacock Drive\, Kanata (free on-site parking)  \n\n\n\n⏰ Time: 4pm-6pm
URL:https://maxottawa.ca/list/transgender-day-of-remembrance/
LOCATION:Centre33\, 33 Leacock Drive\, Kanata\, ON\, K2K 2B9\, Canada
CATEGORIES:Advocacy & empowerment,Kanata,Nationally recognized dates
ORGANIZER;CN="Centre33":MAILTO:kanatacentre33@outlook.com
END:VEVENT
BEGIN:VEVENT
DTSTART;TZID=America/Toronto:20250628T140000
DTEND;TZID=America/Toronto:20250628T160000
DTSTAMP:20260420T174907
CREATED:20250624T162554Z
LAST-MODIFIED:20250624T162644Z
UID:10003182-1751119200-1751126400@maxottawa.ca
SUMMARY:Everybody Rows
DESCRIPTION:𝔹𝕀𝔾 ℕ𝔼𝕎𝕊! 💙 Everybody Rows Ottawa has invited youth\, aged 12-17 to a rowing workshop on June 28\, 2025 from 2pm-4pm. \n\n\n\nEvents that celebrate 2SLGBTQIA+ diversity in sport promotes inclusion and acceptance. Undoubtedly\, there is much work to be done when it comes to gender in sports\, but there are organizations and people in Ottawa who are making big strides through their advocacy and visibility. \n\n\n\nHUGE shoutout to Rebecca @ottawarowingclub for putting on this workshop. Happy Pride! 🌈 \n\n\n\nLet’s Row\, Connect\, and Celebrate this June. \n\n\n\nPlease DM or email us\, hello@centre33.ca with any questions.
URL:https://maxottawa.ca/list/everybody-rows/
LOCATION:Ottawa Rowing Club\, 10 Lady Grey Dr.\, Ottawa\, Ontario\, K1A 0G8\, Canada
CATEGORIES:Educational,Kanata,Social,Sports and recreation,Youth
ORGANIZER;CN="Centre33":MAILTO:kanatacentre33@outlook.com
END:VEVENT
BEGIN:VEVENT
DTSTART;TZID=America/Toronto:20250601T103000
DTEND;TZID=America/Toronto:20250601T130000
DTSTAMP:20260420T174907
CREATED:20250413T183939Z
LAST-MODIFIED:20250601T161934Z
UID:10002410-1748773800-1748782800@maxottawa.ca
SUMMARY:Bowl-A-Thon
DESCRIPTION:After a 6-year hiatus\, the Bowl-A-Thon is back! From 2005 to 2019\, the Bowl-A-Thon gathered friends\, families\, and allies from far and wide to help raise funds to send kids to camp. And we are so excited to bring this wonderful family event back to the community. Our goal is to bring children\, youth\, friends\, and family together for a day of FUNdraising and bowling adventures. All funds raised will help subsidize camp fees for the 181 campers who are attending camp this summer! This year\, Ten Oaks aims to raise $40\,000! \n\n\n\nThe 2025 Bowl-A-Thon will take place on June 1\, 2025 from 10:30 AM to 1 PM. We welcome participants of all ages\, skill levels\, and abilities to join us for bowling\, arcade games and prizes! On the day of the Bowl-A-Thon\, teams enjoy an afternoon of incredible fun: bowl\, play arcade games\, and participate in team spirit challenges to win prizes! Costumes and team themes are strongly encouraged.
URL:https://maxottawa.ca/list/bowl-a-thon/
LOCATION:Splitsville Kanata\, 255 Kanata Ave. Unit DD\, Ottawa\, Ontario\, K2T 1K5\, Canada
CATEGORIES:Advocacy & empowerment,Family friendly,Kanata,Social,Sports and recreation,Youth
END:VEVENT
END:VCALENDAR