BEGIN:VCALENDAR
VERSION:2.0
PRODID:-//MAX Ottawa - ECPv6.15.20//NONSGML v1.0//EN
CALSCALE:GREGORIAN
METHOD:PUBLISH
X-WR-CALNAME:MAX Ottawa
X-ORIGINAL-URL:https://maxottawa.ca
X-WR-CALDESC:Events for MAX Ottawa
REFRESH-INTERVAL;VALUE=DURATION:PT1H
X-Robots-Tag:noindex
X-PUBLISHED-TTL:PT1H
BEGIN:VTIMEZONE
TZID:America/Toronto
BEGIN:DAYLIGHT
TZOFFSETFROM:-0500
TZOFFSETTO:-0400
TZNAME:EDT
DTSTART:20240310T070000
END:DAYLIGHT
BEGIN:STANDARD
TZOFFSETFROM:-0400
TZOFFSETTO:-0500
TZNAME:EST
DTSTART:20241103T060000
END:STANDARD
BEGIN:DAYLIGHT
TZOFFSETFROM:-0500
TZOFFSETTO:-0400
TZNAME:EDT
DTSTART:20250309T070000
END:DAYLIGHT
BEGIN:STANDARD
TZOFFSETFROM:-0400
TZOFFSETTO:-0500
TZNAME:EST
DTSTART:20251102T060000
END:STANDARD
BEGIN:DAYLIGHT
TZOFFSETFROM:-0500
TZOFFSETTO:-0400
TZNAME:EDT
DTSTART:20260308T070000
END:DAYLIGHT
BEGIN:STANDARD
TZOFFSETFROM:-0400
TZOFFSETTO:-0500
TZNAME:EST
DTSTART:20261101T060000
END:STANDARD
END:VTIMEZONE
BEGIN:VEVENT
DTSTART;TZID=America/Toronto:20250918T173000
DTEND;TZID=America/Toronto:20250918T183000
DTSTAMP:20260421T220806
CREATED:20250911T010033Z
LAST-MODIFIED:20250911T010043Z
UID:10003457-1758216600-1758220200@maxottawa.ca
SUMMARY:QCL Book Club
DESCRIPTION:QCL is starting a book club! If you’d like to join\, send an email to qclbookclub@gmail.com! Walk-ins are welcome if the space allows. We’ll be meeting at the Perth Library in the first floor common room.  \n\n\n\n2025 Schedule and Reading List \n\n\n\nSeptember 18: Under the Udala Trees by Chinelo Okparanta \n\n\n\nOctober 16: First Time for Everything by Henry Fry \n\n\n\nNovember 13: Jonny Appleseed by Joshua Whitehead
URL:https://maxottawa.ca/list/qcl-book-club/2025-09-18/
LOCATION:Perth & District Union Public Library\, 30 Herriott St.\, Perth\, Ontario\, K7H 1T2\, Canada
CATEGORIES:Lanark,Regular programming,Social
ORGANIZER;CN="Queer Connection Lanark":MAILTO:qclanark@gmail.com
END:VEVENT
END:VCALENDAR