BEGIN:VCALENDAR
VERSION:2.0
PRODID:-//MAX Ottawa - ECPv6.15.20//NONSGML v1.0//EN
CALSCALE:GREGORIAN
METHOD:PUBLISH
X-ORIGINAL-URL:https://maxottawa.ca
X-WR-CALDESC:Events for MAX Ottawa
REFRESH-INTERVAL;VALUE=DURATION:PT1H
X-Robots-Tag:noindex
X-PUBLISHED-TTL:PT1H
BEGIN:VTIMEZONE
TZID:America/Toronto
BEGIN:DAYLIGHT
TZOFFSETFROM:-0500
TZOFFSETTO:-0400
TZNAME:EDT
DTSTART:20240310T070000
END:DAYLIGHT
BEGIN:STANDARD
TZOFFSETFROM:-0400
TZOFFSETTO:-0500
TZNAME:EST
DTSTART:20241103T060000
END:STANDARD
BEGIN:DAYLIGHT
TZOFFSETFROM:-0500
TZOFFSETTO:-0400
TZNAME:EDT
DTSTART:20250309T070000
END:DAYLIGHT
BEGIN:STANDARD
TZOFFSETFROM:-0400
TZOFFSETTO:-0500
TZNAME:EST
DTSTART:20251102T060000
END:STANDARD
BEGIN:DAYLIGHT
TZOFFSETFROM:-0500
TZOFFSETTO:-0400
TZNAME:EDT
DTSTART:20260308T070000
END:DAYLIGHT
BEGIN:STANDARD
TZOFFSETFROM:-0400
TZOFFSETTO:-0500
TZNAME:EST
DTSTART:20261101T060000
END:STANDARD
END:VTIMEZONE
BEGIN:VEVENT
DTSTART;TZID=America/Toronto:20250525T110000
DTEND;TZID=America/Toronto:20250525T130000
DTSTAMP:20260419T181358
CREATED:20250520T181744Z
LAST-MODIFIED:20250520T181758Z
UID:10002813-1748170800-1748178000@maxottawa.ca
SUMMARY:Orleans Pride: Spring Fling
DESCRIPTION:Join Orleans Pride at the Orleans Spring Fling! \n\n\n\n🎉 Spring Fling is back! 🌸 \n\n\n\nJoin us for our Second Annual Spring Fling — a fun-filled afternoon for the whole community! Come hang out on the lawn\, enjoy a free BBQ\, groove to live music from School of Rock\, and treat yourself to a cone from The Merry Dairy 🍦. \n\n\n\nThere’ll be fire trucks to explore\, lawn games\, face painting\, bubbles\, a fish pond\, and activities for all ages. Plus\, community info tables and plenty of space to relax and connect. \n\n\n\n📅 All are welcome — so bring your friends\, family\, and neighbours. Let’s make it a day to remember! 💛
URL:https://maxottawa.ca/list/orleans-pride-spring-fling/
LOCATION:Orleans United Church\, 1111 Orleans Blvd.\, Orleans\, Ontario\, K1C 7C8\, Canada
CATEGORIES:Family friendly,Orleans,Social
END:VEVENT
END:VCALENDAR