BEGIN:VCALENDAR
VERSION:2.0
PRODID:-//MAX Ottawa - ECPv6.15.20//NONSGML v1.0//EN
CALSCALE:GREGORIAN
METHOD:PUBLISH
X-WR-CALNAME:MAX Ottawa
X-ORIGINAL-URL:https://maxottawa.ca
X-WR-CALDESC:Events for MAX Ottawa
REFRESH-INTERVAL;VALUE=DURATION:PT1H
X-Robots-Tag:noindex
X-PUBLISHED-TTL:PT1H
BEGIN:VTIMEZONE
TZID:America/Toronto
BEGIN:DAYLIGHT
TZOFFSETFROM:-0500
TZOFFSETTO:-0400
TZNAME:EDT
DTSTART:20240310T070000
END:DAYLIGHT
BEGIN:STANDARD
TZOFFSETFROM:-0400
TZOFFSETTO:-0500
TZNAME:EST
DTSTART:20241103T060000
END:STANDARD
BEGIN:DAYLIGHT
TZOFFSETFROM:-0500
TZOFFSETTO:-0400
TZNAME:EDT
DTSTART:20250309T070000
END:DAYLIGHT
BEGIN:STANDARD
TZOFFSETFROM:-0400
TZOFFSETTO:-0500
TZNAME:EST
DTSTART:20251102T060000
END:STANDARD
BEGIN:DAYLIGHT
TZOFFSETFROM:-0500
TZOFFSETTO:-0400
TZNAME:EDT
DTSTART:20260308T070000
END:DAYLIGHT
BEGIN:STANDARD
TZOFFSETFROM:-0400
TZOFFSETTO:-0500
TZNAME:EST
DTSTART:20261101T060000
END:STANDARD
END:VTIMEZONE
BEGIN:VEVENT
DTSTART;TZID=America/Toronto:20250628T080000
DTEND;TZID=America/Toronto:20250628T170000
DTSTAMP:20260421T163811
CREATED:20250608T004548Z
LAST-MODIFIED:20250609T162504Z
UID:10003140-1751097600-1751130000@maxottawa.ca
SUMMARY:Summer Slam Fundraising Tournament
DESCRIPTION:Registration Opens: Saturday April 19 at 7pm \n\n\n\nFormat & Cost: \n\n\n\n\nRecreational: 6v6 – 10 team spots – $300\n\n\n\nIntermediate/Advanced: 4v4 – 15 team spots – $200\n\n\n\n\nLocation: Shefford Courts (813 Shefford Road\, Ottawa\, ON K1J 8H9) \n\n\n\nNote: Your Team Captain will register and pay for your team. During and after registration\, the Team Captain will send roster invitations. All players must be rostered to a team and have completed waivers. \n\n\n\n50% of each team’s registration will go to support Kind Space. \n\n\n\nFundraising\n\n\n\nHow it Works \n\n\n\nRegister for the tournament and then setup a fundraising page using the link below. You and your teammates can share their fundraising page with their network to encourage donations. All funds raised go to Kind Space\, a registered charity and are eligible for a tax receipt. \n\n\n\nThere are prizes for the top fundraiser and top fundraising team!
URL:https://maxottawa.ca/list/summer-slam-fundraising-tournament/
LOCATION:Shefford Courts\, 813 Shefford Road\, Ottawa\, Ontario\, K1J 8H9\, Canada
CATEGORIES:Advocacy & empowerment,Family friendly,Ottawa,Social,Sports and recreation
ORGANIZER;CN="Pride Capital Volleyball":MAILTO:info@pcv-fvc.ca
END:VEVENT
BEGIN:VEVENT
DTSTART;TZID=America/Toronto:20250628T100000
DTEND;TZID=America/Toronto:20250628T120000
DTSTAMP:20260421T163811
CREATED:20250609T145843Z
LAST-MODIFIED:20250609T145915Z
UID:10003141-1751104800-1751112000@maxottawa.ca
SUMMARY:Beach Skills & Drills: 2-on-2 Fundamentals
DESCRIPTION:Ready to take your beach volleyball skills to the next level? Join us for our Beach Skills and Drills Program led by James Battiston\, former professional volleyball player and member of the Canadian Beach National Team. James has coached for several years with the Mavericks Volleyball Club as well as 15+ years at Madawaska Volleyball Camp.   \n\n\n\nWhether you’re new to beach volleyball or a seasoned player\, we have something for you!  Join us at the RA Centre on Saturday mornings where James will bring his expert guidance to teach you fundamentals or take you to the next level with specific skills.  \n\n\n\nHere we will cover the basics of 2-on-2 beach volleyball. Serve receive (1st contact)\, setting (2nd contact)\, attacking (shot options)\, defense (block/dig) and service. The goal is to develop players’ understanding of the skills\, flow and movement required to play the 2-on-2 beach game.    
URL:https://maxottawa.ca/list/beach-skills-drills-2-on-2-fundamentals/
LOCATION:RA Centre Beach Courts\, 2451 Riverside Dr.\, Ottawa\, Ontario\, K1H 7X7\, Canada
CATEGORIES:Educational,Ottawa,Regular programming,Social,Sports and recreation
ORGANIZER;CN="Pride Capital Volleyball":MAILTO:info@pcv-fvc.ca
END:VEVENT
BEGIN:VEVENT
DTSTART;TZID=America/Toronto:20250628T100000
DTEND;TZID=America/Toronto:20250628T160000
DTSTAMP:20260421T163811
CREATED:20250609T214816Z
LAST-MODIFIED:20250609T214832Z
UID:10003150-1751104800-1751126400@maxottawa.ca
SUMMARY:Ottawa Anarchist Bookfair
DESCRIPTION:The Ottawa Anarchist Bookfair is run by a group of local anarchists and anarchic-organizers who are interested in cultivating a culture of autonomous and decentralized organizing in so-called ottawa. Our fair will have a mixture of literature (books\, zines\, etc.) relevant to anarchism/anti-oppression/organizing\, community-run workshops & skillshares\, and tabling from autonomous community groups and organizers.  \n\n\n\n📚 Anarchist Literature (books\, zines\, etc.)🎨 Art & Wares🤝 Workshops & skillshares🫒 Free Food🧸Free Childcare😷 Mandatory Masking
URL:https://maxottawa.ca/list/ottawa-anarchist-bookfair/
LOCATION:Jack Purcell Community Centre\, 320 Jack Purcell Ln\, Ottawa\, ON\, K2P 2J5\, Canada
CATEGORIES:Advocacy & empowerment,Market or festival,Ottawa
ORGANIZER;CN="Ottawa Anarchist Bookfair":MAILTO:ottawaanarchistbookfair@proton.me
END:VEVENT
BEGIN:VEVENT
DTSTART;TZID=America/Toronto:20250628T210000
DTEND;TZID=America/Toronto:20250629T020000
DTSTAMP:20260421T163811
CREATED:20250616T163238Z
LAST-MODIFIED:20250616T163314Z
UID:10003164-1751144400-1751162400@maxottawa.ca
SUMMARY:Fortress 11
DESCRIPTION:FORTRESS 11: SWEET MORGANE BDAY PARTY EDITION 😱🎂 \n\n\n\nyou GUYSSSs we have been plotting and scheming and we are so excited to present this GIGANTIC 100% local lineup of fortress besties ⚔️ \n\n\n\nPRESENTING:@ch1oehaze 👸@geunf b3b @wtfiamma b3b @sweet_morgane (FAMILY REUNION) 🧑‍🧒‍🧒@ily__bo 🫜@lilfr1dge 🫦@princia.c b2b @ttrillss_ 👯‍♀️@russplusrecords 📀@shuv.ca 🪏 \n\n\n\nLORD HAVE MERCY….TICKETS AVAILABLE NOW $10! JUNE 28! U HAVE TO BE THERE! @27club_ottawa 🚀🚀
URL:https://maxottawa.ca/list/fortress-11/
LOCATION:The 27 Club\, 27 York St\, Ottawa\, ON\, K1N 5S7\, Canada
CATEGORIES:Live music,Nightlife,Ottawa,Parties
END:VEVENT
BEGIN:VEVENT
DTSTART;TZID=America/Toronto:20250628T220000
DTEND;TZID=America/Toronto:20250629T010000
DTSTAMP:20260421T163811
CREATED:20250616T161610Z
LAST-MODIFIED:20250616T161627Z
UID:10003162-1751148000-1751158800@maxottawa.ca
SUMMARY:Fierce Fusion - 1 Year Anniversary
DESCRIPTION:✨ Get ready for a night of fabulous performances! ✨ \n\n\n\nJoin us on June 28th\, @swizzlesbar\, as we celebrate our one year anniversary\, June 28th. Yes\, it has been one year already. 9:30 pm doors open\, and the show starts at 10 pm. $10 cover. Call to reserve: 613-232-4200. \n\n\n\nYour co-producers @mr.benjamindover and @funfettidrag have teamed up to bring you an unforgettable show featuring an incredible cast from our first 5 shows: \n\n\n\n🎉@abellaburlesque🎉@breezethefairy🎉Caleb O’Guy🎉@cox.enelle🎉@dr.t.munee🎉@estherroyd🎉@morganmorbid on door \n\n\n\nDon’t miss out – come for the fun\, stay for the fierce performances! 🌟
URL:https://maxottawa.ca/list/fierce-fusion-1-year-anniversary/
LOCATION:Swizzles\, 246 Queen Street\,\, Ottawa\, ON\, K1P 5E4\, Canada
CATEGORIES:Drag & Burlesque,Nightlife,Ottawa
END:VEVENT
END:VCALENDAR