BEGIN:VCALENDAR
VERSION:2.0
PRODID:-//MAX Ottawa - ECPv6.15.20//NONSGML v1.0//EN
CALSCALE:GREGORIAN
METHOD:PUBLISH
X-ORIGINAL-URL:https://maxottawa.ca
X-WR-CALDESC:Events for MAX Ottawa
REFRESH-INTERVAL;VALUE=DURATION:PT1H
X-Robots-Tag:noindex
X-PUBLISHED-TTL:PT1H
BEGIN:VTIMEZONE
TZID:America/Toronto
BEGIN:DAYLIGHT
TZOFFSETFROM:-0500
TZOFFSETTO:-0400
TZNAME:EDT
DTSTART:20240310T070000
END:DAYLIGHT
BEGIN:STANDARD
TZOFFSETFROM:-0400
TZOFFSETTO:-0500
TZNAME:EST
DTSTART:20241103T060000
END:STANDARD
BEGIN:DAYLIGHT
TZOFFSETFROM:-0500
TZOFFSETTO:-0400
TZNAME:EDT
DTSTART:20250309T070000
END:DAYLIGHT
BEGIN:STANDARD
TZOFFSETFROM:-0400
TZOFFSETTO:-0500
TZNAME:EST
DTSTART:20251102T060000
END:STANDARD
BEGIN:DAYLIGHT
TZOFFSETFROM:-0500
TZOFFSETTO:-0400
TZNAME:EDT
DTSTART:20260308T070000
END:DAYLIGHT
BEGIN:STANDARD
TZOFFSETFROM:-0400
TZOFFSETTO:-0500
TZNAME:EST
DTSTART:20261101T060000
END:STANDARD
END:VTIMEZONE
BEGIN:VEVENT
DTSTART;TZID=America/Toronto:20250708T173000
DTEND;TZID=America/Toronto:20250708T220000
DTSTAMP:20260425T062236
CREATED:20250522T182314Z
LAST-MODIFIED:20250617T162803Z
UID:10002821-1751995800-1752012000@maxottawa.ca
SUMMARY:Quest to Climaxia
DESCRIPTION:Join us for a role-playing quest with games and education at SAW on July 8. We’ll have a complimentary dinner lined up to fuel you before the fantastical adventure begins. A full bar will be available for drinks to purchase. \n\n\n\nThe Quest\n\n\n\nYou and the citizens of the magical\, utopian land of Climaxia learn that you’ve have been exposed to the Glitterot–a powerful\, disease-spreading gem. Four diseases now wreak havoc on the Climaxians and their infrastructure: the magical structures begin to flicker\, the wards are failing\, and the once-prosperous crops are wilting. \n\n\n\nYou\, a citizen of Climaxia\, and your neighbours can overcome this mayhem\, but you’ll have to work together. Register below and get ready for the hottest queer quest of the year! \n\n\n\nAdditional Details\n\n\n\nSAW is a fully accessible venue. \n\n\n\nThis event includes themes of sexual health. \n\n\n\nThis is a free event.
URL:https://maxottawa.ca/list/quest-to-climaxia/
LOCATION:SAW\, 67 Nicholas St\, Ottawa\, ON\, K1N 7B9\, Canada
CATEGORIES:Educational,MAX Programs,Ottawa,Sex positive,Social
ORGANIZER;CN="MAX Ottawa":MAILTO:info@maxottawa.ca
END:VEVENT
END:VCALENDAR