BEGIN:VCALENDAR
VERSION:2.0
PRODID:-//MAX Ottawa - ECPv6.15.20//NONSGML v1.0//EN
CALSCALE:GREGORIAN
METHOD:PUBLISH
X-WR-CALNAME:MAX Ottawa
X-ORIGINAL-URL:https://maxottawa.ca
X-WR-CALDESC:Events for MAX Ottawa
REFRESH-INTERVAL;VALUE=DURATION:PT1H
X-Robots-Tag:noindex
X-PUBLISHED-TTL:PT1H
BEGIN:VTIMEZONE
TZID:America/Toronto
BEGIN:DAYLIGHT
TZOFFSETFROM:-0500
TZOFFSETTO:-0400
TZNAME:EDT
DTSTART:20240310T070000
END:DAYLIGHT
BEGIN:STANDARD
TZOFFSETFROM:-0400
TZOFFSETTO:-0500
TZNAME:EST
DTSTART:20241103T060000
END:STANDARD
BEGIN:DAYLIGHT
TZOFFSETFROM:-0500
TZOFFSETTO:-0400
TZNAME:EDT
DTSTART:20250309T070000
END:DAYLIGHT
BEGIN:STANDARD
TZOFFSETFROM:-0400
TZOFFSETTO:-0500
TZNAME:EST
DTSTART:20251102T060000
END:STANDARD
BEGIN:DAYLIGHT
TZOFFSETFROM:-0500
TZOFFSETTO:-0400
TZNAME:EDT
DTSTART:20260308T070000
END:DAYLIGHT
BEGIN:STANDARD
TZOFFSETFROM:-0400
TZOFFSETTO:-0500
TZNAME:EST
DTSTART:20261101T060000
END:STANDARD
END:VTIMEZONE
BEGIN:VEVENT
DTSTART;TZID=America/Toronto:20250709T184500
DTEND;TZID=America/Toronto:20250709T210000
DTSTAMP:20260424T070907
CREATED:20250702T021213Z
LAST-MODIFIED:20250702T021222Z
UID:10003202-1752086700-1752094800@maxottawa.ca
SUMMARY:QBC Level 2: Gatineau Park Trail 5 climb
DESCRIPTION:Meet: 6:45PM / Ride: 7:00PM \n\n\n\nSW corner of St. Luke’s Park (Elgin and Gladstone) \n\n\n\nEvery other Wednesday \n\n\n\n\n\n\n\nNew this year to QBC Ottawa\, we’re adding Level 2 Rides: longer and faster rides with minimal breaks. These rides are more focused on building fitness and endurance\, with a social time after the ride for those who’d like to join. Routes are longer and marginally more challenging and\, aside from a quick regroup after any particularly challenging segments\, will not have breaks. If you’re consistently averaging more than 20 km/h\, these rides could be a good fit for you. \n\n\n\nWe’re aiming for a steady 25 km/h on the roads\, with an overall ride speed average of a little over 20 km/h. Routes will vary from about 20km to 40km in length. We’re planning a mix of terrain (paths\, roads\, gravel). Routes will repeat throughout the season. In the event that you can’t hold the pace\, catch up when you get a second wind or self-drop and join us at the finish or another time.
URL:https://maxottawa.ca/list/qbc-level-2-gatineau-park-trail-5-climb/
LOCATION:ON
CATEGORIES:Ottawa,Regular programming,Sports and recreation
ORGANIZER;CN="Queer Bike Club Ottawa":MAILTO:queerbikeclubottawa@gmail.com
END:VEVENT
BEGIN:VEVENT
DTSTART;TZID=America/Toronto:20250709T200000
DTEND;TZID=America/Toronto:20250709T230000
DTSTAMP:20260424T070907
CREATED:20250630T170118Z
LAST-MODIFIED:20250630T170146Z
UID:10003192-1752091200-1752102000@maxottawa.ca
SUMMARY:Icons Night!
DESCRIPTION:Welcome to Icons Night! Presented by Drag Me To Live! \n\n\n\nCome join us at LIVE! on Elgin on July 9\, 2025 at 8:00 PM for a night filled with talented local drag artists performing numbers by musical icons! Get ready to dance and sing along to the greatest hits in a vibrant and energetic atmosphere. \n\n\n\nHosted by: \n\n\n\nEden Moore performing Celine Dion \n\n\n\nPerformances By: \n\n\n\nSophia Sapphire performing Britney Spears \n\n\n\nZak Zinya performing Justin Bieber \n\n\n\nThe Drag Queen Love performing Taylor Swift \n\n\n\nXtra performing Whitney Houston
URL:https://maxottawa.ca/list/icons-night/
LOCATION:LIVE! on Elgin\, 220 Elgin St #2\, Ottawa\, Ontario\, K2P 1L7\, Canada
CATEGORIES:Drag & Burlesque,Nightlife,Ottawa
END:VEVENT
END:VCALENDAR