BEGIN:VCALENDAR
VERSION:2.0
PRODID:-//MAX Ottawa - ECPv6.15.20//NONSGML v1.0//EN
CALSCALE:GREGORIAN
METHOD:PUBLISH
X-WR-CALNAME:MAX Ottawa
X-ORIGINAL-URL:https://maxottawa.ca
X-WR-CALDESC:Events for MAX Ottawa
REFRESH-INTERVAL;VALUE=DURATION:PT1H
X-Robots-Tag:noindex
X-PUBLISHED-TTL:PT1H
BEGIN:VTIMEZONE
TZID:America/Toronto
BEGIN:DAYLIGHT
TZOFFSETFROM:-0500
TZOFFSETTO:-0400
TZNAME:EDT
DTSTART:20240310T070000
END:DAYLIGHT
BEGIN:STANDARD
TZOFFSETFROM:-0400
TZOFFSETTO:-0500
TZNAME:EST
DTSTART:20241103T060000
END:STANDARD
BEGIN:DAYLIGHT
TZOFFSETFROM:-0500
TZOFFSETTO:-0400
TZNAME:EDT
DTSTART:20250309T070000
END:DAYLIGHT
BEGIN:STANDARD
TZOFFSETFROM:-0400
TZOFFSETTO:-0500
TZNAME:EST
DTSTART:20251102T060000
END:STANDARD
BEGIN:DAYLIGHT
TZOFFSETFROM:-0500
TZOFFSETTO:-0400
TZNAME:EDT
DTSTART:20260308T070000
END:DAYLIGHT
BEGIN:STANDARD
TZOFFSETFROM:-0400
TZOFFSETTO:-0500
TZNAME:EST
DTSTART:20261101T060000
END:STANDARD
END:VTIMEZONE
BEGIN:VEVENT
DTSTART;TZID=America/Toronto:20250710T000000
DTEND;TZID=America/Toronto:20250720T235959
DTSTAMP:20260421T004342
CREATED:20250709T184100Z
LAST-MODIFIED:20250709T184647Z
UID:10003219-1752105600-1753055999@maxottawa.ca
SUMMARY:Bluesfest
DESCRIPTION:Check out some of the queer artists performing in this year’s Bluesfest lineup! \n\n\n\nSaturday\, July 12 \n\n\n\n\nPixies (RBC Stage – 7:30PM)\n\n\n\nTurnstyle (RBC Stage – 9:30)\n\n\n\n\nSunday\, July 13 \n\n\n\n\nBig Freedia (Lebreton Stage – 8:15PM)\n\n\n\n\nFriday\, July 18 \n\n\n\n\nN’nerjie (Barney Danson Theatre – 8:00PM)\n\n\n\n\nSunday\, July 20 \n\n\n\n\nKaytranada (RBC Stage – 9:30PM)\n\n\n\nJoce Reyome (Barney Danson Theatre – 9:30PM)
URL:https://maxottawa.ca/list/bluesfest/
LOCATION:Ontario
CATEGORIES:Live music,Market or festival,Ottawa
END:VEVENT
BEGIN:VEVENT
DTSTART;TZID=America/Toronto:20250712T000000
DTEND;TZID=America/Toronto:20250713T235959
DTSTAMP:20260421T004342
CREATED:20250702T025126Z
LAST-MODIFIED:20250702T025144Z
UID:10003203-1752278400-1752451199@maxottawa.ca
SUMMARY:QBC Bikepacking
DESCRIPTION:Join us July 12-13 for another great Bikepacking weekend! \n\n\n\nThis trip will be a 30km/day overnighter to the Manotick lock station\, with pizza dinner provided. All while going a slower (15-20kmh) pace and no drop. \n\n\n\nWe will head out from Downtown Saturday afternoon and be home Sunday morning\, with coffee and snack stops along the way. The route will take us on quiet country roads or ones with paved shoulders\, and some pathway riding. \n\n\n\nCost is $25 for 1 night of camping and Saturday dinner. Spots are limited so sign up before the July 4th deadline through the link below.  \n\n\n\nBasic gear required: Bike\, camping gear (Tent\, sleeping pad\, sleeping bag)\, food (Sunday breakfast and weekend snacks)\, a way to carry everything. (If you don’t have your own gear\, we may have gear to loan\, or you can check out the Ottawa Outdoor Gear Library.)  \n\n\n\nIf you have any questions about gear\, feel free to message us or check the resource links in our instagram bio.
URL:https://maxottawa.ca/list/qbc-bikepacking/
LOCATION:Manotick Lock Station / Long Island Locks\, Manotick\, Ontario\, K4M 0V7\, Canada
CATEGORIES:Manotick,Ottawa,Social,Sports and recreation
ORGANIZER;CN="Queer Bike Club Ottawa":MAILTO:queerbikeclubottawa@gmail.com
END:VEVENT
BEGIN:VEVENT
DTSTART;TZID=America/Toronto:20250712T093000
DTEND;TZID=America/Toronto:20250712T143000
DTSTAMP:20260421T004342
CREATED:20250715T173735Z
LAST-MODIFIED:20260408T161107Z
UID:10004719-1752312600-1752330600@maxottawa.ca
SUMMARY:Out and About Saturdays
DESCRIPTION:OSPN in partnership with The Good Companions is delighted to offer in person programming to our 55+ LGBTQ2+ community.  \n\n\n\nJoin us every second and fourth Saturday of the month for a range of engaging activities\, from educational workshops to social programming\, all designed to foster connection\, support\, and enjoyment. Our goal is to create a welcoming environment where everyone can feel comfortable\, respected\, and celebrate.
URL:https://maxottawa.ca/list/out-and-about-saturdays/2025-07-12/
LOCATION:The Good Companions\, 670 Albert Street
CATEGORIES:Ottawa,Regular programming,Social
END:VEVENT
BEGIN:VEVENT
DTSTART;TZID=America/Toronto:20250712T100000
DTEND;TZID=America/Toronto:20250712T110000
DTSTAMP:20260421T004342
CREATED:20250709T194115Z
LAST-MODIFIED:20250709T194127Z
UID:10003222-1752314400-1752318000@maxottawa.ca
SUMMARY:The Soul Garden
DESCRIPTION:Soul Garden is a weekly outdoor space to connect—intentionally\, gently\, and freely.✶ Bring your favorite strain\, a mat or blanket\, your journal\, and your energy.✶ We spark up\, set intentions\, and move in our own flow.This isn’t a class. It’s a space to stretch and tune into your body\, your breath\, and your spirit.✶ For QTBIPOC folk 🌿✶ Come as you are. Let the garden hold you. (19+ event)
URL:https://maxottawa.ca/list/the-soul-garden/
LOCATION:Major’s Hill Park\, Mackenzie Ave.\, Ottawa\, Ontario\, K1N 1G8\, Canada
CATEGORIES:Ottawa
END:VEVENT
BEGIN:VEVENT
DTSTART;TZID=America/Toronto:20250712T100000
DTEND;TZID=America/Toronto:20250712T120000
DTSTAMP:20260421T004342
CREATED:20250609T150555Z
LAST-MODIFIED:20250609T150623Z
UID:10003142-1752314400-1752321600@maxottawa.ca
SUMMARY:Beach Skills & Drills: Reception/Side Out
DESCRIPTION:Ready to take your beach volleyball skills to the next level? Join us for our Beach Skills and Drills Program led by James Battiston\, former professional volleyball player and member of the Canadian Beach National Team. James has coached for several years with the Mavericks Volleyball Club as well as 15+ years at Madawaska Volleyball Camp.   \n\n\n\nWhether you’re new to beach volleyball or a seasoned player\, we have something for you!  Join us at the RA Centre on Saturday mornings where James will bring his expert guidance to teach you fundamentals or take you to the next level with specific skills.  \n\n\n\nFor this session\, we will focus on serve receive to attack.  This will include working on passing/setting and attack strategies in a 2-on-2 setting.  Game situation drills will provide opportunities to practice the transition from reception to attack and allow for live feedback.  For this session\, participants are expected to have basic ball control (being able to forearm or hand pass a ball to a target) to allow for meaningful rallies.     
URL:https://maxottawa.ca/list/beach-skills-drills-reception-side-out/
LOCATION:RA Centre Beach Courts\, 2451 Riverside Dr.\, Ottawa\, Ontario\, K1H 7X7\, Canada
CATEGORIES:Educational,Ottawa,Regular programming,Social,Sports and recreation
ORGANIZER;CN="Pride Capital Volleyball":MAILTO:info@pcv-fvc.ca
END:VEVENT
BEGIN:VEVENT
DTSTART;TZID=America/Toronto:20250712T110000
DTEND;TZID=America/Toronto:20250712T170000
DTSTAMP:20260421T004342
CREATED:20250709T200528Z
LAST-MODIFIED:20250709T200543Z
UID:10003225-1752318000-1752339600@maxottawa.ca
SUMMARY:Wench Faire
DESCRIPTION:🔔Hear ye\, hear ye!🔔The Hot Wench Market returneth once more\, and we are most delighted to proclaim the (unofficial) roster of merchants and merrymakers who shall grace the grounds of the upcoming Wench Faire ~ a merrie gathering of renaissance-inspired revelry and witchy market wares ~ happening at the Parkdale Public Market this 12th day of July! Prepare thyselves for a day of mirth\, music\, and local marvels aplenty! \n\n\n\nFEATURING: 📜 \n\n\n\n🤺LARP demos by @felfrost@felfrost.amtgard \n\n\n\n🎶Whimsical classical guitar by @cedhol00 (artist “Though I Wander” on spotify!!) \n\n\n\n🍻Mead & refreshments by @thirst.responder \n\n\n\n🧁Tasty treats by @sweetsbynatalya \n\n\n\n🧥Vintage clothing & more by:@girly_2_grunge@highxvintage@outfitzco@latenightvintageco@strega.vintage \n\n\n\n⛓️Unique wearables & accessories by:@bawdybagleatherworks@jy.ekrj@faithlessforge@kosmick.kreationz@ladyluxdesign@noblemouseleatherworks@ohowa_beadwork@sage_n_steel@shadedcanada@toothwurld@whitecatjewelry \n\n\n\n🖌️Original art products by:@alinebee.art@capricorpse@forestfaefolkart@insertgirlname@luckandlavenderstudio@mushiiroome.creations@tazandjason \n\n\n\n🕯️Fibre art\, candles\, & decor by:@galacticcherrydesign@imperfectwhimsy@jandlesxo@kokumoon@new_leaf_crafting \n\n\n\n🏺Vintage trinkets & oddities by:@chinaandcleo@vintagefab_babe \n\n\n\n🔮Crystals & tarot readings by:@askjojovibes@ottawaminerals \n\n\n\nLet the wenchery commence!🧙
URL:https://maxottawa.ca/list/wench-faire/
LOCATION:Parkdale Market\, 366 Parkdale Ave.\, Ottawa\, Ontario\, K1Y 1G8\, Canada
CATEGORIES:Art,Market or festival,Ottawa
END:VEVENT
BEGIN:VEVENT
DTSTART;TZID=America/Toronto:20250712T120000
DTEND;TZID=America/Toronto:20250712T170000
DTSTAMP:20260421T004342
CREATED:20250709T195214Z
LAST-MODIFIED:20250709T195224Z
UID:10003223-1752321600-1752339600@maxottawa.ca
SUMMARY:Drag Community Potluck and Swap
DESCRIPTION:Want to hang out with drag folks outside of a show setting? Got some stuff that doesn’t fit you or your style anymore? Want to share some food and laughs? Come hang out with us in Frank Ryan Park on the 12th\, starting at noon! \n\n\n\nPlease bring something to share\, but it doesn’t have to be complicated — the only rule is no heating required\, and ingredients available/listed. Also bring sunscreen/bug spray\, and either a charging bank or fully charged phones! \n\n\n\nACCESSIBILITY INFO: The park has no steps but there is a gate at the front blocking the path – I’ll be calling the city to see about getting the keys and will update if I’m successful but sadly can make no promises. The same is true of the washrooms which are locked\, but there are restaurants at the end of the street with public bathrooms. There is a gazebo with seating.
URL:https://maxottawa.ca/list/drag-community-potluck-and-swap/
LOCATION:Frank Ryan Park\, 950 Alpine Ave\, Ottawa\, Ontario\, K2B 5R9\, Canada
CATEGORIES:Drag & Burlesque,Ottawa,Social
END:VEVENT
BEGIN:VEVENT
DTSTART;TZID=America/Toronto:20250712T220000
DTEND;TZID=America/Toronto:20250713T020000
DTSTAMP:20260421T004342
CREATED:20250630T185106Z
LAST-MODIFIED:20250630T185129Z
UID:10003194-1752357600-1752372000@maxottawa.ca
SUMMARY:Hott Stuff
DESCRIPTION:Get ready\, Ottawa — the Byward Market is heating up. \n\n\n\nOnce every quarter\, the capital’s historic district plays host to HOTT STUFF\, a high-energy EDM night where beats\, lights\, and vibes collide. Montreal’s top DJ Diskommander teams up with Ottawa’s own JC Simon to deliver a dance floor experience that’s anything but ordinary. \n\n\n\nHeld at Berlin\, HOTT STUFF serves up an unforgettable mix of progressive\, melodic\, tech\, and pop house. \n\n\n\nBoth DJs bring their signature sound to the decks\, fusing styles and passion in a celebration of music and community. This is more than just a party — it’s a bold new space for Ottawa’s 2SLGBTQ+ scene to connect\, move\, and thrive. \n\n\n\nEvery edition of HOTT STUFF is a fresh journey. If you’re into EDM and love a dance floor that lives\, this is your night.
URL:https://maxottawa.ca/list/hott-stuff-2/
LOCATION:Berlin Nightclub\, 56 Byward Market Sq\, Ottawa\, Ontario\, K1N 7A2\, Canada
CATEGORIES:Nightlife,Ottawa,Parties
END:VEVENT
END:VCALENDAR