BEGIN:VCALENDAR
VERSION:2.0
PRODID:-//MAX Ottawa - ECPv6.15.20//NONSGML v1.0//EN
CALSCALE:GREGORIAN
METHOD:PUBLISH
X-WR-CALNAME:MAX Ottawa
X-ORIGINAL-URL:https://maxottawa.ca
X-WR-CALDESC:Events for MAX Ottawa
REFRESH-INTERVAL;VALUE=DURATION:PT1H
X-Robots-Tag:noindex
X-PUBLISHED-TTL:PT1H
BEGIN:VTIMEZONE
TZID:America/Toronto
BEGIN:DAYLIGHT
TZOFFSETFROM:-0500
TZOFFSETTO:-0400
TZNAME:EDT
DTSTART:20240310T070000
END:DAYLIGHT
BEGIN:STANDARD
TZOFFSETFROM:-0400
TZOFFSETTO:-0500
TZNAME:EST
DTSTART:20241103T060000
END:STANDARD
BEGIN:DAYLIGHT
TZOFFSETFROM:-0500
TZOFFSETTO:-0400
TZNAME:EDT
DTSTART:20250309T070000
END:DAYLIGHT
BEGIN:STANDARD
TZOFFSETFROM:-0400
TZOFFSETTO:-0500
TZNAME:EST
DTSTART:20251102T060000
END:STANDARD
BEGIN:DAYLIGHT
TZOFFSETFROM:-0500
TZOFFSETTO:-0400
TZNAME:EDT
DTSTART:20260308T070000
END:DAYLIGHT
BEGIN:STANDARD
TZOFFSETFROM:-0400
TZOFFSETTO:-0500
TZNAME:EST
DTSTART:20261101T060000
END:STANDARD
END:VTIMEZONE
BEGIN:VEVENT
DTSTART;TZID=America/Toronto:20250710T000000
DTEND;TZID=America/Toronto:20250720T235959
DTSTAMP:20260420T184434
CREATED:20250709T184100Z
LAST-MODIFIED:20250709T184647Z
UID:10003219-1752105600-1753055999@maxottawa.ca
SUMMARY:Bluesfest
DESCRIPTION:Check out some of the queer artists performing in this year’s Bluesfest lineup! \n\n\n\nSaturday\, July 12 \n\n\n\n\nPixies (RBC Stage – 7:30PM)\n\n\n\nTurnstyle (RBC Stage – 9:30)\n\n\n\n\nSunday\, July 13 \n\n\n\n\nBig Freedia (Lebreton Stage – 8:15PM)\n\n\n\n\nFriday\, July 18 \n\n\n\n\nN’nerjie (Barney Danson Theatre – 8:00PM)\n\n\n\n\nSunday\, July 20 \n\n\n\n\nKaytranada (RBC Stage – 9:30PM)\n\n\n\nJoce Reyome (Barney Danson Theatre – 9:30PM)
URL:https://maxottawa.ca/list/bluesfest/
LOCATION:Ontario
CATEGORIES:Live music,Market or festival,Ottawa
END:VEVENT
BEGIN:VEVENT
DTSTART;TZID=America/Toronto:20250716T160000
DTEND;TZID=America/Toronto:20250716T190000
DTSTAMP:20260420T184434
CREATED:20250714T214912Z
LAST-MODIFIED:20250714T214922Z
UID:10003242-1752681600-1752692400@maxottawa.ca
SUMMARY:MAX Ottawa: Pop-up Vaccine Clinic
DESCRIPTION:MAX is working with Ottawa Public Health to host two pop-up immunization clinics for mpox. The clinics are open to members of our community who meet the eligibility criteria and who have not had two doses of the vaccine yet. \n\n\n\nVaccines for HPV and Hepatitis A and B will also be available for those who are eligible. More information for these can be found in the Publicly Funded Immunization Schedule for Ontario. \n\n\n\nClick the link below to review your eligibility for the vaccines and book an appointment.
URL:https://maxottawa.ca/list/max-ottawa-pop-up-vaccine-clinic/2025-07-16/
LOCATION:MAX Ottawa\, 400 Cooper St. Suite 9004\, Ottawa\, Ontario\, K2P 2H8\, Canada
CATEGORIES:MAX Programs,Ottawa,Service
ORGANIZER;CN="MAX Ottawa":MAILTO:info@maxottawa.ca
END:VEVENT
BEGIN:VEVENT
DTSTART;TZID=America/Toronto:20250716T173000
DTEND;TZID=America/Toronto:20250716T190000
DTSTAMP:20260420T184434
CREATED:20250603T190344Z
LAST-MODIFIED:20250905T161833Z
UID:10003124-1752687000-1752692400@maxottawa.ca
SUMMARY:Pizza Night at Colonnade
DESCRIPTION:Dinner the third Wednesday of every month at Colonnade Pizza (Metcalfe & Gilmour) 5:30PM. Remember keep our group growing – tell your friends!  \n\n\n\nSo that we can save you a place\, please RSVP to Claude at claude@claudejobin.com or by phone at 613.804.7979.
URL:https://maxottawa.ca/list/pizza-night-at-colonnade/2025-07-16/
LOCATION:Colonnade Pizza\, 280 Metcalfe St.\, Ottawa\, Ontario\, K2P 1R7\, Canada
CATEGORIES:Ottawa,Social
END:VEVENT
END:VCALENDAR