BEGIN:VCALENDAR
VERSION:2.0
PRODID:-//MAX Ottawa - ECPv6.15.20//NONSGML v1.0//EN
CALSCALE:GREGORIAN
METHOD:PUBLISH
X-WR-CALNAME:MAX Ottawa
X-ORIGINAL-URL:https://maxottawa.ca
X-WR-CALDESC:Events for MAX Ottawa
REFRESH-INTERVAL;VALUE=DURATION:PT1H
X-Robots-Tag:noindex
X-PUBLISHED-TTL:PT1H
BEGIN:VTIMEZONE
TZID:America/Toronto
BEGIN:DAYLIGHT
TZOFFSETFROM:-0500
TZOFFSETTO:-0400
TZNAME:EDT
DTSTART:20240310T070000
END:DAYLIGHT
BEGIN:STANDARD
TZOFFSETFROM:-0400
TZOFFSETTO:-0500
TZNAME:EST
DTSTART:20241103T060000
END:STANDARD
BEGIN:DAYLIGHT
TZOFFSETFROM:-0500
TZOFFSETTO:-0400
TZNAME:EDT
DTSTART:20250309T070000
END:DAYLIGHT
BEGIN:STANDARD
TZOFFSETFROM:-0400
TZOFFSETTO:-0500
TZNAME:EST
DTSTART:20251102T060000
END:STANDARD
BEGIN:DAYLIGHT
TZOFFSETFROM:-0500
TZOFFSETTO:-0400
TZNAME:EDT
DTSTART:20260308T070000
END:DAYLIGHT
BEGIN:STANDARD
TZOFFSETFROM:-0400
TZOFFSETTO:-0500
TZNAME:EST
DTSTART:20261101T060000
END:STANDARD
END:VTIMEZONE
BEGIN:VEVENT
DTSTART;TZID=America/Toronto:20250710T000000
DTEND;TZID=America/Toronto:20250720T235959
DTSTAMP:20260423T041443
CREATED:20250709T184100Z
LAST-MODIFIED:20250709T184647Z
UID:10003219-1752105600-1753055999@maxottawa.ca
SUMMARY:Bluesfest
DESCRIPTION:Check out some of the queer artists performing in this year’s Bluesfest lineup! \n\n\n\nSaturday\, July 12 \n\n\n\n\nPixies (RBC Stage – 7:30PM)\n\n\n\nTurnstyle (RBC Stage – 9:30)\n\n\n\n\nSunday\, July 13 \n\n\n\n\nBig Freedia (Lebreton Stage – 8:15PM)\n\n\n\n\nFriday\, July 18 \n\n\n\n\nN’nerjie (Barney Danson Theatre – 8:00PM)\n\n\n\n\nSunday\, July 20 \n\n\n\n\nKaytranada (RBC Stage – 9:30PM)\n\n\n\nJoce Reyome (Barney Danson Theatre – 9:30PM)
URL:https://maxottawa.ca/list/bluesfest/
LOCATION:ON
CATEGORIES:Live music,Market or festival,Ottawa
END:VEVENT
BEGIN:VEVENT
DTSTART;TZID=America/Toronto:20250717T170000
DTEND;TZID=America/Toronto:20250717T220000
DTSTAMP:20260423T041443
CREATED:20250708T200020Z
LAST-MODIFIED:20250715T170623Z
UID:10003215-1752771600-1752789600@maxottawa.ca
SUMMARY:Ottawa Mystic Market
DESCRIPTION:Next Door at Night Ottawa Mystic Market🗓️ Date & Time: July 17\, 5:00–10:00 PM📍 Location: @nextdoorottawa 955a Gladstone aveFeaturing : Live group psychic reading with @tristen.sky \n\n\n\nJoin us for a magical evening at the @ottawamysticmarket 💜 Immerse yourself in the vibrant atmosphere of spiritual exploration and local artisans. Market is free entry from 5 pm-10pm. \n\n\n\nFeaturing:@outfitzco@highxvintage@life_resurrected@dandylioness.vintage@beardedvulturecreations@nutmegsveganbakes@strega.vintage@treeloretrinkets@sachioka.art@rainandmoonwater@lady.arkenstone.vintage@Tristen.sky@diwata.designs \n\n\n\n💜💜💜💜We encourage you to stay and settle in for an unforgettable Live Psychic Reading Show with @tristen.sky at 8 pm🎟️ Price: $35 per person🔗 Tickets: Available at www.tristensky.com \n\n\n\n✨ Step into the world of spirit with psychic medium Tristen Sky for a captivating evening of live channeling. Experience the mysteries of the other side as Tristen connects with spirit guides and delivers intuitive messages in real time. While not every guest is guaranteed a personal reading\, each will witness the fascinating power of psychic insight. \n\n\n\n💜Spaces are limited so get your tickets now! 💜
URL:https://maxottawa.ca/list/ottawa-mystic-market-2/
LOCATION:Next Door Market\, 955a Gladstone Ave.\, Ottawa\, Ontario\, Canada
CATEGORIES:Market or festival,Ottawa
END:VEVENT
BEGIN:VEVENT
DTSTART;TZID=America/Toronto:20250717T180000
DTEND;TZID=America/Toronto:20250717T200000
DTSTAMP:20260423T041443
CREATED:20250630T192544Z
LAST-MODIFIED:20250703T145811Z
UID:10003198-1752775200-1752782400@maxottawa.ca
SUMMARY:Up Yours! A Butt Workshop
DESCRIPTION:Butt sex can seem intimidating at first\, but the key to great anal play is knowing how everything works down there (and always adding more lube!). This workshop is an intro to anal that focuses on playing safely and feeling good. Pick up practical and fun tips about toys\, positions\, lube\, and how to troubleshoot common issues. Open to all genders & sexualities! \n\n\n\nFacilitator:  Agnes and RethDate: Thursday\, July 17Time: 6:00pm Eastern Daylight TimeLocation: 329 Catherine Street\, OttawaDuration: approximately 2 hoursMasks: required for in person attendance\n\n\n\nThis workshop is a hybrid event: in-person at Venus Envy and online via Zoom. Registration closes 3 hours before the event. Zoom codes will be emailed the day of the workshop once registration closes\, please check your spam folder! \n\n\n\nEmail our workshop coordinator rachele@venusenvy.ca for: \n\n\n\n\nlate registration (after 3:00pm EDT the day of the workshop)\n\n\n\nquestions about the workshop\n\n\n\naccessibility information/requests\n\n\n\ntroubleshooting Zoom 
URL:https://maxottawa.ca/list/up-yours-a-butt-workshop/
LOCATION:Venus Envy\, 329 Catherine St.\, Ottawa\, ON\, K1R 5T4\, Canada
CATEGORIES:Ottawa,Sex positive
ORGANIZER;CN="Venus Envy":MAILTO:ottawa@venusenvy.ca
END:VEVENT
BEGIN:VEVENT
DTSTART;TZID=America/Toronto:20250717T190000
DTEND;TZID=America/Toronto:20250717T201000
DTSTAMP:20260423T041443
CREATED:20250602T193247Z
LAST-MODIFIED:20250602T193339Z
UID:10002856-1752778800-1752783000@maxottawa.ca
SUMMARY:Gay Men In Recovery
DESCRIPTION:A weekly hybrid narcotics anonymous group for gay men.  \n\n\n\nTo access the Zoom link\, click the link below\, select Thursday\, and scroll down to “Gay Men In Recovery.” To enter the building\, ring the intercom doorbell on the left side of the main doors if they are locked and a member will let you in. \n\n\n\nMeeting formats and accessibility: \n\n\n\n\nThis meeting is closed to non-addicts. You should attend only if you believe that you may have a problem with substance abuse.\n\n\n\nThis meeting invites participation by all attendees.\n\n\n\nThis meeting is focused on the needs of gay\, lesbian and transgender members of NA.\n\n\n\nThis meeting is meant to be attended by men only.\n\n\n\nThis meeting is wheelchair accessible.\n\n\n\nMeetings virtually and in person.
URL:https://maxottawa.ca/list/gay-men-in-recovery/2025-07-17/
LOCATION:MAX Ottawa\, 400 Cooper St. Suite 9004\, Ottawa\, Ontario\, K2P 2H8\, Canada
CATEGORIES:Ottawa,Regular programming,Service
END:VEVENT
END:VCALENDAR