BEGIN:VCALENDAR
VERSION:2.0
PRODID:-//MAX Ottawa - ECPv6.15.20//NONSGML v1.0//EN
CALSCALE:GREGORIAN
METHOD:PUBLISH
X-ORIGINAL-URL:https://maxottawa.ca
X-WR-CALDESC:Events for MAX Ottawa
REFRESH-INTERVAL;VALUE=DURATION:PT1H
X-Robots-Tag:noindex
X-PUBLISHED-TTL:PT1H
BEGIN:VTIMEZONE
TZID:America/Toronto
BEGIN:DAYLIGHT
TZOFFSETFROM:-0500
TZOFFSETTO:-0400
TZNAME:EDT
DTSTART:20240310T070000
END:DAYLIGHT
BEGIN:STANDARD
TZOFFSETFROM:-0400
TZOFFSETTO:-0500
TZNAME:EST
DTSTART:20241103T060000
END:STANDARD
BEGIN:DAYLIGHT
TZOFFSETFROM:-0500
TZOFFSETTO:-0400
TZNAME:EDT
DTSTART:20250309T070000
END:DAYLIGHT
BEGIN:STANDARD
TZOFFSETFROM:-0400
TZOFFSETTO:-0500
TZNAME:EST
DTSTART:20251102T060000
END:STANDARD
BEGIN:DAYLIGHT
TZOFFSETFROM:-0500
TZOFFSETTO:-0400
TZNAME:EDT
DTSTART:20260308T070000
END:DAYLIGHT
BEGIN:STANDARD
TZOFFSETFROM:-0400
TZOFFSETTO:-0500
TZNAME:EST
DTSTART:20261101T060000
END:STANDARD
END:VTIMEZONE
BEGIN:VEVENT
DTSTART;TZID=America/Toronto:20250723T180000
DTEND;TZID=America/Toronto:20250723T213000
DTSTAMP:20260420T131534
CREATED:20250717T144031Z
LAST-MODIFIED:20250717T144122Z
UID:10003255-1753293600-1753306200@maxottawa.ca
SUMMARY:Qwarabs Picnic
DESCRIPTION:Join us Wednesday July 23 from 6pm to dark for our monthly queer SWANA/MENA social\, for the first time in the great outdoors (weather permitting)! \n\n\n\nQwarabs\, Friends and Family of all ages welcome.Registration required using the link below! \n\n\n\nBring something to share and something to sit on like a chair or blanket. Don’t forget bug spray and sun protection. \n\n\n\nLocation and details will be emailed after registration. We hope to see you there!
URL:https://maxottawa.ca/list/qwarabs-picnic/
LOCATION:Ontario
CATEGORIES:Family friendly,Ottawa,Social
END:VEVENT
BEGIN:VEVENT
DTSTART;TZID=America/Toronto:20250723T183000
DTEND;TZID=America/Toronto:20250723T203000
DTSTAMP:20260420T131534
CREATED:20250717T150340Z
LAST-MODIFIED:20250717T150359Z
UID:10003256-1753295400-1753302600@maxottawa.ca
SUMMARY:K1 Cybersecurity
DESCRIPTION:🚨 Cybersecurity doesn’t have to be boring!Join us for this month’s Keeping It 100 (English) on July 23 @ 6:30 PM 🕡 \n\n\n\nWe’re talking all things online safety — no tech jargon\, just real talk\, laughs\, and tips to keep your digital life secure 💻🔐 \n\n\n\n📅 Mark your calendar💬 Bring your questions🍿 Snacks provided \n\n\n\nMake sure to register through the form below!
URL:https://maxottawa.ca/list/k1-cybersecurity/
LOCATION:MAX Ottawa\, 400 Cooper St. Suite 9004\, Ottawa\, Ontario\, K2P 2H8\, Canada
CATEGORIES:MAX Programs,Ottawa,Social
ORGANIZER;CN="MAX Ottawa":MAILTO:info@maxottawa.ca
END:VEVENT
END:VCALENDAR