BEGIN:VCALENDAR
VERSION:2.0
PRODID:-//MAX Ottawa - ECPv6.15.20//NONSGML v1.0//EN
CALSCALE:GREGORIAN
METHOD:PUBLISH
X-WR-CALNAME:MAX Ottawa
X-ORIGINAL-URL:https://maxottawa.ca
X-WR-CALDESC:Events for MAX Ottawa
REFRESH-INTERVAL;VALUE=DURATION:PT1H
X-Robots-Tag:noindex
X-PUBLISHED-TTL:PT1H
BEGIN:VTIMEZONE
TZID:America/Toronto
BEGIN:DAYLIGHT
TZOFFSETFROM:-0500
TZOFFSETTO:-0400
TZNAME:EDT
DTSTART:20240310T070000
END:DAYLIGHT
BEGIN:STANDARD
TZOFFSETFROM:-0400
TZOFFSETTO:-0500
TZNAME:EST
DTSTART:20241103T060000
END:STANDARD
BEGIN:DAYLIGHT
TZOFFSETFROM:-0500
TZOFFSETTO:-0400
TZNAME:EDT
DTSTART:20250309T070000
END:DAYLIGHT
BEGIN:STANDARD
TZOFFSETFROM:-0400
TZOFFSETTO:-0500
TZNAME:EST
DTSTART:20251102T060000
END:STANDARD
BEGIN:DAYLIGHT
TZOFFSETFROM:-0500
TZOFFSETTO:-0400
TZNAME:EDT
DTSTART:20260308T070000
END:DAYLIGHT
BEGIN:STANDARD
TZOFFSETFROM:-0400
TZOFFSETTO:-0500
TZNAME:EST
DTSTART:20261101T060000
END:STANDARD
END:VTIMEZONE
BEGIN:VEVENT
DTSTART;TZID=America/Toronto:20250724T170000
DTEND;TZID=America/Toronto:20250724T190000
DTSTAMP:20260420T231503
CREATED:20250709T202106Z
LAST-MODIFIED:20250709T202158Z
UID:10003227-1753376400-1753383600@maxottawa.ca
SUMMARY:Jackbox Game Night
DESCRIPTION:🃏Bring your A-game\, and your best one-liners! We’ll be playing Jackbox games\, where quick wit\, creativity\, and a little bit of chaos come together for an unforgettable time! ✨ \n\n\n\n🌱Leaf Links is open to youth who are ages 13 to 21 from 2SLGBTQ+ identities\, families\, and communities who are actively involved with a child welfare or Indigenous well-being agency. \n\n\n\n📅Date: Thursday\, July 24th\, 2025⏰Time: 5:00-7:00pm💻 This is a virtual event hosted on Zoom \n\n\n\n🔗Sign up now: See link below to register before July 22 at 5:00PM
URL:https://maxottawa.ca/list/jackbox-game-west/
LOCATION:https://maxottawa.ca/list/jackbox-game-west/
CATEGORIES:Ottawa,Youth
END:VEVENT
BEGIN:VEVENT
DTSTART;TZID=America/Toronto:20250724T190000
DTEND;TZID=America/Toronto:20250724T201000
DTSTAMP:20260420T231503
CREATED:20250602T193247Z
LAST-MODIFIED:20250602T193339Z
UID:10002857-1753383600-1753387800@maxottawa.ca
SUMMARY:Gay Men In Recovery
DESCRIPTION:A weekly hybrid narcotics anonymous group for gay men.  \n\n\n\nTo access the Zoom link\, click the link below\, select Thursday\, and scroll down to “Gay Men In Recovery.” To enter the building\, ring the intercom doorbell on the left side of the main doors if they are locked and a member will let you in. \n\n\n\nMeeting formats and accessibility: \n\n\n\n\nThis meeting is closed to non-addicts. You should attend only if you believe that you may have a problem with substance abuse.\n\n\n\nThis meeting invites participation by all attendees.\n\n\n\nThis meeting is focused on the needs of gay\, lesbian and transgender members of NA.\n\n\n\nThis meeting is meant to be attended by men only.\n\n\n\nThis meeting is wheelchair accessible.\n\n\n\nMeetings virtually and in person.
URL:https://maxottawa.ca/list/gay-men-in-recovery/2025-07-24/
LOCATION:MAX Ottawa\, 400 Cooper St. Suite 9004\, Ottawa\, Ontario\, K2P 2H8\, Canada
CATEGORIES:Ottawa,Regular programming,Service
END:VEVENT
BEGIN:VEVENT
DTSTART;TZID=America/Toronto:20250724T190000
DTEND;TZID=America/Toronto:20250724T203000
DTSTAMP:20260420T231503
CREATED:20250711T202917Z
LAST-MODIFIED:20250715T165636Z
UID:10003236-1753383600-1753389000@maxottawa.ca
SUMMARY:Rooted and Replenish
DESCRIPTION:ROOTED and REPLENISH is a nurturing Hatha Yoga session with Celeste Alcena @_celestialhealing… centered on playfulness and earth-love. Where gentle yoga meets intuitive healing practices (such as sound healing and Reiki). This intimate session includes a tea ritual and oracle card reading to support grounding and inner renewal. \n\n\n\nBring your own yoga mat and any other items to support your comfort & care during the session (water\, blanket\, and blocks\, if you have). We’ll have a few extra mats available. KN95 masks are recommended and available if you need one.
URL:https://maxottawa.ca/list/rooted-and-replenish/
LOCATION:The Grove\, 18 Louisa St.\, Ottawa\, Ontario\, K1R6Y6\, Canada
CATEGORIES:Advocacy & empowerment,Ottawa,Sports and recreation
END:VEVENT
END:VCALENDAR