BEGIN:VCALENDAR
VERSION:2.0
PRODID:-//MAX Ottawa - ECPv6.15.20//NONSGML v1.0//EN
CALSCALE:GREGORIAN
METHOD:PUBLISH
X-ORIGINAL-URL:https://maxottawa.ca
X-WR-CALDESC:Events for MAX Ottawa
REFRESH-INTERVAL;VALUE=DURATION:PT1H
X-Robots-Tag:noindex
X-PUBLISHED-TTL:PT1H
BEGIN:VTIMEZONE
TZID:America/Toronto
BEGIN:DAYLIGHT
TZOFFSETFROM:-0500
TZOFFSETTO:-0400
TZNAME:EDT
DTSTART:20240310T070000
END:DAYLIGHT
BEGIN:STANDARD
TZOFFSETFROM:-0400
TZOFFSETTO:-0500
TZNAME:EST
DTSTART:20241103T060000
END:STANDARD
BEGIN:DAYLIGHT
TZOFFSETFROM:-0500
TZOFFSETTO:-0400
TZNAME:EDT
DTSTART:20250309T070000
END:DAYLIGHT
BEGIN:STANDARD
TZOFFSETFROM:-0400
TZOFFSETTO:-0500
TZNAME:EST
DTSTART:20251102T060000
END:STANDARD
BEGIN:DAYLIGHT
TZOFFSETFROM:-0500
TZOFFSETTO:-0400
TZNAME:EDT
DTSTART:20260308T070000
END:DAYLIGHT
BEGIN:STANDARD
TZOFFSETFROM:-0400
TZOFFSETTO:-0500
TZNAME:EST
DTSTART:20261101T060000
END:STANDARD
END:VTIMEZONE
BEGIN:VEVENT
DTSTART;TZID=America/Toronto:20250727T110000
DTEND;TZID=America/Toronto:20250727T170000
DTSTAMP:20260421T141526
CREATED:20250702T030031Z
LAST-MODIFIED:20250702T030116Z
UID:10003205-1753614000-1753635600@maxottawa.ca
SUMMARY:Queer Market
DESCRIPTION:🏳️‍🌈🏳️‍🌈🏳️‍🌈Queer Market🏳️‍🌈🏳️‍🌈🏳️‍🌈 \n\n\n\nCelebrate creativity\, identity\, and community at this queer-centered market spotlighting 2SLGBTQIA+ makers\, artists\, and small businesses. A collab with @jaxonstellanfenris \n\n\n\nFrom handmade goods to bold fashion\, art\, accessories & beyond — this is a space to shop with pride and support queer creators!! \n\n\n\n🗓️Sat July 26 & Sun\, July 27⏰11 am – 5 pm📍The Nextdoor Market — 955A Gladstone Ave.\, Ottawa in Wellington West \n\n\n\nAll are welcome — come as you are\, and leave with something special. 🏳️‍🌈💫
URL:https://maxottawa.ca/list/queer-market/2025-07-27/
LOCATION:Next Door Market\, 955a Gladstone Ave.\, Ottawa\, Ontario\, Canada
CATEGORIES:Art,Market or festival,Ottawa,Social
END:VEVENT
END:VCALENDAR