BEGIN:VCALENDAR
VERSION:2.0
PRODID:-//MAX Ottawa - ECPv6.15.20//NONSGML v1.0//EN
CALSCALE:GREGORIAN
METHOD:PUBLISH
X-WR-CALNAME:MAX Ottawa
X-ORIGINAL-URL:https://maxottawa.ca
X-WR-CALDESC:Events for MAX Ottawa
REFRESH-INTERVAL;VALUE=DURATION:PT1H
X-Robots-Tag:noindex
X-PUBLISHED-TTL:PT1H
BEGIN:VTIMEZONE
TZID:America/Toronto
BEGIN:DAYLIGHT
TZOFFSETFROM:-0500
TZOFFSETTO:-0400
TZNAME:EDT
DTSTART:20240310T070000
END:DAYLIGHT
BEGIN:STANDARD
TZOFFSETFROM:-0400
TZOFFSETTO:-0500
TZNAME:EST
DTSTART:20241103T060000
END:STANDARD
BEGIN:DAYLIGHT
TZOFFSETFROM:-0500
TZOFFSETTO:-0400
TZNAME:EDT
DTSTART:20250309T070000
END:DAYLIGHT
BEGIN:STANDARD
TZOFFSETFROM:-0400
TZOFFSETTO:-0500
TZNAME:EST
DTSTART:20251102T060000
END:STANDARD
BEGIN:DAYLIGHT
TZOFFSETFROM:-0500
TZOFFSETTO:-0400
TZNAME:EDT
DTSTART:20260308T070000
END:DAYLIGHT
BEGIN:STANDARD
TZOFFSETFROM:-0400
TZOFFSETTO:-0500
TZNAME:EST
DTSTART:20261101T060000
END:STANDARD
END:VTIMEZONE
BEGIN:VEVENT
DTSTART;TZID=America/Toronto:20250812T190000
DTEND;TZID=America/Toronto:20250812T203000
DTSTAMP:20260420T082827
CREATED:20250607T233135Z
LAST-MODIFIED:20250609T161639Z
UID:10003129-1755025200-1755030600@maxottawa.ca
SUMMARY:Queer Death Salon
DESCRIPTION:Thanatophobia is the fear of death. It can involve fear of the dying process (often a fear of pain or discomfort)\, fear of the afterlife (or lack thereof)\, fear of being forgotten\, fear that life is meaningless\, and fear of missing out! This month we will be talking about our fears around our own deaths\, how we manage them\, and how we don’t!  \n\n\n\nQueer Death Salon is a community space for all 2SLGBTQIA+ people to come together to discuss death\, dying and grief. It is a facilitated drop-in discussion space\, with the purpose of building connection\, skill\, and resources for 2SLGBTQIA+ people navigating end of life in our personal lives and in our communities.  \n\n\n\nQueer Death Salon takes place over Zoom\, in English\, with Automatic Closed Captioning
URL:https://maxottawa.ca/list/queer-death-salon-6/
LOCATION:https://maxottawa.ca/list/queer-death-salon-6/
CATEGORIES:Ottawa,Regular programming,Service
ORGANIZER;CN="Queer Community Deathcare":MAILTO:Queercommunitydeathcare@gmail.com
END:VEVENT
END:VCALENDAR