BEGIN:VCALENDAR
VERSION:2.0
PRODID:-//MAX Ottawa - ECPv6.15.20//NONSGML v1.0//EN
CALSCALE:GREGORIAN
METHOD:PUBLISH
X-WR-CALNAME:MAX Ottawa
X-ORIGINAL-URL:https://maxottawa.ca
X-WR-CALDESC:Events for MAX Ottawa
REFRESH-INTERVAL;VALUE=DURATION:PT1H
X-Robots-Tag:noindex
X-PUBLISHED-TTL:PT1H
BEGIN:VTIMEZONE
TZID:America/Toronto
BEGIN:DAYLIGHT
TZOFFSETFROM:-0500
TZOFFSETTO:-0400
TZNAME:EDT
DTSTART:20240310T070000
END:DAYLIGHT
BEGIN:STANDARD
TZOFFSETFROM:-0400
TZOFFSETTO:-0500
TZNAME:EST
DTSTART:20241103T060000
END:STANDARD
BEGIN:DAYLIGHT
TZOFFSETFROM:-0500
TZOFFSETTO:-0400
TZNAME:EDT
DTSTART:20250309T070000
END:DAYLIGHT
BEGIN:STANDARD
TZOFFSETFROM:-0400
TZOFFSETTO:-0500
TZNAME:EST
DTSTART:20251102T060000
END:STANDARD
BEGIN:DAYLIGHT
TZOFFSETFROM:-0500
TZOFFSETTO:-0400
TZNAME:EDT
DTSTART:20260308T070000
END:DAYLIGHT
BEGIN:STANDARD
TZOFFSETFROM:-0400
TZOFFSETTO:-0500
TZNAME:EST
DTSTART:20261101T060000
END:STANDARD
END:VTIMEZONE
BEGIN:VEVENT
DTSTART;TZID=America/Toronto:20250821T093000
DTEND;TZID=America/Toronto:20250821T123000
DTSTAMP:20260424T050519
CREATED:20250813T214019Z
LAST-MODIFIED:20250813T214027Z
UID:10003396-1755768600-1755779400@maxottawa.ca
SUMMARY:ElderQueers (2SLGBTQIA+) Storytelling Workshop
DESCRIPTION:Welcome to Elder Queer (2SLGBTQIA+) Storytelling with Mary Ellen MacLean \n\n\n\nBack by popular demand\, this summer session is open to folks who have never written a story and to those who have. If you have attended one of Mary Ellen’s workshops before\, you are welcome to come back and develop your storytelling skills. Mary Ellen has over 30 years of experience creating work for the stage and collaborating with people of all ages and experience. \n\n\n\nDuring this weeklong workshop the group will meet daily with Mary Ellen to learn some tools/skills in the art of creating a story for the stage and how to perform/tell them. Stories can be serious or comic or a blend of both. Participants may use movement\, puppets\, music – however you want to tell your story\, all are welcome! \n\n\n\nThis workshop offers an opportunity to gather\, deepen your community connections\, and create stories with the support of each other and Mary Ellen’s guidance. The focus is on having FUN\, learning some new skills\, and connecting with each other. \n\n\n\nFamily and friends are invited to the final session to hear the participant’s stories.
URL:https://maxottawa.ca/list/elderqueers-2slgbtqia-storytelling-workshop-2/2025-08-21/
LOCATION:National Arts Centre\, 1 Elgin St\, Ottawa\, ON\, K1P 5W1\, Canada
CATEGORIES:Educational,Ottawa,Pride
END:VEVENT
BEGIN:VEVENT
DTSTART;TZID=America/Toronto:20250821T170000
DTEND;TZID=America/Toronto:20250821T210000
DTSTAMP:20260424T050519
CREATED:20250813T144750Z
LAST-MODIFIED:20250813T144755Z
UID:10003390-1755795600-1755810000@maxottawa.ca
SUMMARY:"All-of-the-Gay" Soirée IV: Under the Stars
DESCRIPTION:Join us for our fourth annual Kind Space Soirée\, as we host a social and dress up night full of mocktails\, socializing\, and even karaoke. “All-of-the-Gay” Soirée is a social event for all those over 18+ in our 2SLGBTQIA+ community. We were so thrilled with the turnout the last three years\, and the amount of donated affirming and accessible formal and business wear! So we have made this an annual event\, and have moved it back to Pride Week in Ottawa!  We will be serving mocktails\, so no alcohol will be served by Kind Space at this event. \n\n\n\nThis event has a broad dress code including our theme of Galaxy or Stars\, or semi-formal; cocktail attire; business casual clothing. The Dress Code is not manditory\, and we want you to wear whatever makes YOU feel comfortable\, elevated or fancy. But you deserve an excuse to dress\, impress\, and enjoy a nice evening without needing to spend money.  \n\n\n\nWe also recognize that not all 2SLGBTQIA+ individuals have access to affordable gender affirming formal or semi-formal clothing\, but may have a desire to wear or own such clothing. This is why every year Kind Space seeks donations for business and formal attire for our “Out of the Closet” clothing space to provide a selection of these affirming garments to be accessible to those who need it. So either it be a nice outfit for a job interview\, a dear friends wedding\, or any occasion that requires pazzaz\, we will still take it. You can donate anytime during our Drop-In operational hours of 12PM-6PM Wednesday to Friday. You can also drop these donations off anytime before\, or during the event. Thank you! \n\n\n\nQuestions can be sent to programming@kindspace.ca
URL:https://maxottawa.ca/list/all-of-the-gay-soiree-iv-under-the-stars/
LOCATION:Kind Space\, 400 Cooper St. suite 9001\, Ottawa\, Ontario\, K2P 2N1\, Canada
CATEGORIES:Nightlife,Ottawa,Parties,Pride,Social
ORGANIZER;CN="Kind Space":MAILTO:carling@kindspace.ca
END:VEVENT
BEGIN:VEVENT
DTSTART;TZID=America/Toronto:20250821T173000
DTEND;TZID=America/Toronto:20250821T210000
DTSTAMP:20260424T050519
CREATED:20250806T141802Z
LAST-MODIFIED:20250806T141850Z
UID:10003368-1755797400-1755810000@maxottawa.ca
SUMMARY:Indie Queer Authors
DESCRIPTION:Come by T’s for a meet & greet with some local queer authors. Stick around as host Eden Moore takes the stage and authors step up to the mic for some readings. \n\n\n\nDoors: 5:30PM \n\n\n\nReadings: 6:00PM \n\n\n\nFeatured Authors:Natalie HannaChris JohnsonStevie MikayneJames K. Moran
URL:https://maxottawa.ca/list/indie-queer-authors/
LOCATION:T’s Pub\, 323 Somerset St W\, Ottawa\, Ontario\, K2P 0J8\, Canada
CATEGORIES:Drag & Burlesque,Ottawa
END:VEVENT
BEGIN:VEVENT
DTSTART;TZID=America/Toronto:20250821T183000
DTEND;TZID=America/Toronto:20250821T233000
DTSTAMP:20260424T050519
CREATED:20250711T212950Z
LAST-MODIFIED:20250714T212212Z
UID:10003240-1755801000-1755819000@maxottawa.ca
SUMMARY:Queers & Beers Pride Edition
DESCRIPTION:🌈 QUEERS & BEERS: PRIDE EDITION🎤 feat. BLK PRL📍 Overflow Brewing — 2477 Kaladar Ave\, Ottawa📅 Thursday\, August 21\, 2025🕡 Doors: 6:30 PM | 🎶 Performances: 8:00 PM🎟️ $15 in advance | $20 at the door🔞 19+ | All genders & sexualities welcome \n\n\n\n⸻ \n\n\n\nGet ready to vibe with your people at the PRIDE edition of Queers & Beers 💫 \n\n\n\nWe’re taking over @overflowbeer for a night of craft brews\, queer joy\, and unforgettable live music. Come solo\, bring your crew\, or find your next crush here — 🫶 \n\n\n\n🎶 LINEUP: \n\n\n\n💿 BLK PRL (aka Sandy Duperval)Montreal-born powerhouse singer\, DJ & producer. Think Whitney Houston soul + Frankie Knuckles energy. She’s toured Europe\, Asia\, & the Middle East — now she’s bringing her House of Love to Ottawa.🎧 Check out her single “BREATHE” — available everywhere. \n\n\n\n💥 OK Naledi (w/ Kira on drums)Ottawa’s own queer\, Motswana-Canadian artist bringing bold vocals and electrifying stage presence. \n\n\n\n🎨 PLUS: Free live face painting from 6–8 PM!✨ Add a little sparkle (or a LOT). Limited spots — come early! \n\n\n\n🌈 First time? Coming alone?We got you — say hi to our Gay Greet Team 💖 They’re here to welcome you\, help you meet new folks & get comfy. \n\n\n\n⸻ \n\n\n\n🫶 SOCIAL HOUR: 6:30 PM🎤 SHOW: 8:00 PM💸 TICKETS: $15 online | $20 at the door \n\n\n\nCome for the beer\, stay for the music\, leave with a full heart 💖 \n\n\n\n♿ ACCESSIBILITY: Overflow Brewing is fully accessible with an accessible entrance & washrooms. Outdoor patio if weather allows!
URL:https://maxottawa.ca/list/queers-beers-pride-edition-2/
LOCATION:Overflow Brewery\, 2477 Kaladar ave.\, Ottawa\, Ontario\, K1V 8B9\, Canada
CATEGORIES:Nightlife,Ottawa,Parties,Social
ORGANIZER;CN="Queering 613":MAILTO:queering613@gmail.com
END:VEVENT
BEGIN:VEVENT
DTSTART;TZID=America/Toronto:20250821T190000
DTEND;TZID=America/Toronto:20250821T201000
DTSTAMP:20260424T050519
CREATED:20250602T193247Z
LAST-MODIFIED:20250602T193339Z
UID:10002861-1755802800-1755807000@maxottawa.ca
SUMMARY:Gay Men In Recovery
DESCRIPTION:A weekly hybrid narcotics anonymous group for gay men.  \n\n\n\nTo access the Zoom link\, click the link below\, select Thursday\, and scroll down to “Gay Men In Recovery.” To enter the building\, ring the intercom doorbell on the left side of the main doors if they are locked and a member will let you in. \n\n\n\nMeeting formats and accessibility: \n\n\n\n\nThis meeting is closed to non-addicts. You should attend only if you believe that you may have a problem with substance abuse.\n\n\n\nThis meeting invites participation by all attendees.\n\n\n\nThis meeting is focused on the needs of gay\, lesbian and transgender members of NA.\n\n\n\nThis meeting is meant to be attended by men only.\n\n\n\nThis meeting is wheelchair accessible.\n\n\n\nMeetings virtually and in person.
URL:https://maxottawa.ca/list/gay-men-in-recovery/2025-08-21/
LOCATION:MAX Ottawa\, 400 Cooper St. Suite 9004\, Ottawa\, Ontario\, K2P 2H8\, Canada
CATEGORIES:Ottawa,Regular programming,Service
END:VEVENT
BEGIN:VEVENT
DTSTART;TZID=America/Toronto:20250821T190000
DTEND;TZID=America/Toronto:20250821T210000
DTSTAMP:20260424T050519
CREATED:20250723T020420Z
LAST-MODIFIED:20250724T025118Z
UID:10003273-1755802800-1755810000@maxottawa.ca
SUMMARY:CRAFTS & GABS - Big Dyke Weekend
DESCRIPTION:Welcome to BIG DYKE WEEKEND! Calling all dykes\, lesbians\, studs\, wlw babes\, T4T angels\, lipstick femmes\, weathered leathered butches\, gender f*cked girls boys and toys. This is for you. \n\n\n\nThis is the ticket page for CRAFTS & GABS! \n\n\n\nAUGUST 21ST. 7-9PM. 19+. \n\n\n\nchill. pwyc. KN95 or better required. indoor event. \n\n\n\nfor not-cis-man-queers who wanna be social in a low-stimulus space. bring your own craft stuff or use some supplies provided.  \n\n\n\nNO WEATHER-RELATED REFUNDS PERMITTED.
URL:https://maxottawa.ca/list/crafts-gabs-big-dyke-weekend/
LOCATION:Art House\, 555 Somerset St. West\, Ottawa\, Ontario\, K1R5K1\, Canada
CATEGORIES:Art,Ottawa,Pride,Social
ORGANIZER;CN="Maggie May Harder":MAILTO:maggiemharder@icloud.com
END:VEVENT
BEGIN:VEVENT
DTSTART;TZID=America/Toronto:20250821T190000
DTEND;TZID=America/Toronto:20250821T230000
DTSTAMP:20260424T050519
CREATED:20250725T171209Z
LAST-MODIFIED:20250725T201447Z
UID:10003332-1755802800-1755817200@maxottawa.ca
SUMMARY:Meet Cute - 30s+ Edition
DESCRIPTION:Welcome to Meet Cute – Queer Trans and Non-Binary Speed Social (for friending or dating)! Join us for a fun and exciting in-person event where you can meet new people aged 30 and above in a COVID-conscious space. Whether you’re looking for friendship or romance\, this event is the perfect opportunity to connect with others in the 2sLGBTQia+ community. So mark your calendars and get ready for a night of laughter\, conversation\, and maybe even a little bit of flirting. Don’t forget to bring your mask! We can’t wait to see you there! \n\n\n\nThis is a low/no scent\, masked\, and sober event! \n\n\n\n2 air filters will be on\, with central Air Conditioning. Beverages will be allowed during breaks and open social time. \n\n\n\nEtiquette: \n\n\n\n\nDon’t assume someone’s gender identity\, or ethnicity\n\n\n\nDon’t assume someone’s interest\n\n\n\nAsk for consent before touching\, even if it’s just a handshake\n\n\n\nDon’t be homophobic or transphobic\n\n\n\nDon’t be racist or ableist\n\n\n\nOffer your own contact info instead of asking for someone’s contact information\n\n\n\nDon’t assume someone’s age (do ask!)\n\n\n\n\nIf someone is being inappropriate or unsafe\, please let Adrienne or Hingman know immediately and we will have a conversation and determine next steps.
URL:https://maxottawa.ca/list/meet-cute-30s-edition/
LOCATION:The Grove\, 18 Louisa St.\, Ottawa\, Ontario\, K1R6Y6\, Canada
CATEGORIES:Ottawa,Pride,Social
END:VEVENT
BEGIN:VEVENT
DTSTART;TZID=America/Toronto:20250821T200000
DTEND;TZID=America/Toronto:20250821T230000
DTSTAMP:20260424T050519
CREATED:20250804T203403Z
LAST-MODIFIED:20250804T203420Z
UID:10003363-1755806400-1755817200@maxottawa.ca
SUMMARY:Capital Pride Pageant
DESCRIPTION:Do you know what it takes to be crowned Capital Pride royalty? Join us at the National Arts Centre as local drag performers compete for the titles of Mr.\, Mx.\, and Ms. Capital Pride 2025. \n\n\n\nHosted by Cyril Cinder\, and judged by Kiki Coe\, Hercusleaze\, and Capital Pride’s 2025 Grand Marshall\, Miss. Patience Plush. Also joining us is the 2024 Royal Court\, Vera\, BJ Stroker\, and Edith Puthie. You don’t want to miss their step down performances! \n\n\n\nAccess notes: \n\n\n\nAccessible Entrances: The Elgin Street entrance is recommended for drop-offs. Parking vestibule 2 and 3 are accessible \n\n\n\nAccessible Parking: Accessible parking is available on Parking 2 and Parking 3 levels near the elevators \n\n\n\nAccessible Washrooms: Yes \n\n\n\nASL: The interpretation section is located at the front left side of Southam Hall in rows FF and EE. To view and book ASL tickets\, enter the code ASLPride25 in the promotional code field on the ticket page. \n\n\n\nDesignated Seating: Yes\, when purchasing tickets accessible seating options are provided. \n\n\n\nKnown Triggers/Warnings: loud noises\, music\, crowds\, full stage lighting\, alcohol being served in the lobby. \n\n\n\nMore Information: https://nac-cna.ca/en/visit/accessibility \n\n\n\nMasking is strongly encouraged. N95s will be available. 
URL:https://maxottawa.ca/list/capital-pride-pageant/
LOCATION:National Arts Centre\, 1 Elgin St\, Ottawa\, ON\, K1P 5W1\, Canada
CATEGORIES:Drag & Burlesque,Nightlife,Ottawa,Pride
END:VEVENT
BEGIN:VEVENT
DTSTART;TZID=America/Toronto:20250821T210000
DTEND;TZID=America/Toronto:20250822T020000
DTSTAMP:20260424T050519
CREATED:20250821T162426Z
LAST-MODIFIED:20250821T162440Z
UID:10003405-1755810000-1755828000@maxottawa.ca
SUMMARY:Slut Ranch
DESCRIPTION:Mosey over to Slut Ranch where we’re taking over two floors of Berlin nightclub in downtown Ottawa. We’re going to have queers kickin\, up dust and getting wrangled into something sweaty\, glitchy\, and gloriously unhinged. This HOE-down is where Alt bands meet slutty glitchcore\, and hard techno DJs. so pull up your boots and get ready to fucking dance and get a little slutty as the music gets harder and HARDER into the night.
URL:https://maxottawa.ca/list/slut-ranch/
LOCATION:Berlin Nightclub\, 56 Byward Market Sq\, Ottawa\, Ontario\, K1N 7A2\, Canada
CATEGORIES:Nightlife,Ottawa,Parties,Pride,Sex positive,Social
END:VEVENT
BEGIN:VEVENT
DTSTART;TZID=America/Toronto:20250821T230000
DTEND;TZID=America/Toronto:20250822T020000
DTSTAMP:20260424T050519
CREATED:20250804T204233Z
LAST-MODIFIED:20250804T204256Z
UID:10003364-1755817200-1755828000@maxottawa.ca
SUMMARY:Capital Pride Pageant After Party
DESCRIPTION:What better way to celebrate the crowning of the 2025 Royal Court than at the Official Capital Pride Pageant After Party? \n\n\n\nCelebrate all the contestants and see the new Royal Court and talented judges perform. Don’t wait to get your tickets\, this event always sells out! \n\n\n\nAccess Notes  \n\n\n\nAccessible Entrances: The entrance from Queen St is flat and accessible \n\n\n\nAccessible Parking: There is underground paid parking at the location. There is an elevator up to Queen St Fare. \n\n\n\nWashrooms: The washrooms are accessible. \n\n\n\nSeating: There is no designated seating\, but there is a variety of seating available. \n\n\n\nKnown triggers/warnings: dim lighting\, crowds\, loud music\, alcohol being served
URL:https://maxottawa.ca/list/capital-pride-pageant-after-party/
LOCATION:Queen Street Fare\, 170 Queen St\, Ottawa\, ON\, K1P 5E1\, Canada
CATEGORIES:Drag & Burlesque,MAX Programs,Nightlife,Ottawa,Parties,Pride
END:VEVENT
END:VCALENDAR