BEGIN:VCALENDAR
VERSION:2.0
PRODID:-//MAX Ottawa - ECPv6.15.20//NONSGML v1.0//EN
CALSCALE:GREGORIAN
METHOD:PUBLISH
X-ORIGINAL-URL:https://maxottawa.ca
X-WR-CALDESC:Events for MAX Ottawa
REFRESH-INTERVAL;VALUE=DURATION:PT1H
X-Robots-Tag:noindex
X-PUBLISHED-TTL:PT1H
BEGIN:VTIMEZONE
TZID:America/Toronto
BEGIN:DAYLIGHT
TZOFFSETFROM:-0500
TZOFFSETTO:-0400
TZNAME:EDT
DTSTART:20240310T070000
END:DAYLIGHT
BEGIN:STANDARD
TZOFFSETFROM:-0400
TZOFFSETTO:-0500
TZNAME:EST
DTSTART:20241103T060000
END:STANDARD
BEGIN:DAYLIGHT
TZOFFSETFROM:-0500
TZOFFSETTO:-0400
TZNAME:EDT
DTSTART:20250309T070000
END:DAYLIGHT
BEGIN:STANDARD
TZOFFSETFROM:-0400
TZOFFSETTO:-0500
TZNAME:EST
DTSTART:20251102T060000
END:STANDARD
BEGIN:DAYLIGHT
TZOFFSETFROM:-0500
TZOFFSETTO:-0400
TZNAME:EDT
DTSTART:20260308T070000
END:DAYLIGHT
BEGIN:STANDARD
TZOFFSETFROM:-0400
TZOFFSETTO:-0500
TZNAME:EST
DTSTART:20261101T060000
END:STANDARD
END:VTIMEZONE
BEGIN:VEVENT
DTSTART;TZID=America/Toronto:20250821T210000
DTEND;TZID=America/Toronto:20250822T020000
DTSTAMP:20260422T142452
CREATED:20250821T162426Z
LAST-MODIFIED:20250821T162440Z
UID:10003405-1755810000-1755828000@maxottawa.ca
SUMMARY:Slut Ranch
DESCRIPTION:Mosey over to Slut Ranch where we’re taking over two floors of Berlin nightclub in downtown Ottawa. We’re going to have queers kickin\, up dust and getting wrangled into something sweaty\, glitchy\, and gloriously unhinged. This HOE-down is where Alt bands meet slutty glitchcore\, and hard techno DJs. so pull up your boots and get ready to fucking dance and get a little slutty as the music gets harder and HARDER into the night.
URL:https://maxottawa.ca/list/slut-ranch/
LOCATION:Berlin Nightclub\, 56 Byward Market Sq\, Ottawa\, Ontario\, K1N 7A2\, Canada
CATEGORIES:Nightlife,Ottawa,Parties,Pride,Sex positive,Social
END:VEVENT
BEGIN:VEVENT
DTSTART;TZID=America/Toronto:20250821T230000
DTEND;TZID=America/Toronto:20250822T020000
DTSTAMP:20260422T142452
CREATED:20250804T204233Z
LAST-MODIFIED:20250804T204256Z
UID:10003364-1755817200-1755828000@maxottawa.ca
SUMMARY:Capital Pride Pageant After Party
DESCRIPTION:What better way to celebrate the crowning of the 2025 Royal Court than at the Official Capital Pride Pageant After Party? \n\n\n\nCelebrate all the contestants and see the new Royal Court and talented judges perform. Don’t wait to get your tickets\, this event always sells out! \n\n\n\nAccess Notes  \n\n\n\nAccessible Entrances: The entrance from Queen St is flat and accessible \n\n\n\nAccessible Parking: There is underground paid parking at the location. There is an elevator up to Queen St Fare. \n\n\n\nWashrooms: The washrooms are accessible. \n\n\n\nSeating: There is no designated seating\, but there is a variety of seating available. \n\n\n\nKnown triggers/warnings: dim lighting\, crowds\, loud music\, alcohol being served
URL:https://maxottawa.ca/list/capital-pride-pageant-after-party/
LOCATION:Queen Street Fare\, 170 Queen St\, Ottawa\, ON\, K1P 5E1\, Canada
CATEGORIES:Drag & Burlesque,MAX Programs,Nightlife,Ottawa,Parties,Pride
END:VEVENT
BEGIN:VEVENT
DTSTART;TZID=America/Toronto:20250822T093000
DTEND;TZID=America/Toronto:20250822T123000
DTSTAMP:20260422T142452
CREATED:20250813T214019Z
LAST-MODIFIED:20250813T214027Z
UID:10003397-1755855000-1755865800@maxottawa.ca
SUMMARY:ElderQueers (2SLGBTQIA+) Storytelling Workshop
DESCRIPTION:Welcome to Elder Queer (2SLGBTQIA+) Storytelling with Mary Ellen MacLean \n\n\n\nBack by popular demand\, this summer session is open to folks who have never written a story and to those who have. If you have attended one of Mary Ellen’s workshops before\, you are welcome to come back and develop your storytelling skills. Mary Ellen has over 30 years of experience creating work for the stage and collaborating with people of all ages and experience. \n\n\n\nDuring this weeklong workshop the group will meet daily with Mary Ellen to learn some tools/skills in the art of creating a story for the stage and how to perform/tell them. Stories can be serious or comic or a blend of both. Participants may use movement\, puppets\, music – however you want to tell your story\, all are welcome! \n\n\n\nThis workshop offers an opportunity to gather\, deepen your community connections\, and create stories with the support of each other and Mary Ellen’s guidance. The focus is on having FUN\, learning some new skills\, and connecting with each other. \n\n\n\nFamily and friends are invited to the final session to hear the participant’s stories.
URL:https://maxottawa.ca/list/elderqueers-2slgbtqia-storytelling-workshop-2/2025-08-22/
LOCATION:National Arts Centre\, 1 Elgin St\, Ottawa\, ON\, K1P 5W1\, Canada
CATEGORIES:Educational,Ottawa,Pride
END:VEVENT
BEGIN:VEVENT
DTSTART;TZID=America/Toronto:20250822T180000
DTEND;TZID=America/Toronto:20250822T200000
DTSTAMP:20260422T142452
CREATED:20250813T143618Z
LAST-MODIFIED:20250813T143627Z
UID:10003387-1755885600-1755892800@maxottawa.ca
SUMMARY:Ottawa Trans March
DESCRIPTION:When trans rights are under attack\, what do we do? We organize\, we rally\, we march! Join us on August 22nd at 6PM at Bank and MacLaren for the 2025 Ottawa Trans March. \n\n\n\nTogether\, we’ll make our voices heard\, reject hate and advocate for trans liberation – for freedom\, equality and human rights. We invite trans and gender diverse people\, the people who love and support us\, and other allies to join us as we take to the streets. Bring your friends\, bring your family\, and let’s show the power of our movement! \n\n\n\nThe Ottawa Trans March is a community event led by a small organizing committee of trans and gender diverse people in Ottawa. If you’d like to get involved and help make this year’s march a success\, send us a message! \n\n\n\nLet’s do this!
URL:https://maxottawa.ca/list/ottawa-trans-march/
LOCATION:ON
CATEGORIES:Advocacy & empowerment,Ottawa,Pride
END:VEVENT
BEGIN:VEVENT
DTSTART;TZID=America/Toronto:20250822T183000
DTEND;TZID=America/Toronto:20250822T230000
DTSTAMP:20260422T142452
CREATED:20250725T165709Z
LAST-MODIFIED:20250725T201310Z
UID:10003330-1755887400-1755903600@maxottawa.ca
SUMMARY:Crowned In Colour: A Night Of Kings
DESCRIPTION:👑Capital Kingdom presents Crowned in Colour: a Night of Kings👑 \n\n\n\nWe are bringing together the fiercest kings who competed in the Mr Luscious King drag king competition\, to light up the stage in an unforgettable celebration of drag artistry and Pride. \n\n\n\nGet ready for jaw-dropping performances\, dazzling costumes\, and show-stopping moves\, as these kings will show you what it takes to rule the night. \n\n\n\nJoin us as we paint the capital in every colour of the rainbow and celebrate the kings who are rewriting the rules and reclaiming their thrones! \n\n\n\nCome in early to mingle\, enjoy some tasty food from Nostalgica\, then stay to watch the show. \n\n\n\nCheck out Nostalgica’s menu: https://nostalgica.ca/ \n\n\n\nHosted by: 👑BJ Stroker – Mr Capital Pride 2024 @bj_stroker \n\n\n\n👑Ego Stroker – 2nd place @ego_stroker.king \n\n\n\n👑Hong Dong – Audience Choice @king.hongdong \n\n\n\n👑More performers to come. \n\n\n\nGet your tickets NOW\, and prepare to be crowned in colour! \n\n\n\n🗓️ Date: Friday Aug 22nd \n\n\n\n📍Location: Nostalgica @nostalgica_pub \n\n\n\n⏰ Social at 6:30 pm | Show at 8:30 pm \n\n\n\n🎟️ Ticket: $15 in advance | $20 at the door \n\n\n\nMasks will be available at the door for anyone who wishes to wear one. \n\n\n\nThe venue is accessible.
URL:https://maxottawa.ca/list/crowned-in-colour-a-night-of-kings/
LOCATION:nostalgica\, 601 Cumberland St\, Ottawa\, Ontario\, K1N6N5\, Canada
CATEGORIES:Drag & Burlesque,Nightlife,Ottawa,Pride,Sex positive
END:VEVENT
BEGIN:VEVENT
DTSTART;TZID=America/Toronto:20250822T190000
DTEND;TZID=America/Toronto:20250822T203000
DTSTAMP:20260422T142452
CREATED:20250821T165503Z
LAST-MODIFIED:20250821T165519Z
UID:10003406-1755889200-1755894600@maxottawa.ca
SUMMARY:Come Through: Black Queer Drop-Ins
DESCRIPTION:Come Through: Black Queer Drop-Ins with Project Agape \n\n\n\nProject Agape has teamed up with The Grove to create a monthly gathering space for Black queer folks. These sessions are designed to offer a safe\, welcoming\, and inclusive environment where we can unwind\, connect\, and simply be ourselves. \n\n\n\nJoin us every month for an evening of relaxation\, fun\, and community! \n\n\n\nWe’re back with the second event in our Black Queer Drop-In series and this session all about rhythm\, joy\, and movement! Join us for an Afrobeat Dance Class\, where we’ll move\, groove\, and celebrate our bodies in community. Whether you’re a seasoned dancer or just want to vibe\, this session is all about fun\, freedom\, and connection. \n\n\n\nOur cozy and colorful space is perfect for dancing and it has chairs so you can relax your way. This is a mask-friendly space centering Black joy\, comfort\, and care. \n\n\n\nWe encourage you to bring water\, electrolytes\, and any snacks you may need to stay energized and nourished throughout the session. Come as you are as there’s something here for everyone. \n\n\n\nA special thank you to The Grove for sponsoring this event by providing us with a welcoming space where we can gather\, connect\, and feel supported. We truly appreciate your support in making this initiative possible! \n\n\n\nWhat to Expect: \n\n\n\n\nA beginner-friendly Afrobeat dance session as all levels welcome.\n\n\n\nA chill\, affirming space centering Black queer joy and movement.\n\n\n\nFlexible vibes: dance\, lounge\, or just take it in at your own pace.\n\n\n\nBring water\, electrolytes\, and snacks to stay energized.\n\n\n\nMask-friendly and community-centered\, just come as you are!\n\n\n\n\nThese drop-in sessions will be held monthly\, with a rotating mix of activities\, and we can’t wait to see you there! \n\n\n\nBring your whole self\, bring a friend\, we’ll see you there!
URL:https://maxottawa.ca/list/come-through-black-queer-drop-ins-2/
LOCATION:The Grove\, 18 Louisa St.\, Ottawa\, Ontario\, K1R6Y6\, Canada
CATEGORIES:Advocacy & empowerment,Ottawa,Regular programming,Social
END:VEVENT
BEGIN:VEVENT
DTSTART;TZID=America/Toronto:20250822T190000
DTEND;TZID=America/Toronto:20250823T020000
DTSTAMP:20260422T142452
CREATED:20250725T194422Z
LAST-MODIFIED:20250821T172313Z
UID:10003345-1755889200-1755914400@maxottawa.ca
SUMMARY:Queen & Queer
DESCRIPTION:AUGUST 22: QUEEN & QUEER is beyond excited to take over Ottawa with not one but 2 events!😮😍 \n\n\n\nOccupy the space\, that’s what we do every time we throw a dance party\, and Ottawa has truly become our new home. Huge and special thank you to @fiertecappride for their trust and for giving us the freedom to express ourselves. \n\n\n\n🪩Burlesque💥Afro dance🪩 Waacking💥 Drag kings🎧 And of course\, the hottest DJs in the city! \n\n\n\nTwo events\, two different vibes:💥The Main Stage : big\, bold\, and bursting with energy \n\n\n\n🌙 The After Party\, at @27club_ottawa for a more intimate dance party\, by and for the lesboqueer community 🌈 \n\n\n\nBecause at the end of the day… Music is the answer. So let’s be PROUD. Let’s be BEAUTIFUL. \n\n\n\nCome celebrate with us ❤️ \n\n\n\n🔥🔥🔥🔥🔥🔥🔥 \n\n\n\n22 AOÛT : QUEEN & QUEER est plus qu’excité·e de prendre d’assaut Ottawa avec non pas un… mais 2 événements! 😮😍 \n\n\n\nOccuper l’espace\, c’est ce qu’on fait à chaque fois qu’on organise une soirée\, et Ottawa est réellement devenue notre nouvelle maison. Un immense merci à @fiertecappride pour leur confiance et pour nous donner la liberté de nous exprimer. \n\n\n\n🪩 Burlesque💥 Afro dance🪩 Waacking💥 Drag kings🎧 Et bien sûr… les DJs les plus hot de la ville! \n\n\n\n✨ Deux événements\, deux vibes différentes :💥 Main Stage – grandiose\, explosif et rempli d’énergie avec un line up de fou! \n\n\n\n🌙 After Party au @27club_ottawa\, une soirée intime mais full énergique\, par et pour la communauté lesboqueer 🌈 \n\n\n\nOn t’attend sur le dancefloor pour célébrer la Fierté! parmi nous.
URL:https://maxottawa.ca/list/queen-queer/
LOCATION:The 27 Club\, 27 York St\, Ottawa\, ON\, K1N 5S7\, Canada
CATEGORIES:Nightlife,Ottawa,Parties,Pride
END:VEVENT
BEGIN:VEVENT
DTSTART;TZID=America/Toronto:20250822T210000
DTEND;TZID=America/Toronto:20250823T220000
DTSTAMP:20260422T142452
CREATED:20250723T014735Z
LAST-MODIFIED:20250724T025008Z
UID:10003272-1755896400-1755986400@maxottawa.ca
SUMMARY:T4T PJ PARTY - Big Dyke Weekend
DESCRIPTION:Welcome to BIG DYKE WEEKEND! Calling all dykes\, lesbians\, studs\, wlw babes\, T4T angels\, lipstick femmes\, weathered leathered butches\, gender f*cked girls boys and toys. This is for you. \n\n\n\nThis is the ticket page for T4T PJ PARTY! \n\n\n\nAUGUST 22ND. 9PM-1AM. 19+. \n\n\n\nsweaty. $15. masks required indoors. \n\n\n\ncalling all trannies\, dolls\, girlboys & gender freaks ready to dance and flirt in their binders and bras.  \n\n\n\nThis event is for anyone not cis. My cis girlies\, i love you\, come to Crafts & Gabs or Dyke Dino party! \n\n\n\nNO WEATHER-RELATED REFUNDS PERMITTED.
URL:https://maxottawa.ca/list/t4t-pj-party-big-dyke-weekend/
LOCATION:Art House\, 555 Somerset St. West\, Ottawa\, Ontario\, K1R5K1\, Canada
CATEGORIES:Nightlife,Ottawa,Parties,Pride
ORGANIZER;CN="Maggie May Harder":MAILTO:maggiemharder@icloud.com
END:VEVENT
BEGIN:VEVENT
DTSTART;TZID=America/Toronto:20250822T213000
DTEND;TZID=America/Toronto:20250823T020000
DTSTAMP:20260422T142452
CREATED:20250725T174221Z
LAST-MODIFIED:20250725T201034Z
UID:10003338-1755898200-1755914400@maxottawa.ca
SUMMARY:Revolt of the Freaks: A Pride Spectacular
DESCRIPTION:🎪 WELCOME TO THE FREAKSHOW 🎪 \n\n\n\nA Night of Drag\, Art & All Things Uncanny \n\n\n\nStep right up\, strange ones!! Beasts\, beauties\, and all things in between—the circus has come to town\, and it’s queerer than ever. We’re embracing the bizarre and experiencing the weird as wonderful! Join us for a spectacular descent into glitter-soaked madness\, body horror glamour\, and full-blown freaky fantasy!! \n\n\n\nLIVE PERFORMANCES by twisted stars\, drag royalty\, and circus artists: \n\n\n\nHelena Poison (Canada’s Drag Race\, season 5)\, Yovska (The Boulet Brothers’ Dragula season 3 & The Boulet Brothers’ Dragula: Titans)\, Van Goth\, Edith Puthie\, Oliver Twisted\, Anni Elation\, Morgan Morbid\, Torinado\, Twizzil & Maya \n\n\n\nWe’ll make sure you stay haunted on the dancefloor with DJ sets by: Hibo Lagerfeld\, Lil Fridge\, KAA$H\, and DJ Celestial \n\n\n\nART MARKET from 9:30–11PM \n\n\n\nShop strange and stunning creations by local queer artists. Support the makers\, the movers\, the magic-workers. \n\n\n\nMEET & GREET EXPERIENCE \n\n\n\nWant to get freaky face to face? Get a pro photo snapped and have a moment with the stars themselves: Helena Poison\, Yovska\, Van Goth!! The meet and greet tickets include your general admission! \n\n\n\nCome dressed to disturb\, excite and amaze – whatever that means to you! We want you to scream\, shout and shake! Be ready to celebrate the beautiful grotesque! This isn’t just a show—it’s a spectacle of the surreal\, a tribute to those who’ve always been “too much.” \n\n\n\nDon’t miss your chance to be part of the carnivalesque chaos. \n\n\n\nStep into the spotlight. Step into the strange. Welcome to the Freakshow.
URL:https://maxottawa.ca/list/revolt-of-the-freaks-a-pride-spectacular/
LOCATION:Bronson Centre\, 211 Bronson Ave.\, Ottawa\, Ontario\, K1R 5H6\, Canada
CATEGORIES:Drag & Burlesque,Nightlife,Ottawa,Parties,Pride,Sex positive
ORGANIZER;CN="Be Proud Productions":MAILTO:beproud.prods@gmail.com
END:VEVENT
BEGIN:VEVENT
DTSTART;TZID=America/Toronto:20250822T220000
DTEND;TZID=America/Toronto:20250823T020000
DTSTAMP:20260422T142452
CREATED:20250714T214208Z
LAST-MODIFIED:20250715T165423Z
UID:10003241-1755900000-1755914400@maxottawa.ca
SUMMARY:No Boys Allowed: Jungle Heat
DESCRIPTION:The bi-babes of House of Kink invite you to unleash with us at our third No Boys Allowed (NBA) event: Jungle Heat. \n\n\n\nNBA events are intentionally curated to be sanctuaries for bi+* women and non-men to connect\, celebrate their erotic selves\, and embrace their wildest curiosities. \n\n\n\nStep into this steamy jungle fever dream\, where our fiercely talented DJs will lay down beats that pulse through your veins and ignite your primal side. Get lost in the heat of the dancefloor—or explore our kinky and sensual experience stations designed to tease\, tempt\, and awaken every sense. Meanwhile\, the fabulous Sky Lounge crew will keep the cocktails flowing—handcrafted\, delicious\, and as bold as you are. \n\n\n\nStep into a safe\, vibrant space where your authentic\, untamed self is free to bloom. This lush garden of pleasure is curated and cared for entirely by women DJs and staff. \n\n\n\nTheme + Dress code: While kink/fetish wear isn’t mandatory for NBA events\, it’s still strongly encouraged. This is your invitation to dress in whatever makes you feel wild and sexy. Let the jungle theme evoke your imagination—think fierce\, floral\, animal print\, or barely-there. Come dressed to express your sensual self. \n\n\n\nIf you’re unsure what to wear\, DM the HoK team. \n\n\n\nWe have created a Pinterest board to help inspire you: \n\n\n\n\n\n\n\n\n\nWho is this for? \n\n\n\nNBA events are exclusively welcoming to those who identify as women or as non-men (including trans women and non-binary individuals). \n\n\n\n[Don’t worry\, more HoK parties that are open to everyone are coming soon – see our socials for info!] \n\n\n\nAlthough NBA events center bisexual/bi+ women and non-men\, all sexualities are welcome\, including lesbian\, queer\, pansexual\, omni sexual\, asexual\, heterosexual\, and other multisexual identities. All lifestyles\, backgrounds\, and body types are welcome. \n\n\n\n*Bi+ meaning centering bisexual and bi-curious women/non-men\, but also inclusive of queer\, pansexual\, lesbian\, sapphic\, asexual\, omnisexual and other multisexual identities. \n\n\n\nEvent Rules – please read the following carefully before attending: \n\n\n\nThis event is exclusively for women and those who identify as non-men (Don’t worry—more HoK parties open to everyone are coming soon! Follow our socials for updates.) \n\n\n\nConsent is key. Always seek clear\, enthusiastic\, and ongoing consent before physical contact or activity. \n\n\n\nPublic sex and exposed genitals are not permitted on the premises. \n\n\n\nPersonal kinky tools/toys (e.g.\, whips\, floggers) are not allowed at the event. \n\n\n\nPersonal photography: A designated photography-safe zone will be available. To protect guest privacy\, please take photos only in this area. \n\n\n\nProfessional photography: A woman photographer will be present for part of the evening to capture images of consenting guests. \n\n\n\nAll professional photos will be shared with ticket holders using the email address associated with ticket purchase. This usually happens within 2 weeks of the event. \n\n\n\nA separate album with photos being considered for use for promotional purposes will also be sent to ticket holders. Guests will be given two weeks from the date we send the album to notify the HoK team if they want any photos from this album to be removed from being considered for any NBA promotions. \n\n\n\nIf you do not wish to be photographed or have concerns about future promotional use\, please inform the photographer or a HoK Team Member. \n\n\n\nSupport & assistance: If you feel unsafe\, are being bothered\, or have any concerns\, please notify a HoK Team Member. \n\n\n\nHigh-visibility yellow armbands will identify team members. \n\n\n\nYou can also report to the person at the door\, who will connect you with a HoK Team Member. \n\n\n\nTickets & Venue Details\n\n\n\nAdvance ticket purchase is required. Tickets are rarely available at the door. \n\n\n\nSky Lounge offers coat check ($2) for jackets and bags. If you are a smoker and will need access to your coat to step out for smokes throughout the night\, please let the coat check staff know and they can assure your coat is easily accessible. \n\n\n\nFor guest privacy\, Sky Lounge’s front windows will be covered on the night of the event. \n\n\n\nMUSIC BY: \n\n\n\nDANI ignites the dancefloor with a fierce blend of acid house and tech house\, delivering sexy\, high-energy vibes through her sets. With an electrifying presence behind the decks\, Dani is carving out her space in the Ottawa scene\, turning every set into a techno kitty adventure! \n\n\n\nhttps://www.instagram.com/danikabenoit \n\n\n\nhttps://www.mixcloud.com/danikittyadventures/ \n\n\n\nhttps://on.soundcloud.com/BmBh9MyUNoJJbYH0qx \n\n\n\nMADISON is a rising force in Ottawa’s house music scene\, proving she knows exactly how to make bodies move and booties shake on any dancefloor. Over the past few years\, she’s been slaying the local scene\, performing with a variety of Ottawa’s event collectives and rocking the decks at signature clubs like City at Night and 27 Club. This summer\, she stepped onto the festival stage for the first time\, delivering high-energy sets at Camp Summerdaze and Front Republic Music Festival. Effortlessly blending brooding basslines with ethereal\, spacey melodies\, MADISON likes to get deep\, dark and dirty\, sprinkled with a dash of funk. With every set\, MADISON hopes to inspire a sonic exploration of the human condition\, encouraging listeners to find catharsis\, connection\, and an undying spirit of rebellion. \n\n\n\nLINKS: \n\n\n\nhttps://soundcloud.com/djjustmadison \n\n\n\nhttps://www.instagram.com/justmadison \n\n\n\nALAMUSIC is a Canadian DJ based in Ottawa\, Ontario\, known for her funky fusion of House music styles\, including Afro\, Deep\, Tech\, and Disco grooves. A resident DJ at Afterlight—Ottawa’s underground lounge & listening bar—she’s also a key player behind Beyond City Beats\, a fresh initiative designed to connect\, inspire\, and grow Ottawa’s thriving underground dance music community. \n\n\n\nALAMUSIC has ignited dance floors across various venues and festivals. Highlights include performances Iglooofest Gatineau opening for Eric Prydz and City at Night where she has opened for the likes of Chus\, Sydney Blu\, Karsten Sollors\, SOSA UK and Return of the Jaded. This past summer\, she also performed at RBC Bluesfest with a 3-night residency at the Accora Village SPIN STAGE for the second consecutive year. \n\n\n\nBeyond Ottawa\, she’s spun at the Wiggle Room in Toronto\, Why Not Rooftop Patio in Playa Del Carmen\, Mexico\, the Modern Agenda Showcase at ADE in Amsterdam and Resonance Musique Resort in Varadero\, Cuba. Her festival roster boasts appearances at Black Rabbit Campout\, Front Republic and Gaia Fest in Quebec\, Camp Wiggly and PHANTOMFEST in Ontario\, and Electric Pines in Nova Scotia. \n\n\n\nHer ultimate goal is to make people fall in love with music and experience the sheer joy of movement. She aims to take you on a musical journey\, creating an irresistible urge to dance while inspiring a shared sense of connection on the dance floor. \n\n\n\nLINKS: \n\n\n\nhttps://alamusic.ca \n\n\n\nhttps://soundcloud.com/alamusicdj \n\n\n\nhttps://www.instagram.com/alamusicdj \n\n\n\nhttps://www.facebook.com/alamusicdj.official \n\n\n\n______ \n\n\n\nHouse of Kink Event Liability Waiver \n\n\n\nBy attending this event\, I confirm that I have read\, understood\, and voluntarily agree to the terms and conditions outlined in this waiver. I acknowledge that I am responsible for my actions and behaviour and that I am attending this event at my own risk. \n\n\n\n\nAssumption of Risk I understand that House of Kink events are primarily dance parties with the opportunity to explore kink-related activities in a safe\, controlled environment under the guidance of trained practitioners. These activities carry inherent risks\, including physical injury or emotional discomfort. I voluntarily assume all risks associated with my participation in the event and any kink-related activities that I engage in with a practitioner.\n\n\n\n\n\nNo Personal Kinky Toys/Tools I understand that personal kinky tools or toys (such as whips\, floggers\, etc.) are not permitted at the event. If I wish to enjoy kink-related experiences\, I understand that trained professionals will be available in the Kink Korner to assist me.\n\n\n\n\n\nNo Exposed Genitals or Sex on PremisesI understand that exposed genitals and sexual activity are not permitted at the venue. I agree to abide by this policy throughout the event.\n\n\n\n\n\nConsent and Respect I acknowledge that consent is paramount at all times. I agree to respect the boundaries and limits of others and will not engage in any kink-related activities without clear\, enthusiastic\, and ongoing consent. House of Kink promotes a zero-tolerance policy for harassment\, non-consensual behaviour\, and any form of coercion. \n\n\n\n\n\nPhysical and Emotional Well-Being I confirm that I am in good physical and emotional health and that I do not have any medical conditions that would make participation in dance\, kink activities\, or other event-related activities unsafe for me or others. If I have any medical concerns or conditions that could affect my participation\, I agree to disclose them to event organizers prior to the event.\n\n\n\n\n\nLiability Waiver I hereby release and hold harmless House of Kink\, its organizers\, staff\, volunteers\, and affiliates from any and all claims\, actions\, damages\, injuries\, or losses that may arise from my participation in this event\, including but not limited to personal injury\, property damage\, emotional distress\, or loss. I understand that I am solely responsible for my actions and behaviour during the event.\n\n\n\n\n\nLoss or Damage to Belongings I acknowledge that House of Kink is not responsible for any loss\, theft\, or damage to my personal belongings during the event. I agree to take full responsibility for the safety and security of my possessions while attending and understand that it is my responsibility to ensure my belongings are properly secured.\n\n\n\n\n\nBehaviour and Alcohol I agree to conduct myself in a responsible\, respectful\, and safe manner at all times. I understand that the consumption of alcohol or other substances can impair judgment\, and I take full responsibility for any risks that may arise from my own consumption. I agree not to engage in any reckless or unsafe behaviour\, and I acknowledge that House of Kink reserves the right to remove anyone from the event for violating the event’s guidelines.\n\n\n\n\n I understand that no outside alcohol is allowed at the event. I agree to comply with this policy and consume alcohol only provided by the event organizers. \n\n\n\nAge Requirement I confirm that I am at least 19 years old and have the legal capacity to enter into this waiver and participate in the event.
URL:https://maxottawa.ca/list/no-boys-allowed-jungle-heat/
LOCATION:Sky Lounge\, 73 York St. top floor\, Ottawa\, Ontario\, K1N 5T2\, Canada
CATEGORIES:Nightlife,Ottawa,Parties,Sex positive
END:VEVENT
BEGIN:VEVENT
DTSTART;TZID=America/Toronto:20250822T220000
DTEND;TZID=America/Toronto:20250823T020000
DTSTAMP:20260422T142453
CREATED:20250725T164922Z
LAST-MODIFIED:20250725T200831Z
UID:10003329-1755900000-1755914400@maxottawa.ca
SUMMARY:PRIDE: A Deeper Love
DESCRIPTION:2nd Annual Men’s Night- Video Dance Party. 2 separate themed floors\, Licensed Bar\, Live DJ\, Aerial Artist\, VIP Lounge\, Free Coat Check.
URL:https://maxottawa.ca/list/pride-a-deeper-love/
LOCATION:Probe Ottawa\, 41 York St 3rd & 4th floor\, Ottawa\, Ontario\, K1N 5S7\, Canada
CATEGORIES:Nightlife,Ottawa,Parties,Pride,Sex positive
END:VEVENT
BEGIN:VEVENT
DTSTART;TZID=America/Toronto:20250822T220000
DTEND;TZID=America/Toronto:20250823T023000
DTSTAMP:20260422T142453
CREATED:20250821T170054Z
LAST-MODIFIED:20250821T170059Z
UID:10003407-1755900000-1755916200@maxottawa.ca
SUMMARY:Frigays Ottawa Pride
DESCRIPTION:We are back for our third year at Ottawa Pride with Toronto’s hottest party and drag show. FRIGAYS! \n\n\n\nJoin The Virgo Queen\, DJ Sophie Jones & Cmac\, Karamilk\, Shea D Ladie\, Kylie\, Destiny and Hazel for a night of performance and non stop dancing! \n\n\n\nIt’s all going down at Berlin Ottawa at 56 ByWard Market Square. \n\n\n\nEarly Bird tickets on sale now! \n\n\n\nHAPPY PRIDE!!!!
URL:https://maxottawa.ca/list/frigays-ottawa-pride/
LOCATION:Berlin Nightclub\, 56 Byward Market Sq\, Ottawa\, Ontario\, K1N 7A2\, Canada
CATEGORIES:Drag & Burlesque,Nightlife,Ottawa,Parties,Pride
END:VEVENT
END:VCALENDAR