BEGIN:VCALENDAR
VERSION:2.0
PRODID:-//MAX Ottawa - ECPv6.15.20//NONSGML v1.0//EN
CALSCALE:GREGORIAN
METHOD:PUBLISH
X-WR-CALNAME:MAX Ottawa
X-ORIGINAL-URL:https://maxottawa.ca
X-WR-CALDESC:Events for MAX Ottawa
REFRESH-INTERVAL;VALUE=DURATION:PT1H
X-Robots-Tag:noindex
X-PUBLISHED-TTL:PT1H
BEGIN:VTIMEZONE
TZID:America/Toronto
BEGIN:DAYLIGHT
TZOFFSETFROM:-0500
TZOFFSETTO:-0400
TZNAME:EDT
DTSTART:20240310T070000
END:DAYLIGHT
BEGIN:STANDARD
TZOFFSETFROM:-0400
TZOFFSETTO:-0500
TZNAME:EST
DTSTART:20241103T060000
END:STANDARD
BEGIN:DAYLIGHT
TZOFFSETFROM:-0500
TZOFFSETTO:-0400
TZNAME:EDT
DTSTART:20250309T070000
END:DAYLIGHT
BEGIN:STANDARD
TZOFFSETFROM:-0400
TZOFFSETTO:-0500
TZNAME:EST
DTSTART:20251102T060000
END:STANDARD
BEGIN:DAYLIGHT
TZOFFSETFROM:-0500
TZOFFSETTO:-0400
TZNAME:EDT
DTSTART:20260308T070000
END:DAYLIGHT
BEGIN:STANDARD
TZOFFSETFROM:-0400
TZOFFSETTO:-0500
TZNAME:EST
DTSTART:20261101T060000
END:STANDARD
END:VTIMEZONE
BEGIN:VEVENT
DTSTART;TZID=America/Toronto:20250825T133000
DTEND;TZID=America/Toronto:20250825T160000
DTSTAMP:20260420T231623
CREATED:20250725T172153Z
LAST-MODIFIED:20250725T200559Z
UID:10003347-1756128600-1756137600@maxottawa.ca
SUMMARY:Interactive Workshop: Design Your Own Event
DESCRIPTION:Did you know that folks have been running workshops at The Grove since we launched in 2024? The Grove Studio is a queer-owned community creative hub in Ottawa that centers joy through art and learning. We believe in growing collaboratively\, which is why we are inviting folks who have skills to share to be a part of our community! \n\n\n\nIf you are someone who has a skill or craft that you would like to share\, but didn’t know how to go about it\, or want to do it in a supportive environment\, this event is for you! \n\n\n\nThis event will: \n\n\n\n\nIntroduce you to The Grove from an event organizer or facilitator’s perspective\n\n\n\nShare experiences running events at The Grove\, and what folks are interested in seeing more of\n\n\n\nCollaboratively generate topics for teach-ins\, skill shares\, and workshops\n\n\n\nWorkshop your idea into a ready-to-launch event\n\n\n\nTalk through what it’s like to run an event or workshop at The Grove\n\n\n\nAnswer your questions about event facilitation from an accessibility and care-focused perspective\n\n\n\n\nAll you need is to have a skill or craft that you feel confident in sharing\, whether it’s a hobby or something more. \n\n\n\nTwo identical sessions will be run: \n\n\n\n\nAfternoon session – doors at 1:30pm\, event from 2-4pm\n\n\n\nEvening session – doors at 5pm\, event from 5:30-7:30pm\n\n\n\n\nThis is a masked event (KN95 or more). 2 air filters will be on with central air conditioning. \n\n\n\nSee our FAQ about parking and other info about the space.
URL:https://maxottawa.ca/list/interactive-workshop-design-your-own-event/2025-08-25/1/
LOCATION:The Grove\, 18 Louisa St.\, Ottawa\, Ontario\, K1R6Y6\, Canada
CATEGORIES:Educational,Ottawa
END:VEVENT
BEGIN:VEVENT
DTSTART;TZID=America/Toronto:20250825T170000
DTEND;TZID=America/Toronto:20250825T193000
DTSTAMP:20260420T231623
CREATED:20250725T172153Z
LAST-MODIFIED:20250725T200559Z
UID:10003348-1756141200-1756150200@maxottawa.ca
SUMMARY:Interactive Workshop: Design Your Own Event
DESCRIPTION:Did you know that folks have been running workshops at The Grove since we launched in 2024? The Grove Studio is a queer-owned community creative hub in Ottawa that centers joy through art and learning. We believe in growing collaboratively\, which is why we are inviting folks who have skills to share to be a part of our community! \n\n\n\nIf you are someone who has a skill or craft that you would like to share\, but didn’t know how to go about it\, or want to do it in a supportive environment\, this event is for you! \n\n\n\nThis event will: \n\n\n\n\nIntroduce you to The Grove from an event organizer or facilitator’s perspective\n\n\n\nShare experiences running events at The Grove\, and what folks are interested in seeing more of\n\n\n\nCollaboratively generate topics for teach-ins\, skill shares\, and workshops\n\n\n\nWorkshop your idea into a ready-to-launch event\n\n\n\nTalk through what it’s like to run an event or workshop at The Grove\n\n\n\nAnswer your questions about event facilitation from an accessibility and care-focused perspective\n\n\n\n\nAll you need is to have a skill or craft that you feel confident in sharing\, whether it’s a hobby or something more. \n\n\n\nTwo identical sessions will be run: \n\n\n\n\nAfternoon session – doors at 1:30pm\, event from 2-4pm\n\n\n\nEvening session – doors at 5pm\, event from 5:30-7:30pm\n\n\n\n\nThis is a masked event (KN95 or more). 2 air filters will be on with central air conditioning. \n\n\n\nSee our FAQ about parking and other info about the space.
URL:https://maxottawa.ca/list/interactive-workshop-design-your-own-event/2025-08-25/2/
LOCATION:The Grove\, 18 Louisa St.\, Ottawa\, Ontario\, K1R6Y6\, Canada
CATEGORIES:Educational,Ottawa
END:VEVENT
BEGIN:VEVENT
DTSTART;TZID=America/Toronto:20250825T183000
DTEND;TZID=America/Toronto:20250825T223000
DTSTAMP:20260420T231623
CREATED:20250725T170417Z
LAST-MODIFIED:20250725T200421Z
UID:10003331-1756146600-1756161000@maxottawa.ca
SUMMARY:Drag & Bowl 2
DESCRIPTION:Join us for Drag & Bowl 2 at West Park Lanes \n\n\n\nHey there! Are you ready for a fun evening of bowling and drag performances? Come on down to West Park Lanes and let’s have a blast together! \n\n\n\nEarly game: August 25\, 2025 from 6:30 PM to 8:30 PM (Eastern Time) \n\n\n\nLate game: August 25\, 2025 from 8:30 PM to 10:30 PM (Eastern Time) \n\n\n\nGet your bowling shoes on\, grab a drink\, and aim for that perfect strike! Enjoy the show as talented drag performers entertain you between each game. It’s going to be a night full of laughter\, cheers\, and fierce competition! There will be a prize for best score during the late game. \n\n\n\nDon’t miss out on this exciting event! Mark your calendars\, bring your friends\, and let’s make memories that will last a lifetime. \n\n\n\nTickets must be purchased in advance. See you there!
URL:https://maxottawa.ca/list/drag-bowl-2/
LOCATION:West Park Lanes\, 1205 Wellington St. W\, Ottawa\, Ontario\, K1Y 2Z8\, Canada
CATEGORIES:Drag & Burlesque,Ottawa,Pride,Social
END:VEVENT
BEGIN:VEVENT
DTSTART;TZID=America/Toronto:20250825T200000
DTEND;TZID=America/Toronto:20250825T220000
DTSTAMP:20260420T231623
CREATED:20250820T201336Z
LAST-MODIFIED:20250820T201401Z
UID:10003404-1756152000-1756159200@maxottawa.ca
SUMMARY:Naked Boys Reading
DESCRIPTION:THE PRIDE FLAG\, sewn by Gilbert Baker in 1978\, originally had 8 stripes\, each with a meaning: sex\, life\, healing\, sunlight\, nature\, magic\, serenity\, and spirit. It was inspired by Judy Garland’s song “Somewhere Over the Rainbow.” \n\n\n\nOur August show\, which is also our annual pride show\, will feature readings from the 2SLGBTQ+ community and the history of the queer rights movement\, both fictional and nonfiction. \n\n\n\n★ ★ ★ ★ ★ \n\n\n\nNaked Boys Reading is an internationally produced literary salon featuring unclothed men reading to you: a blissful combination of literature\, book nerds\, and\, of course\, nudity! \n\n\n\nThis show is for all genders and sexualities. It is not erotic “adult entertainment” — which we’re cool with — but that’s not this. \n\n\n\n★ ★ ★ ★ ★ \n\n\n\nTHIS SHOW… \n\n\n\n\nCurated by Andrew Cooper\n\n\n\nHosted by ★ RHAPSODY BLUE ★\n\n\n\nPhotography by Zac Emery\n\n\n\nCo-produced by Nicholas Surges\n\n\n\nPresented by Tricky Ricky Productions\n\n\n\n\n★ ★ ★ ★ ★ \n\n\n\nDoors will open at 7:00 pm. We cannot admit anybody prior to 7:00 pm. The show will begin at 8:00 pm sharp. Seating is first come\, first served: The sooner you arrive\, the better the view you’ll have. \n\n\n\nIf you’re attending as a party of three or more people\, it is best to arrive early — by 7:30 pm — to find seating together. \n\n\n\n★ ★ ★ ★ ★ \n\n\n\nNBR shows often sell out in advance\, so we strongly recommend advance ticket purchase\, without delay\, to avoid disappointment. \n\n\n\nThe advance ticket price is $24 per ticket. If you’re unable to pay online\, or if the ticket price is a financial barrier for you\, please contact us: ottawa@nakedboysreading.ca \n\n\n\nTickets are refundable up to five (5) days before the show\, but please note that service/processing fees (charged by Eventbrite\, the ticketing platform) are non-refundable. Each ticket is also transferable — which means you can gift or sell it to somebody else. \n\n\n\n★ ★ ★ ★ ★ \n\n\n\nWe are committed to body positivity and diverse representation. The line-up of readers for each show is usually a mix of new and returning readers. We strive to reflect the diversity of our communities at every show. Our success is partially dependent upon the availability of readers. \n\n\n\nWe regret that the venue is inaccessible to some people. It is on the second floor of the building and accessible only via stairs. Non-gendered washrooms are available. \n\n\n\nWe acknowledge that we operate on the traditional and unceded territory of the Algonquin Anishinaabeg people.
URL:https://maxottawa.ca/list/naked-boys-reading/
LOCATION:LIVE! on Elgin\, 220 Elgin St #2\, Ottawa\, Ontario\, K2P 1L7\, Canada
CATEGORIES:Nightlife,Ottawa,Pride,Sex positive
ORGANIZER;CN="Tricky Ricky Productions & Collaborations":MAILTO:bytowneboys@gmail.com
END:VEVENT
END:VCALENDAR