BEGIN:VCALENDAR
VERSION:2.0
PRODID:-//MAX Ottawa - ECPv6.15.20//NONSGML v1.0//EN
CALSCALE:GREGORIAN
METHOD:PUBLISH
X-WR-CALNAME:MAX Ottawa
X-ORIGINAL-URL:https://maxottawa.ca
X-WR-CALDESC:Events for MAX Ottawa
REFRESH-INTERVAL;VALUE=DURATION:PT1H
X-Robots-Tag:noindex
X-PUBLISHED-TTL:PT1H
BEGIN:VTIMEZONE
TZID:America/Toronto
BEGIN:DAYLIGHT
TZOFFSETFROM:-0500
TZOFFSETTO:-0400
TZNAME:EDT
DTSTART:20240310T070000
END:DAYLIGHT
BEGIN:STANDARD
TZOFFSETFROM:-0400
TZOFFSETTO:-0500
TZNAME:EST
DTSTART:20241103T060000
END:STANDARD
BEGIN:DAYLIGHT
TZOFFSETFROM:-0500
TZOFFSETTO:-0400
TZNAME:EDT
DTSTART:20250309T070000
END:DAYLIGHT
BEGIN:STANDARD
TZOFFSETFROM:-0400
TZOFFSETTO:-0500
TZNAME:EST
DTSTART:20251102T060000
END:STANDARD
BEGIN:DAYLIGHT
TZOFFSETFROM:-0500
TZOFFSETTO:-0400
TZNAME:EDT
DTSTART:20260308T070000
END:DAYLIGHT
BEGIN:STANDARD
TZOFFSETFROM:-0400
TZOFFSETTO:-0500
TZNAME:EST
DTSTART:20261101T060000
END:STANDARD
END:VTIMEZONE
BEGIN:VEVENT
DTSTART;TZID=America/Toronto:20250828T170000
DTEND;TZID=America/Toronto:20250828T200000
DTSTAMP:20260424T084650
CREATED:20250820T200301Z
LAST-MODIFIED:20250820T200309Z
UID:10003403-1756400400-1756411200@maxottawa.ca
SUMMARY:Grow With The Flow
DESCRIPTION:Enjoy a special evening at our drop-in for socializing and talking about plants. This month we’ll be talking about queer botany! \n\n\n\nThis is an all ages event. Children twelve years of age or younger need to be accompanied by an adult. Minors (ages 13-17) will need to provide an emergency contact. \n\n\n\nDeadline for Registration: 3pm on Thurs August 28th. \n\n\n\nIf you do not register before the deadline\, you might be turned away at the door. We are no longer taking walk-ins for programs and events. \n\n\n\nMaximum Participants: 35 people  \n\n\n\nRegistration is needed for security reasons\, access needs\, and food requirements in case we provide snacks for the evening.  \n\n\n\nAccessibility Notes: https://kindspace.ca/about/accessibility/
URL:https://maxottawa.ca/list/grow-with-the-flow/
LOCATION:Kind Space\, 400 Cooper St. suite 9001\, Ottawa\, Ontario\, K2P 2N1\, Canada
CATEGORIES:Ottawa,Regular programming,Social,Youth
ORGANIZER;CN="Kind Space":MAILTO:carling@kindspace.ca
END:VEVENT
BEGIN:VEVENT
DTSTART;TZID=America/Toronto:20250828T190000
DTEND;TZID=America/Toronto:20250828T201000
DTSTAMP:20260424T084650
CREATED:20250602T193247Z
LAST-MODIFIED:20250602T193339Z
UID:10002862-1756407600-1756411800@maxottawa.ca
SUMMARY:Gay Men In Recovery
DESCRIPTION:A weekly hybrid narcotics anonymous group for gay men.  \n\n\n\nTo access the Zoom link\, click the link below\, select Thursday\, and scroll down to “Gay Men In Recovery.” To enter the building\, ring the intercom doorbell on the left side of the main doors if they are locked and a member will let you in. \n\n\n\nMeeting formats and accessibility: \n\n\n\n\nThis meeting is closed to non-addicts. You should attend only if you believe that you may have a problem with substance abuse.\n\n\n\nThis meeting invites participation by all attendees.\n\n\n\nThis meeting is focused on the needs of gay\, lesbian and transgender members of NA.\n\n\n\nThis meeting is meant to be attended by men only.\n\n\n\nThis meeting is wheelchair accessible.\n\n\n\nMeetings virtually and in person.
URL:https://maxottawa.ca/list/gay-men-in-recovery/2025-08-28/
LOCATION:MAX Ottawa\, 400 Cooper St. Suite 9004\, Ottawa\, Ontario\, K2P 2H8\, Canada
CATEGORIES:Ottawa,Regular programming,Service
END:VEVENT
BEGIN:VEVENT
DTSTART;TZID=America/Toronto:20250828T200000
DTEND;TZID=America/Toronto:20250828T220000
DTSTAMP:20260424T084650
CREATED:20250716T162458Z
LAST-MODIFIED:20250716T162525Z
UID:10003253-1756411200-1756418400@maxottawa.ca
SUMMARY:Mööse Knuckle Boylesque: Pride Show
DESCRIPTION:Ottawa’s all-male-identified burlesque revue. Titillation and hilarity guaranteed. Since 2024.  \n\n\n\nWe regret that the venue is inaccessible to some people. It is on the second floor of the building and accessible only via stairs. Non-gendered washrooms are available.
URL:https://maxottawa.ca/list/moose-knuckle-boylesque-pride-show/
LOCATION:LIVE! on Elgin\, 220 Elgin St #2\, Ottawa\, Ontario\, K2P 1L7\, Canada
CATEGORIES:Drag & Burlesque,Nightlife,Ottawa,Pride
ORGANIZER;CN="Tricky Ricky Productions & Collaborations":MAILTO:bytowneboys@gmail.com
END:VEVENT
BEGIN:VEVENT
DTSTART;TZID=America/Toronto:20250828T200000
DTEND;TZID=America/Toronto:20250828T230000
DTSTAMP:20260424T084650
CREATED:20250828T152547Z
LAST-MODIFIED:20250828T152554Z
UID:10003417-1756411200-1756422000@maxottawa.ca
SUMMARY:Spongebob Drag Pants
DESCRIPTION:“Spongebob Drag Pants” hosted by Edith Puthie Feat.: Mizrabelle\, Canary Quinn\, Yeti\, Miss Patience Plush\, and Opal Essence. \n\n\n\nSpongebob square pants themed comedy-campy drag show. As always\, audience members are encouraged to dress up as spongebob characters. \n\n\n\nDoors at 7pm\, showtime at 8pm. Guests are encouraged to arrive early to ensure preferred seating\, as some tickets may be standing. \n\n\n\nRefund requests will not be accepted within 48 hours of showtime. Performer lineup subject to change. All Lookout programming is 19+.
URL:https://maxottawa.ca/list/spongebob-drag-pants/
LOCATION:The Lookout Bar\, 41 York Street\, 2nd Floor\, Ottawa\, ON\, K1N 5S7\, Canada
CATEGORIES:Drag & Burlesque,Nightlife,Ottawa
END:VEVENT
END:VCALENDAR