BEGIN:VCALENDAR
VERSION:2.0
PRODID:-//MAX Ottawa - ECPv6.15.20//NONSGML v1.0//EN
CALSCALE:GREGORIAN
METHOD:PUBLISH
X-ORIGINAL-URL:https://maxottawa.ca
X-WR-CALDESC:Events for MAX Ottawa
REFRESH-INTERVAL;VALUE=DURATION:PT1H
X-Robots-Tag:noindex
X-PUBLISHED-TTL:PT1H
BEGIN:VTIMEZONE
TZID:America/Toronto
BEGIN:DAYLIGHT
TZOFFSETFROM:-0500
TZOFFSETTO:-0400
TZNAME:EDT
DTSTART:20240310T070000
END:DAYLIGHT
BEGIN:STANDARD
TZOFFSETFROM:-0400
TZOFFSETTO:-0500
TZNAME:EST
DTSTART:20241103T060000
END:STANDARD
BEGIN:DAYLIGHT
TZOFFSETFROM:-0500
TZOFFSETTO:-0400
TZNAME:EDT
DTSTART:20250309T070000
END:DAYLIGHT
BEGIN:STANDARD
TZOFFSETFROM:-0400
TZOFFSETTO:-0500
TZNAME:EST
DTSTART:20251102T060000
END:STANDARD
BEGIN:DAYLIGHT
TZOFFSETFROM:-0500
TZOFFSETTO:-0400
TZNAME:EDT
DTSTART:20260308T070000
END:DAYLIGHT
BEGIN:STANDARD
TZOFFSETFROM:-0400
TZOFFSETTO:-0500
TZNAME:EST
DTSTART:20261101T060000
END:STANDARD
END:VTIMEZONE
BEGIN:VEVENT
DTSTART;TZID=America/Toronto:20250829T183000
DTEND;TZID=America/Toronto:20250829T203000
DTSTAMP:20260423T222449
CREATED:20250812T144610Z
LAST-MODIFIED:20250812T144618Z
UID:10003386-1756492200-1756499400@maxottawa.ca
SUMMARY:K1 en Français
DESCRIPTION:☀️💦 Un été de plaisir\, de fun… et de soin! \n\n\n\nViens jaser avec nous au K1 en français du 29 août pour une discussion ouverte et joyeuse autour de la sexualité\, du plaisir\, et de la santé queer ! \n\n\n\nOn parle : \n\n\n\n💬 VIH\, ITSS\, mpox \n\n\n\n💋 Consentement\, désir\, soins \n\n\n\n📍 Où se faire dépister et comment accéder aux services \n\n\n\nParce que prendre soin de soi\, c’est aussi s’aimer librement. \n\n\n\nInscris-toi via le formulaire ci-dessous !
URL:https://maxottawa.ca/list/k1-en-francais-3/
LOCATION:MAX Ottawa\, 400 Cooper St. Suite 9004\, Ottawa\, Ontario\, K2P 2H8\, Canada
CATEGORIES:MAX Programs,Ottawa,Regular programming,Social
ORGANIZER;CN="MAX Ottawa":MAILTO:info@maxottawa.ca
END:VEVENT
END:VCALENDAR