BEGIN:VCALENDAR
VERSION:2.0
PRODID:-//MAX Ottawa - ECPv6.15.20//NONSGML v1.0//EN
CALSCALE:GREGORIAN
METHOD:PUBLISH
X-ORIGINAL-URL:https://maxottawa.ca
X-WR-CALDESC:Events for MAX Ottawa
REFRESH-INTERVAL;VALUE=DURATION:PT1H
X-Robots-Tag:noindex
X-PUBLISHED-TTL:PT1H
BEGIN:VTIMEZONE
TZID:America/Toronto
BEGIN:DAYLIGHT
TZOFFSETFROM:-0500
TZOFFSETTO:-0400
TZNAME:EDT
DTSTART:20240310T070000
END:DAYLIGHT
BEGIN:STANDARD
TZOFFSETFROM:-0400
TZOFFSETTO:-0500
TZNAME:EST
DTSTART:20241103T060000
END:STANDARD
BEGIN:DAYLIGHT
TZOFFSETFROM:-0500
TZOFFSETTO:-0400
TZNAME:EDT
DTSTART:20250309T070000
END:DAYLIGHT
BEGIN:STANDARD
TZOFFSETFROM:-0400
TZOFFSETTO:-0500
TZNAME:EST
DTSTART:20251102T060000
END:STANDARD
BEGIN:DAYLIGHT
TZOFFSETFROM:-0500
TZOFFSETTO:-0400
TZNAME:EDT
DTSTART:20260308T070000
END:DAYLIGHT
BEGIN:STANDARD
TZOFFSETFROM:-0400
TZOFFSETTO:-0500
TZNAME:EST
DTSTART:20261101T060000
END:STANDARD
END:VTIMEZONE
BEGIN:VEVENT
DTSTART;TZID=America/Toronto:20251121T180000
DTEND;TZID=America/Toronto:20251121T203000
DTSTAMP:20260421T025631
CREATED:20251120T002514Z
LAST-MODIFIED:20251120T002518Z
UID:10003633-1763748000-1763757000@maxottawa.ca
SUMMARY:Vera (1986) Showing
DESCRIPTION:A showing of one of the first ever Trans Male movies at the Ottawa Trans Library! \n\n\n\nBased on the life of Brazilian poet Anderson Bigode Herzer\, this intense drama tells the story of Bauer\, a trans man who navigates a difficult life in an orphanage before finding love with young librarian Clara. \n\n\n\nContent Warnings: \n\n\n\nMisogyny\, Violence\, Homophobia\, Transphobia\, Sexual Assault.
URL:https://maxottawa.ca/list/vera-1986-showing/
LOCATION:Ottawa Trans Library\, 1104 Somerset St. West\, Ottawa\, Ontario\, K1Y3C8\, Canada
CATEGORIES:Advocacy & empowerment,Film,Ottawa
END:VEVENT
BEGIN:VEVENT
DTSTART;TZID=America/Toronto:20251121T180000
DTEND;TZID=America/Toronto:20251121T213000
DTSTAMP:20260421T025631
CREATED:20251120T005424Z
LAST-MODIFIED:20251120T005427Z
UID:10003449-1763748000-1763760600@maxottawa.ca
SUMMARY:Over the Rainbow Meet & Greet
DESCRIPTION:Meet up with other friends and members of the Ottawa Senior Pride Network for this fun meet and greet social event\, from 7-10pm\, with a cash bar. This is a great\, relaxing way to meet new friends over drinks and good conversation. We hope you can join us!
URL:https://maxottawa.ca/list/over-the-rainbow-meet-greet-2/
LOCATION:The Good Companions\, 670 Albert St.\, Ottawa\, Ontario\, K1R 6L2\, Canada
CATEGORIES:Ottawa,Social
END:VEVENT
BEGIN:VEVENT
DTSTART;TZID=America/Toronto:20251121T180000
DTEND;TZID=America/Toronto:20251121T223000
DTSTAMP:20260421T025631
CREATED:20251114T223144Z
LAST-MODIFIED:20251114T223206Z
UID:10003632-1763748000-1763764200@maxottawa.ca
SUMMARY:Queers & Beers
DESCRIPTION:🍻✨ QUEERS & BEERS is heading to Queen St. Fare! ✨🍻Mark your calendars! 🗓️FriGAY\, November 21st\, 2025 @ 6:00pm📍 Queen St. Fare – 170 Queen StreetThis time around we’re going old school Queers & Beers style – chill vibes\, great convos\, and space to actually talk until the DJ kicks in after 9! 🗣️🎶Think: cozy chats ➡️ then dance party magic 💃🏽🪩🌈 What’s Queers & Beers all about?Do you love craft beer? 🍺Wanna meet cuties & cool folks in the queer community? 🥰Interested in meaningful convos and trying new things? 🧠💡Yes\, yes\, and YES! Let’s gather and explore the local brew scene in Ottawa together while creating a safer\, inclusive space for queer & trans pub lovers! 🏳️‍⚧️🏳️‍🌈🎉 Come solo\, bring your besties\, show up with a date\, or maybe meet one there! 💕Make new friends\, catch up with old ones\, or enjoy your own company – it’s all welcome & all good ✨📣 This is an open event – so bring your pals!💖 All genders & sexualities welcome🍻 Fun\, safer vibes for sipping & socializing♿ We’re working to prioritize accessible spaces🗨️ Feedback always welcome – hit us up at queering613@gmail.com🪪 Physical Accessibility Note:Queen St. Fare has automated doors and accessible washrooms. 💯🧡 We want to acknowledge and honour that this event takes place on unceded Algonquin Territory\, land that was never given up or surrendered.Let’s raise a glass & connect\, community-style! 🥂See you there! 💃🏽🍻🌈💬
URL:https://maxottawa.ca/list/queers-beers-7/
LOCATION:Queen Street Fare\, 170 Queen St\, Ottawa\, ON\, K1P 5E1\, Canada
CATEGORIES:Nightlife,Ottawa,Parties,Social
ORGANIZER;CN="Queering 613":MAILTO:queering613@gmail.com
END:VEVENT
BEGIN:VEVENT
DTSTART;TZID=America/Toronto:20251121T183000
DTEND;TZID=America/Toronto:20251121T203000
DTSTAMP:20260421T025631
CREATED:20251101T190537Z
LAST-MODIFIED:20251101T190543Z
UID:10003604-1763749800-1763757000@maxottawa.ca
SUMMARY:Queerspora: Gender and Pronouns for Queer Newcomers
DESCRIPTION:Moving to a new city in a new country can be exciting but also challenging—especially when it comes to finding community and navigating language around gender and identity. This session is a space for queer newcomers in Ottawa to come together\, share experiences\, and talk about the role of gender and pronouns in our lives. \n\n\n\nWe’ll explore how pronouns are used across different cultures\, why they matter for respect and inclusion\, and how we can support one another in everyday conversations. Whether you’re new to these discussions or already confident\, this is a chance to learn\, connect\, and grow with others in a supportive environment. \n\n\n\nSpots are limited\, so please RSVP through the form below:
URL:https://maxottawa.ca/list/queerspora-gender-and-pronouns-for-queer-newcomers/
LOCATION:MAX Ottawa\, 400 Cooper St. Suite 9004\, Ottawa\, Ontario\, K2P 2H8\, Canada
CATEGORIES:Advocacy & empowerment,Educational,MAX Programs,Ottawa,Regular programming,Social
ORGANIZER;CN="MAX Ottawa":MAILTO:info@maxottawa.ca
END:VEVENT
BEGIN:VEVENT
DTSTART;TZID=America/Toronto:20251121T210000
DTEND;TZID=America/Toronto:20251121T230000
DTSTAMP:20260421T025631
CREATED:20251112T220316Z
LAST-MODIFIED:20251112T220320Z
UID:10003618-1763758800-1763766000@maxottawa.ca
SUMMARY:Alphabet Sports Collective One Shift Time presents the Pink Light
DESCRIPTION:Come join us at Alphabet Sports Collective as we celebrate the Pink Light\, one shift at a time!  \n\n\n\nThe Pink Light Project x Alphabet Sports Collective  \n\n\n\nOne Shift At A Time Tour Presents: The Pink Light Film & Discussion  \n\n\n\nJoin us for an inspiring evening that celebrates inclusion\, resilience\, and authentic storytelling in sport. Presented by the Alphabet Sports Collective (ASC) as part of the One Shift At A Time Tour\, this event spotlights The Pink Light — a powerful film exploring the lived experiences of transgender and non-binary athletes in hockey and beyond.  \n\n\n\nAbout the Event  \n\n\n\nThrough film\, conversation\, and community\, The Pink Light Project invites participants to engage in meaningful dialogue about creating safer\, more inclusive spaces in sport (hockey).  \n\n\n\nThe event will include \n\n\n\nScreening of The Pink Light – a documentary exploring identity\, visibility\, and change within hockey culture  \n\n\n\nPanel Discussion & Q&A – featuring athletes\, advocates\, and community leaders sharing their journeys and insights on inclusion in sport  \n\n\n\nSocial & Celebration – connect with community members\, enjoy light refreshments\, and celebrate each other.  \n\n\n\nWhy Attend  \n\n\n\nThis event is part of ASC’s One Shift At A Time Tour\, a national initiative promoting mentorship\, mobilization\, and meaningful conversations to shift the culture of sport (hockey). Whether you are an athlete\, ally\, fan\, or advocate\, you’ll leave inspired to help make sport a place where everyone belongs.
URL:https://maxottawa.ca/list/alphabet-sports-collective-one-shift-time-presents-the-pink-light/
LOCATION:ByTowne Cinema\, Ottawa\, Ontario\, Canada
CATEGORIES:Film,Nightlife,Ottawa,Sports and recreation
END:VEVENT
END:VCALENDAR