BEGIN:VCALENDAR
VERSION:2.0
PRODID:-//MAX Ottawa - ECPv6.15.20//NONSGML v1.0//EN
CALSCALE:GREGORIAN
METHOD:PUBLISH
X-ORIGINAL-URL:https://maxottawa.ca
X-WR-CALDESC:Events for MAX Ottawa
REFRESH-INTERVAL;VALUE=DURATION:PT1H
X-Robots-Tag:noindex
X-PUBLISHED-TTL:PT1H
BEGIN:VTIMEZONE
TZID:America/Toronto
BEGIN:DAYLIGHT
TZOFFSETFROM:-0500
TZOFFSETTO:-0400
TZNAME:EDT
DTSTART:20250309T070000
END:DAYLIGHT
BEGIN:STANDARD
TZOFFSETFROM:-0400
TZOFFSETTO:-0500
TZNAME:EST
DTSTART:20251102T060000
END:STANDARD
BEGIN:DAYLIGHT
TZOFFSETFROM:-0500
TZOFFSETTO:-0400
TZNAME:EDT
DTSTART:20260308T070000
END:DAYLIGHT
BEGIN:STANDARD
TZOFFSETFROM:-0400
TZOFFSETTO:-0500
TZNAME:EST
DTSTART:20261101T060000
END:STANDARD
BEGIN:DAYLIGHT
TZOFFSETFROM:-0500
TZOFFSETTO:-0400
TZNAME:EDT
DTSTART:20270314T070000
END:DAYLIGHT
BEGIN:STANDARD
TZOFFSETFROM:-0400
TZOFFSETTO:-0500
TZNAME:EST
DTSTART:20271107T060000
END:STANDARD
END:VTIMEZONE
BEGIN:VEVENT
DTSTART;TZID=America/Toronto:20260617T100000
DTEND;TZID=America/Toronto:20260617T120000
DTSTAMP:20260422T170338
CREATED:20260317T155452Z
LAST-MODIFIED:20260317T160209Z
UID:10004811-1781690400-1781697600@maxottawa.ca
SUMMARY:Rainbow Coffee Club
DESCRIPTION:Rainbow Coffee Club is Expanding! \n\n\n\nThanks to participant feedback\, we’re moving to a bi‑weekly schedule starting in February — meeting on the first and third Wednesday of each month. \n\n\n\n\nOne structured session (guest speaker or skill‑share)\n\n\n\nOne unstructured social drop‑in\n\n\n\n\nCome for connection\, learning\, and community \n\n\n\nContact Sarah at sarah@thegoodcompanions.ca for details.
URL:https://maxottawa.ca/list/rainbow-coffee-club-5/2026-06-17/
LOCATION:The Good Companions\, 670 Albert St.\, Ottawa\, Ontario\, K1R 6L2\, Canada
CATEGORIES:Ottawa,Social
END:VEVENT
BEGIN:VEVENT
DTSTART;TZID=America/Toronto:20260617T173000
DTEND;TZID=America/Toronto:20260617T183000
DTSTAMP:20260422T170338
CREATED:20260108T163535Z
LAST-MODIFIED:20260408T161250Z
UID:10004934-1781717400-1781721000@maxottawa.ca
SUMMARY:Pizza Night at Colonnade
DESCRIPTION:Dinner the third Wednesday of every month at Colonnade Pizza (Metcalfe & Gilmour) 5:30PM. Remember keep our group growing – tell your friends!  \n\n\n\nSo that we can save you a place\, please RSVP to Claude at claude@claudejobin.com or by phone at 613.804.7979.
URL:https://maxottawa.ca/list/pizza-night-at-colonnade-2/2026-06-17/
LOCATION:Colonnade Pizza\, 280 Metcalfe St.\, Ottawa\, Ontario\, K2P 1R7\, Canada
CATEGORIES:Ottawa,Regular programming,Social
END:VEVENT
END:VCALENDAR