BEGIN:VCALENDAR
VERSION:2.0
PRODID:-//MAX Ottawa - ECPv6.15.20//NONSGML v1.0//EN
CALSCALE:GREGORIAN
METHOD:PUBLISH
X-WR-CALNAME:MAX Ottawa
X-ORIGINAL-URL:https://maxottawa.ca
X-WR-CALDESC:Events for MAX Ottawa
REFRESH-INTERVAL;VALUE=DURATION:PT1H
X-Robots-Tag:noindex
X-PUBLISHED-TTL:PT1H
BEGIN:VTIMEZONE
TZID:America/Toronto
BEGIN:DAYLIGHT
TZOFFSETFROM:-0500
TZOFFSETTO:-0400
TZNAME:EDT
DTSTART:20250309T070000
END:DAYLIGHT
BEGIN:STANDARD
TZOFFSETFROM:-0400
TZOFFSETTO:-0500
TZNAME:EST
DTSTART:20251102T060000
END:STANDARD
BEGIN:DAYLIGHT
TZOFFSETFROM:-0500
TZOFFSETTO:-0400
TZNAME:EDT
DTSTART:20260308T070000
END:DAYLIGHT
BEGIN:STANDARD
TZOFFSETFROM:-0400
TZOFFSETTO:-0500
TZNAME:EST
DTSTART:20261101T060000
END:STANDARD
BEGIN:DAYLIGHT
TZOFFSETFROM:-0500
TZOFFSETTO:-0400
TZNAME:EDT
DTSTART:20270314T070000
END:DAYLIGHT
BEGIN:STANDARD
TZOFFSETFROM:-0400
TZOFFSETTO:-0500
TZNAME:EST
DTSTART:20271107T060000
END:STANDARD
END:VTIMEZONE
BEGIN:VEVENT
DTSTART;TZID=America/Toronto:20260203T183000
DTEND;TZID=America/Toronto:20260203T203000
DTSTAMP:20260425T190627
CREATED:20260129T170804Z
LAST-MODIFIED:20260129T170810Z
UID:10004699-1770143400-1770150600@maxottawa.ca
SUMMARY:Strap-On Skills
DESCRIPTION:Strap-on play can be a fun way to penetrate a partner\, express your gender\, get off on watching your honey perfect their deep throating technique\, and more! This workshop will cover the ins and outs of harness play: what’s available\, what toys to use where\, and the lay of the land you’ll be exploring. We’ll talk about vaginal\, anal and oral play and include handy tips\, safety and how to maximize pleasure for the wearer as well as the receiver. We will discuss toys and play for everyone\, regardless of identity and/or gender expression.  \n\n\n\nThis workshop takes place online via Zoom. Registration closes 3 hours before the event. Zoom codes will be emailed the day of the workshop once registration closes\, please check your spam folder! \n\n\n\nOur workshops are 18+ unless otherwise specified. By registering for a workshop\, attendees acknowledge they are 18 years or older.  \n\n\n\nEmail our workshop coordinator rachele@venusenvy.ca for: \n\n\n\n\nquestions about the workshop\n\n\n\naccessibility information/requests\n\n\n\ntroubleshooting Zoom \n\n\n\nlate registration (after 3:30 PM EST the day of the workshop)
URL:https://maxottawa.ca/list/strap-on-skills/
CATEGORIES:Educational,Sex positive,Virtual event
ORGANIZER;CN="Venus Envy":MAILTO:ottawa@venusenvy.ca
LOCATION:https://maxottawa.ca/list/strap-on-skills/
END:VEVENT
END:VCALENDAR