BEGIN:VCALENDAR
VERSION:2.0
PRODID:-//MAX Ottawa - ECPv6.15.20//NONSGML v1.0//EN
CALSCALE:GREGORIAN
METHOD:PUBLISH
X-WR-CALNAME:MAX Ottawa
X-ORIGINAL-URL:https://maxottawa.ca
X-WR-CALDESC:Events for MAX Ottawa
REFRESH-INTERVAL;VALUE=DURATION:PT1H
X-Robots-Tag:noindex
X-PUBLISHED-TTL:PT1H
BEGIN:VTIMEZONE
TZID:America/Toronto
BEGIN:DAYLIGHT
TZOFFSETFROM:-0500
TZOFFSETTO:-0400
TZNAME:EDT
DTSTART:20240310T070000
END:DAYLIGHT
BEGIN:STANDARD
TZOFFSETFROM:-0400
TZOFFSETTO:-0500
TZNAME:EST
DTSTART:20241103T060000
END:STANDARD
BEGIN:DAYLIGHT
TZOFFSETFROM:-0500
TZOFFSETTO:-0400
TZNAME:EDT
DTSTART:20250309T070000
END:DAYLIGHT
BEGIN:STANDARD
TZOFFSETFROM:-0400
TZOFFSETTO:-0500
TZNAME:EST
DTSTART:20251102T060000
END:STANDARD
BEGIN:DAYLIGHT
TZOFFSETFROM:-0500
TZOFFSETTO:-0400
TZNAME:EDT
DTSTART:20260308T070000
END:DAYLIGHT
BEGIN:STANDARD
TZOFFSETFROM:-0400
TZOFFSETTO:-0500
TZNAME:EST
DTSTART:20261101T060000
END:STANDARD
END:VTIMEZONE
BEGIN:VEVENT
DTSTART;TZID=America/Toronto:20250401T170000
DTEND;TZID=America/Toronto:20250401T190000
DTSTAMP:20260420T183415
CREATED:20250225T031242Z
LAST-MODIFIED:20250403T201251Z
UID:10002374-1743526800-1743534000@maxottawa.ca
SUMMARY:Anonymous HIV Testing
DESCRIPTION:Come get tested at MAX Ottawa! \n\n\n\nSomerset West Community Health Centre will be offering rapid and anonymous HIV testing for queer and trans folks regularly at MAX Ottawa. \n\n\n\nTesting will be available for queer and trans folks (14+) by appointment or by walk-in (first come\, first served) in English or French. No names or ID required! \n\n\n\nTo learn more or to book an appointment in advance\, feel free to reach out to Micah at (613) 295-9574 by call or text. \n\n\n\nPlease note that testing will not be available on the last Tuesday of each month!
URL:https://maxottawa.ca/list/anonymous-hiv-testing-4/2025-04-01/
LOCATION:MAX Ottawa\, 400 Cooper St. Suite 9004\, Ottawa\, Ontario\, K2P 2H8\, Canada
CATEGORIES:MAX Programs,Regular programming,Service
END:VEVENT
BEGIN:VEVENT
DTSTART;TZID=America/Toronto:20250401T180000
DTEND;TZID=America/Toronto:20250401T213000
DTSTAMP:20260420T183415
CREATED:20250327T011036Z
LAST-MODIFIED:20250327T011045Z
UID:10002209-1743530400-1743543000@maxottawa.ca
SUMMARY:HOWL Social Night
DESCRIPTION:Bound on in to the monthly Howl social! Come grab drink\, snack on some treats and join Probe and The Capital Pups for a fantastical night filled with socializing\, community connections\, and board games! Come dressed as the adorable pet/animal that you are\, and enjoy a romp and cuddle on our cozy foam mats! \n\n\n\nNo membership? No problem! This drop-in event is open to all\, with unlimited snacks and non-alcoholic drinks available by donation. \n\n\n\nWear whatever makes you comfortable—pet play and fetish gear are welcome. While this event isn’t for play\, it’s the perfect opportunity to connect\, mingle\, and strengthen the bonds of our pet play community. Let’s come together to celebrate and build connections in a warm and welcoming space!
URL:https://maxottawa.ca/list/howl-social-night/
LOCATION:Probe Ottawa\, 41 York St 3rd & 4th floor\, Ottawa\, Ontario\, K1N 5S7\, Canada
CATEGORIES:Nightlife,Regular programming,Sex positive,Social
ORGANIZER;CN="Capital Pups":MAILTO:Info@capitalpups.ca
END:VEVENT
BEGIN:VEVENT
DTSTART;TZID=America/Toronto:20250401T190000
DTEND;TZID=America/Toronto:20250401T210000
DTSTAMP:20260420T183415
CREATED:20250402T163154Z
LAST-MODIFIED:20250402T163204Z
UID:10002361-1743534000-1743541200@maxottawa.ca
SUMMARY:Music Nights at the Ottawa Trans Library
DESCRIPTION:Meeting biweekly\, one week to learn tunes\, and every second Tuesday for jam sessions. Any trans-and-queer music-lovers welcome! This is an evening that centres trans and other queer folks\, but open to allies joining in learning\, sharing\, and making beautiful music and memories with us. \n\n\n\nKnow any single tune? You’re welcome to join! Even if it’s just Twinkle Twinkle Little Star. Hope to see you there!
URL:https://maxottawa.ca/list/music-nights-at-the-ottawa-trans-library/2025-04-01/
LOCATION:Ottawa Trans Library\, 1104 Somerset St. West\, Ottawa\, Ontario\, K1Y3C8\, Canada
CATEGORIES:Art,Educational,Live music,Nightlife,Regular programming,Social
END:VEVENT
END:VCALENDAR