BEGIN:VCALENDAR
VERSION:2.0
PRODID:-//MAX Ottawa - ECPv6.15.20//NONSGML v1.0//EN
CALSCALE:GREGORIAN
METHOD:PUBLISH
X-WR-CALNAME:MAX Ottawa
X-ORIGINAL-URL:https://maxottawa.ca
X-WR-CALDESC:Events for MAX Ottawa
REFRESH-INTERVAL;VALUE=DURATION:PT1H
X-Robots-Tag:noindex
X-PUBLISHED-TTL:PT1H
BEGIN:VTIMEZONE
TZID:America/Toronto
BEGIN:DAYLIGHT
TZOFFSETFROM:-0500
TZOFFSETTO:-0400
TZNAME:EDT
DTSTART:20240310T070000
END:DAYLIGHT
BEGIN:STANDARD
TZOFFSETFROM:-0400
TZOFFSETTO:-0500
TZNAME:EST
DTSTART:20241103T060000
END:STANDARD
BEGIN:DAYLIGHT
TZOFFSETFROM:-0500
TZOFFSETTO:-0400
TZNAME:EDT
DTSTART:20250309T070000
END:DAYLIGHT
BEGIN:STANDARD
TZOFFSETFROM:-0400
TZOFFSETTO:-0500
TZNAME:EST
DTSTART:20251102T060000
END:STANDARD
BEGIN:DAYLIGHT
TZOFFSETFROM:-0500
TZOFFSETTO:-0400
TZNAME:EDT
DTSTART:20260308T070000
END:DAYLIGHT
BEGIN:STANDARD
TZOFFSETFROM:-0400
TZOFFSETTO:-0500
TZNAME:EST
DTSTART:20261101T060000
END:STANDARD
END:VTIMEZONE
BEGIN:VEVENT
DTSTART;TZID=America/Toronto:20250408T170000
DTEND;TZID=America/Toronto:20250408T190000
DTSTAMP:20260422T123106
CREATED:20250225T031242Z
LAST-MODIFIED:20250403T201251Z
UID:10002375-1744131600-1744138800@maxottawa.ca
SUMMARY:Anonymous HIV Testing
DESCRIPTION:Come get tested at MAX Ottawa! \n\n\n\nSomerset West Community Health Centre will be offering rapid and anonymous HIV testing for queer and trans folks regularly at MAX Ottawa. \n\n\n\nTesting will be available for queer and trans folks (14+) by appointment or by walk-in (first come\, first served) in English or French. No names or ID required! \n\n\n\nTo learn more or to book an appointment in advance\, feel free to reach out to Micah at (613) 295-9574 by call or text. \n\n\n\nPlease note that testing will not be available on the last Tuesday of each month!
URL:https://maxottawa.ca/list/anonymous-hiv-testing-4/2025-04-08/
LOCATION:MAX Ottawa\, 400 Cooper St. Suite 9004\, Ottawa\, Ontario\, K2P 2H8\, Canada
CATEGORIES:MAX Programs,Regular programming,Service
END:VEVENT
BEGIN:VEVENT
DTSTART;TZID=America/Toronto:20250408T190000
DTEND;TZID=America/Toronto:20250408T203000
DTSTAMP:20260422T123106
CREATED:20250325T150412Z
LAST-MODIFIED:20250325T150412Z
UID:10002190-1744138800-1744144200@maxottawa.ca
SUMMARY:Queer Death Salon
DESCRIPTION:Queer Death Salon is a community space for all 2SLGBTQIA+ people to come together to discuss death\, dying and grief. It is a facilitated drop-in discussion space on zoom\, with the purpose of building connection\, skill\, and resources for 2SLGBTQIA+ people navigating end of life in our personal lives and in our communities.  \n\n\n\nIn April\, our discussion topic is Loss by Suicide.  \n\n\n\nLoss by suicide can kick up a plethora of feelings in addition to the grief one would normally experience with the death of a loved one. It’s not uncommon to feel anger\, guilt\, confusion\, or feelings of rejection (among many other possibilities). This session is for 2SLGBTQIA+ people who have lost people to suicide and are looking to share space with people who have lived through similar circumstances.   \n\n\n\nQuestions to consider  \n\n\n\n\nWho have you lost and what was your relationship to each other? \n\n\n\nHow does this kind of grief differ from other griefs you have experienced? \n\n\n\nWhat were your feelings towards them at their death? How has that changed over time? \n\n\n\nWhat do you wish was better understood about your experience? \n\n\n\n\nParticipants are invited to bring questions of their own\, a special item to show\, or share a story of an important moment.
URL:https://maxottawa.ca/list/queer-death-salon/
CATEGORIES:Regular programming,Service,Social
ORGANIZER;CN="Queer Community Deathcare":MAILTO:Queercommunitydeathcare@gmail.com
LOCATION:https://maxottawa.ca/list/queer-death-salon/
END:VEVENT
END:VCALENDAR