BEGIN:VCALENDAR
VERSION:2.0
PRODID:-//MAX Ottawa - ECPv6.15.20//NONSGML v1.0//EN
CALSCALE:GREGORIAN
METHOD:PUBLISH
X-WR-CALNAME:MAX Ottawa
X-ORIGINAL-URL:https://maxottawa.ca
X-WR-CALDESC:Events for MAX Ottawa
REFRESH-INTERVAL;VALUE=DURATION:PT1H
X-Robots-Tag:noindex
X-PUBLISHED-TTL:PT1H
BEGIN:VTIMEZONE
TZID:America/Toronto
BEGIN:DAYLIGHT
TZOFFSETFROM:-0500
TZOFFSETTO:-0400
TZNAME:EDT
DTSTART:20240310T070000
END:DAYLIGHT
BEGIN:STANDARD
TZOFFSETFROM:-0400
TZOFFSETTO:-0500
TZNAME:EST
DTSTART:20241103T060000
END:STANDARD
BEGIN:DAYLIGHT
TZOFFSETFROM:-0500
TZOFFSETTO:-0400
TZNAME:EDT
DTSTART:20250309T070000
END:DAYLIGHT
BEGIN:STANDARD
TZOFFSETFROM:-0400
TZOFFSETTO:-0500
TZNAME:EST
DTSTART:20251102T060000
END:STANDARD
BEGIN:DAYLIGHT
TZOFFSETFROM:-0500
TZOFFSETTO:-0400
TZNAME:EDT
DTSTART:20260308T070000
END:DAYLIGHT
BEGIN:STANDARD
TZOFFSETFROM:-0400
TZOFFSETTO:-0500
TZNAME:EST
DTSTART:20261101T060000
END:STANDARD
END:VTIMEZONE
BEGIN:VEVENT
DTSTART;TZID=America/Toronto:20250412T100000
DTEND;TZID=America/Toronto:20250412T170000
DTSTAMP:20260421T095920
CREATED:20250413T185922Z
LAST-MODIFIED:20250413T185934Z
UID:10002423-1744452000-1744477200@maxottawa.ca
SUMMARY:OSPN Out and About Saturdays
DESCRIPTION:OSPN in partnership with The Good Companions is delighted to offer in person programming to our 55+ LGBTQ2+ community.  \n\n\n\nOut and About Saturdays is specialty programming for the 55+ LGBTQ2+ community. Ideas for offerings can be forwarded to the program coordinator\, Stephane Gauthier at sgauthier@thegoodcompanions.ca or by telephone at (613) 236-0428 ext. 2353.  \n\n\n\nOnce a month Stephane and the Saturday programming committee meet to discuss potential offerings and brainstorm new ideas and opportunities for programming. If you are interested in joining the committee\, please email your request to sgauthier@thegoodcompanions.ca.  \n\n\n\n_______________  \n\n\n\nYou are welcome to participate on a trial basis for 3 Saturdays before deciding to become a Good Companions member. The membership gives you access to all of The Good Companions amenities and offerings\, not just Out and About Saturdays. For more information on becoming a member please click here [https://thegoodcompanions.ca/membership/new-members/].  \n\n\n\nParking is available at the center for $2.50 a day or $30.00 annually.  \n\n\n\n*PLEASE NOTE: INDIVIDUAL FINANCIAL RESTRICTIONS WILL NEVER BE A BARRIER TO ACCESSING OUT AND ABOUT SATURDAYS OR BECOMING A MEMBER OF THE GOOD COMPANIONS. SUBSIDIES ARE AVAILABLE ON A CASE-BY-CASE BASIS. Contact Stephane Gauthier at sgauthier@thegoodcompanions.ca for details.
URL:https://maxottawa.ca/list/ospn-out-and-about-saturdays/2025-04-12/
LOCATION:The Good Companions\, 670 Albert Street
CATEGORIES:Regular programming,Social
ATTACH;FMTTYPE=image/png:https://maxottawa.ca/wp-content/uploads/2025/02/LIST_OutAndAbout-2.png
END:VEVENT
BEGIN:VEVENT
DTSTART;TZID=America/Toronto:20250412T130000
DTEND;TZID=America/Toronto:20250412T150000
DTSTAMP:20260421T095920
CREATED:20250312T170316Z
LAST-MODIFIED:20250312T170324Z
UID:10002169-1744462800-1744470000@maxottawa.ca
SUMMARY:IndigiQueer Kinship Group
DESCRIPTION:Welcome! This is a new group created for the Indigenous\, Two-Spirit\, Queer community here in Ottawa. This is a super exciting opportunity and we hope many of you are able to join our group! For the first meeting\, we will be doing introductions\, talking about the nature of the group\, and do some painting and drawing while chatting! We will also have some snacks and drinks.  \n\n\n\nIf you have any questions please reach out at sabrina@kindspace.ca \n\n\n\nGroup Description: \n\n\n\nIndigiQueer Kinship Group is a peer support and social group for Two-Spirit and Queer Indigenous folk. Our group’s goal is to create a safe\, welcoming and culturally inclusive environment where you can meet others who share similar backgrounds and experiences. We understand the importance of having spaces where Indigenous culture is celebrated\, valued and respected. If you want to make new friends\, find support from peers\, or if you want to come and chill\, our group offers a space where you can be yourself without judgment!  \n\n\n\nThe IndigiQueer Kinship Group will run from 1-3 pm on the second Saturday of every month (with the exception of the first meeting).  \n\n\n\nNotes for Participants: \n\n\n\nThis group is open to anyone who identifies as 2SLGBTQIA+ and self-identifies as First Nation\, Inuit\, or Métis\, we want this space to be available for people with varying lived experiences. While we are open to those reclaiming or navigating their culture\, we will not tolerate any intentional false claims of Indigenous identity or pretendians. While we will not police identities at the IndigiQueer\, we expect you to come in good faith\, or you may be asked to leave.We are also open to participants inviting a non-indigenous family member\, partner\, spouse or kids\, as long as they honour what the space is intended for.  \n\n\n\nThis is a social and peer support group in a community center environment. This means no professional mental health\, psychology\, or therapy support is available during the group. As we are all going to be Indigenous and queer folk\, we recognize the many historical and current traumas that our communities have gone through.We also know that we cannot talk about our successes without acknowledging our pain and oppression. However\, we will ask that you try to refrain from bringing up any personal traumatic experiences during group discussions. When separate from the entire group\, talking amongst yourselves\, you will be able to discuss whatever you would like at your own discretion. This rule is to ensure that we do not re-trigger or cause secondary trauma to anyone participating in the group discussions. Talking about what we have gone through is so important\, but this is a space to relax\, and just be.  \n\n\n\nNote for Parents: \n\n\n\nThis group will allow you to bring your children if you do not have childcare options available. It is important to note that we will not be responsible for the entertainment or care for your children. We have toys and games available for them to use\, however it is your responsibility to watch them. If you are bringing your children\, please make sure to fill out this form again for them so we know how many people are attending.  \n\n\n\nAccessibility: \n\n\n\nIf you have any access needs please let us know!  \n\n\n\nAccessibility information can be found here: https://kindspace.ca/about/accessibility/ \n\n\n\nActivities: \n\n\n\nWe will have different activities each time we meet. It will most likely be crafts or games. But if you have any ideas of things or crafts you want to see included\, please do not hesitate to let us know! \n\n\n\nBio of Facilitators: \n\n\n\nHello! My name is Sabrina\, and I am 21 years old. I am an urban Inuk who has lived in Ottawa my entire life. When I was 4 years old I was adopted with my older sister into a primarily white family\, which has resulted in our disconnection from the Inuit language\, culture and community. In the past 5 years\, I have been slowly reconnecting with my culture and with the Indigenous people in the community. I live with FASD\, ADHD and anxiety. I love reading\, cooking and baking. I am a Carleton University student currently in my third year of the Bachelor’s of Social Work program\, with minors in Indigenous Studies\, and Criminology and Criminal Justice. With this group\, I hope to make new friends\, connections and learn more about my Inuit culture\, as well as other Indigenous cultures. I look forward to meeting you all\, and hope to have lots of fun in this group!!
URL:https://maxottawa.ca/list/indigiqueer-kinship-group/2025-04-12/
LOCATION:Kind Space\, 400 Cooper St. suite 9001\, Ottawa\, Ontario\, K2P 2N1\, Canada
CATEGORIES:Advocacy & empowerment,Regular programming,Social
ORGANIZER;CN="Kind Space":MAILTO:carling@kindspace.ca
END:VEVENT
END:VCALENDAR