BEGIN:VCALENDAR
VERSION:2.0
PRODID:-//MAX Ottawa - ECPv6.15.20//NONSGML v1.0//EN
CALSCALE:GREGORIAN
METHOD:PUBLISH
X-WR-CALNAME:MAX Ottawa
X-ORIGINAL-URL:https://maxottawa.ca
X-WR-CALDESC:Events for MAX Ottawa
REFRESH-INTERVAL;VALUE=DURATION:PT1H
X-Robots-Tag:noindex
X-PUBLISHED-TTL:PT1H
BEGIN:VTIMEZONE
TZID:America/Toronto
BEGIN:DAYLIGHT
TZOFFSETFROM:-0500
TZOFFSETTO:-0400
TZNAME:EDT
DTSTART:20240310T070000
END:DAYLIGHT
BEGIN:STANDARD
TZOFFSETFROM:-0400
TZOFFSETTO:-0500
TZNAME:EST
DTSTART:20241103T060000
END:STANDARD
BEGIN:DAYLIGHT
TZOFFSETFROM:-0500
TZOFFSETTO:-0400
TZNAME:EDT
DTSTART:20250309T070000
END:DAYLIGHT
BEGIN:STANDARD
TZOFFSETFROM:-0400
TZOFFSETTO:-0500
TZNAME:EST
DTSTART:20251102T060000
END:STANDARD
BEGIN:DAYLIGHT
TZOFFSETFROM:-0500
TZOFFSETTO:-0400
TZNAME:EDT
DTSTART:20260308T070000
END:DAYLIGHT
BEGIN:STANDARD
TZOFFSETFROM:-0400
TZOFFSETTO:-0500
TZNAME:EST
DTSTART:20261101T060000
END:STANDARD
END:VTIMEZONE
BEGIN:VEVENT
DTSTART;TZID=America/Toronto:20250426T100000
DTEND;TZID=America/Toronto:20250426T170000
DTSTAMP:20260421T095905
CREATED:20250413T185922Z
LAST-MODIFIED:20250413T185934Z
UID:10002424-1745661600-1745686800@maxottawa.ca
SUMMARY:OSPN Out and About Saturdays
DESCRIPTION:OSPN in partnership with The Good Companions is delighted to offer in person programming to our 55+ LGBTQ2+ community.  \n\n\n\nOut and About Saturdays is specialty programming for the 55+ LGBTQ2+ community. Ideas for offerings can be forwarded to the program coordinator\, Stephane Gauthier at sgauthier@thegoodcompanions.ca or by telephone at (613) 236-0428 ext. 2353.  \n\n\n\nOnce a month Stephane and the Saturday programming committee meet to discuss potential offerings and brainstorm new ideas and opportunities for programming. If you are interested in joining the committee\, please email your request to sgauthier@thegoodcompanions.ca.  \n\n\n\n_______________  \n\n\n\nYou are welcome to participate on a trial basis for 3 Saturdays before deciding to become a Good Companions member. The membership gives you access to all of The Good Companions amenities and offerings\, not just Out and About Saturdays. For more information on becoming a member please click here [https://thegoodcompanions.ca/membership/new-members/].  \n\n\n\nParking is available at the center for $2.50 a day or $30.00 annually.  \n\n\n\n*PLEASE NOTE: INDIVIDUAL FINANCIAL RESTRICTIONS WILL NEVER BE A BARRIER TO ACCESSING OUT AND ABOUT SATURDAYS OR BECOMING A MEMBER OF THE GOOD COMPANIONS. SUBSIDIES ARE AVAILABLE ON A CASE-BY-CASE BASIS. Contact Stephane Gauthier at sgauthier@thegoodcompanions.ca for details.
URL:https://maxottawa.ca/list/ospn-out-and-about-saturdays/2025-04-26/
LOCATION:The Good Companions\, 670 Albert Street
CATEGORIES:Regular programming,Social
ATTACH;FMTTYPE=image/png:https://maxottawa.ca/wp-content/uploads/2025/02/LIST_OutAndAbout-2.png
END:VEVENT
END:VCALENDAR