BEGIN:VCALENDAR
VERSION:2.0
PRODID:-//MAX Ottawa - ECPv6.15.20//NONSGML v1.0//EN
CALSCALE:GREGORIAN
METHOD:PUBLISH
X-WR-CALNAME:MAX Ottawa
X-ORIGINAL-URL:https://maxottawa.ca
X-WR-CALDESC:Events for MAX Ottawa
REFRESH-INTERVAL;VALUE=DURATION:PT1H
X-Robots-Tag:noindex
X-PUBLISHED-TTL:PT1H
BEGIN:VTIMEZONE
TZID:America/Toronto
BEGIN:DAYLIGHT
TZOFFSETFROM:-0500
TZOFFSETTO:-0400
TZNAME:EDT
DTSTART:20240310T070000
END:DAYLIGHT
BEGIN:STANDARD
TZOFFSETFROM:-0400
TZOFFSETTO:-0500
TZNAME:EST
DTSTART:20241103T060000
END:STANDARD
BEGIN:DAYLIGHT
TZOFFSETFROM:-0500
TZOFFSETTO:-0400
TZNAME:EDT
DTSTART:20250309T070000
END:DAYLIGHT
BEGIN:STANDARD
TZOFFSETFROM:-0400
TZOFFSETTO:-0500
TZNAME:EST
DTSTART:20251102T060000
END:STANDARD
BEGIN:DAYLIGHT
TZOFFSETFROM:-0500
TZOFFSETTO:-0400
TZNAME:EDT
DTSTART:20260308T070000
END:DAYLIGHT
BEGIN:STANDARD
TZOFFSETFROM:-0400
TZOFFSETTO:-0500
TZNAME:EST
DTSTART:20261101T060000
END:STANDARD
END:VTIMEZONE
BEGIN:VEVENT
DTSTART;TZID=America/Toronto:20250928T140000
DTEND;TZID=America/Toronto:20250928T170000
DTSTAMP:20260421T184932
CREATED:20250915T182301Z
LAST-MODIFIED:20250915T182307Z
UID:10003480-1759068000-1759078800@maxottawa.ca
SUMMARY:Nonbinary Social and Crafternoon
DESCRIPTION:What to expect: Non-binary people and friends hanging out and crafting. We have supplies for making bracelets\, folding origami\, colored beads\, embroidery floss\, and plastic lace. Volunteer coordinators will be wearing name tags and can help answer any questions you might have. \n\n\n\nIf you would like an idea of what the event space looks like\, check out our recent pics in the gallery. \n\n\n\nWhat to bring: You don’t need to bring anything. You are welcome to bring your own crafting materials. Food and drink is welcome\, also.
URL:https://maxottawa.ca/list/nonbinary-social-and-crafternoon/2025-09-28/
LOCATION:Ottawa Trans Library\, 1104 Somerset St. West\, Ottawa\, Ontario\, K1Y3C8\, Canada
CATEGORIES:Art,Ottawa,Regular programming,Social
END:VEVENT
BEGIN:VEVENT
DTSTART;TZID=America/Toronto:20250928T143000
DTEND;TZID=America/Toronto:20250928T154000
DTSTAMP:20260421T184932
CREATED:20250520T180217Z
LAST-MODIFIED:20250723T160051Z
UID:10003296-1759069800-1759074000@maxottawa.ca
SUMMARY:Sunday Afternoon Bear Walk
DESCRIPTION:Join other gay and bisexual men (including gay and bi transmen) for a one hour walk every Sunday at 2:30pm. Locations vary each week and are posted to the website through the link below.
URL:https://maxottawa.ca/list/sunday-afternoon-bear-walk-for-gay-and-bisexual-men-2/2025-09-28/
LOCATION:Ottawa / Gatineau Pathways\, Ottawa\, Canada
CATEGORIES:Regular programming,Social,Sports and recreation
ORGANIZER;CN="Sunday Afternoon Bear Walk":MAILTO:alex@sundayafternoonbearwalk.com
END:VEVENT
BEGIN:VEVENT
DTSTART;TZID=America/Toronto:20250928T171500
DTEND;TZID=America/Toronto:20250928T191500
DTSTAMP:20260421T184932
CREATED:20250519T171022Z
LAST-MODIFIED:20250519T171034Z
UID:10002805-1759079700-1759086900@maxottawa.ca
SUMMARY:Trans About Town: Swim Night
DESCRIPTION:🌊Swim Night is BACK! 🌊Grab your goggles and your pals\, Trans About Town: Swim Night is happening every last Sunday of the month! \n\n\n\nThis monthly program is open to trans and gender-diverse children and youth (ages 0-24)\, family and friends are welcome to join in and share the fun! \n\n\n\nProgram Details: \n\n\n\n\nLocation: Jack Purcell Community Centre Pool\n\n\n\nTime: 5:15 p.m. to 7:15 p.m. \n\n\n\nDate: Last Sunday of each month\n\n\n\nCost: $2.77 per person. Children under 2 enter for free.If cost is a concern\, please let us know – we’re happy to help!\n\n\n\n\nBy filling out the registration form\, you’ll reserve your spot and receive a reminder email a few days before the event. Before attending\, please take a moment to review the City of Ottawa’s pool safety regulations. \n\n\n\nPlease Note:The pool we use for Trans About Town Swim Nights is a warm water pool\, meaning the pool (and room) is kept at a warmer temperature than most public pools. We recommend bringing water to stay hydrated\, and to dress accordioning\, especially if you are planning to hang out on the pool deck! \n\n\n\nFor any questions or assistance\, don’t hesitate to reach out at ash@tenoaksproject.org \n\n\n\nWe can’t wait to see you there! \n\n\n\n🔗Register through the link below
URL:https://maxottawa.ca/list/trans-about-town-swim-night/2025-09-28/
LOCATION:Jack Purcell Community Centre\, 320 Jack Purcell Ln\, Ottawa\, ON\, K2P 2J5\, Canada
CATEGORIES:Family friendly,Regular programming,Social,Sports and recreation,Youth
END:VEVENT
BEGIN:VEVENT
DTSTART;TZID=America/Toronto:20250928T200000
DTEND;TZID=America/Toronto:20250928T230000
DTSTAMP:20260421T184932
CREATED:20241029T210043Z
LAST-MODIFIED:20241106T152947Z
UID:10000550-1759089600-1759100400@maxottawa.ca
SUMMARY:Karaoke Night
DESCRIPTION:Karaoke with fellow Queers hosted by Jolene.
URL:https://maxottawa.ca/list/karaoke-night/2025-09-28/
LOCATION:T’s\, 323 Somerset Street West\, Ottawa\, ON\, 2P 0J8\, Canada
CATEGORIES:Live music,Nightlife,Regular programming
END:VEVENT
END:VCALENDAR