BEGIN:VCALENDAR
VERSION:2.0
PRODID:-//MAX Ottawa - ECPv6.15.20//NONSGML v1.0//EN
CALSCALE:GREGORIAN
METHOD:PUBLISH
X-ORIGINAL-URL:https://maxottawa.ca
X-WR-CALDESC:Events for MAX Ottawa
REFRESH-INTERVAL;VALUE=DURATION:PT1H
X-Robots-Tag:noindex
X-PUBLISHED-TTL:PT1H
BEGIN:VTIMEZONE
TZID:America/Toronto
BEGIN:DAYLIGHT
TZOFFSETFROM:-0500
TZOFFSETTO:-0400
TZNAME:EDT
DTSTART:20240310T070000
END:DAYLIGHT
BEGIN:STANDARD
TZOFFSETFROM:-0400
TZOFFSETTO:-0500
TZNAME:EST
DTSTART:20241103T060000
END:STANDARD
BEGIN:DAYLIGHT
TZOFFSETFROM:-0500
TZOFFSETTO:-0400
TZNAME:EDT
DTSTART:20250309T070000
END:DAYLIGHT
BEGIN:STANDARD
TZOFFSETFROM:-0400
TZOFFSETTO:-0500
TZNAME:EST
DTSTART:20251102T060000
END:STANDARD
BEGIN:DAYLIGHT
TZOFFSETFROM:-0500
TZOFFSETTO:-0400
TZNAME:EDT
DTSTART:20260308T070000
END:DAYLIGHT
BEGIN:STANDARD
TZOFFSETFROM:-0400
TZOFFSETTO:-0500
TZNAME:EST
DTSTART:20261101T060000
END:STANDARD
END:VTIMEZONE
BEGIN:VEVENT
DTSTART;TZID=America/Toronto:20251216T190000
DTEND;TZID=America/Toronto:20251216T203000
DTSTAMP:20260424T003742
CREATED:20251120T005002Z
LAST-MODIFIED:20251120T005006Z
UID:10003636-1765911600-1765917000@maxottawa.ca
SUMMARY:Psychic Death and Transitions
DESCRIPTION:Badly Licked Bear loves death. As a transsexual person\, as an Indigenous person\, as an adoption survivor\, as someone who works with the knowledge of the body and of bodies\, death is a constant companion in her work.  \n\n\n\nParticipants will be held in exploring psychic deaths\, what it means to be “once dead and twice born\,” and how our sexuality often skirts\, confronts\, plays with\, or outright embraces death. What does it mean to bring death and the process of death consciously into one’s daily life and practices?  \n\n\n\nQueer Death Salon is a community space for all 2SLGBTQIA+ people to come together to discuss death\, dying and grief. It is a facilitated drop-in discussion space\, with the purpose of building connection\, skill\, and resources for 2SLGBTQIA+ people navigating end of life in our personal lives and in our communities.  \n\n\n\nParticipants are encouraged to bring their own questions\, stories\, and complexities to share.
URL:https://maxottawa.ca/list/psychic-death-and-transitions/
CATEGORIES:Regular programming
ORGANIZER;CN="Queer Community Deathcare":MAILTO:Queercommunitydeathcare@gmail.com
LOCATION:https://maxottawa.ca/list/psychic-death-and-transitions/
END:VEVENT
END:VCALENDAR