BEGIN:VCALENDAR
VERSION:2.0
PRODID:-//MAX Ottawa - ECPv6.15.20//NONSGML v1.0//EN
CALSCALE:GREGORIAN
METHOD:PUBLISH
X-ORIGINAL-URL:https://maxottawa.ca
X-WR-CALDESC:Events for MAX Ottawa
REFRESH-INTERVAL;VALUE=DURATION:PT1H
X-Robots-Tag:noindex
X-PUBLISHED-TTL:PT1H
BEGIN:VTIMEZONE
TZID:America/Toronto
BEGIN:DAYLIGHT
TZOFFSETFROM:-0500
TZOFFSETTO:-0400
TZNAME:EDT
DTSTART:20240310T070000
END:DAYLIGHT
BEGIN:STANDARD
TZOFFSETFROM:-0400
TZOFFSETTO:-0500
TZNAME:EST
DTSTART:20241103T060000
END:STANDARD
BEGIN:DAYLIGHT
TZOFFSETFROM:-0500
TZOFFSETTO:-0400
TZNAME:EDT
DTSTART:20250309T070000
END:DAYLIGHT
BEGIN:STANDARD
TZOFFSETFROM:-0400
TZOFFSETTO:-0500
TZNAME:EST
DTSTART:20251102T060000
END:STANDARD
BEGIN:DAYLIGHT
TZOFFSETFROM:-0500
TZOFFSETTO:-0400
TZNAME:EDT
DTSTART:20260308T070000
END:DAYLIGHT
BEGIN:STANDARD
TZOFFSETFROM:-0400
TZOFFSETTO:-0500
TZNAME:EST
DTSTART:20261101T060000
END:STANDARD
END:VTIMEZONE
BEGIN:VEVENT
DTSTART;TZID=America/Toronto:20251003T170000
DTEND;TZID=America/Toronto:20251003T190000
DTSTAMP:20260424T164515
CREATED:20250514T185644Z
LAST-MODIFIED:20250514T185658Z
UID:10002746-1759510800-1759518000@maxottawa.ca
SUMMARY:Frontrunners - Women's Run
DESCRIPTION:A running and walking club for 2SLGBTQ+ community and friends in the National Capital Region\, meeting Tuesday nights\, Friday nights\, and Saturday mornings (09:00 (spring\, summer\, fall); 09:30 (winter; from the first Saturday of December to the last Saturday of March)) at 111 Lisgar Street\, the rear entrance of City Hall. \n\n\n\nRuns are held: \n\n\n\n\nTuesdays at 6:30 pm\, after which we go for coffee (Routes)\n\n\n\nSaturdays at 9:00 am (9:30 am from the first Saturday of December to the last Saturday of March inclusive)\, followed by breakfast  (Routes)\n\n\n\n\nWomen’s 5km run \n\n\n\n\nFridays at 5:00 pm\n\n\n\nThis event is open to all who identify as women\, female-identifying\, non-binary\, and Two-Spirit individuals\n\n\n\nFor more details\, please email wmns@ottawafrontrunners.org \n\n\n\n\nNOTICE: 2025 Gatineau runs — Saturdays\, 10 May\, 14 June\, 12 July\, 9 August\, 13 September\, and 11 October. \n\n\n\nCancellation of runs are rare\, only owing to holidays and hazardous weather. When runs are cancelled\, we post a notice on the site linked below and send an e-mail to members.
URL:https://maxottawa.ca/list/frontrunners-womens-run/2025-10-03/
LOCATION:Ontario
CATEGORIES:Regular programming,Social,Sports and recreation
END:VEVENT
BEGIN:VEVENT
DTSTART;TZID=America/Toronto:20251003T200000
DTEND;TZID=America/Toronto:20251003T230000
DTSTAMP:20260424T164515
CREATED:20250924T203027Z
LAST-MODIFIED:20250924T203032Z
UID:10003502-1759521600-1759532400@maxottawa.ca
SUMMARY:Naughty Art Night Mixer
DESCRIPTION:Join us October 3rd at Orleans Brewing Co (4380 Innes Rd) from 8 pm- close for our Naughty Art Night Mixer for poly\, swingers\, singles and those curious looking to meet each other in a casual environment with an optional art including nude drawing\, naughty colouring and more! This event has been purposefully organized to allow attendees to chat and mingle with one another. The music will be played in the background only\, so that everyone can hear each other. \n\n\n\nThis mixer is all about getting together and having fun! Tickets are $20 in advance and $25 at the door. \n\n\n\nMembers get a discounted price online! \n\n\n\nDresscode in effect: date night casual. No sweatpants and gym shoes\, dress to impress. \n\n\n\nPlease have your digital QR code ticket ready upon arrival. You do not require a physical ticket. \n\n\n\nWe have the entire venue for the evening. This is a public event\, meaning that you do not have to be a member. This event is perfect for those looking to learn more about our membership. \n\n\n\nNever been to OBC before? There is ample parking available in the area and at the venue. \n\n\n\nPlease make sure you do not drink and drive.  \n\n\n\nThis venue is accessible.
URL:https://maxottawa.ca/list/naughty-art-night-mixer/
LOCATION:Orleans Brewing Co.\, 4380 Innes Rd\, Orleans\, Ontario\, K4A 3W3\, Canada
CATEGORIES:Art,Orleans,Sex positive,Social
ORGANIZER;CN="Lux Velvet":MAILTO:info@luxvelvet.com
END:VEVENT
END:VCALENDAR