BEGIN:VCALENDAR
VERSION:2.0
PRODID:-//MAX Ottawa - ECPv6.15.20//NONSGML v1.0//EN
CALSCALE:GREGORIAN
METHOD:PUBLISH
X-WR-CALNAME:MAX Ottawa
X-ORIGINAL-URL:https://maxottawa.ca
X-WR-CALDESC:Events for MAX Ottawa
REFRESH-INTERVAL;VALUE=DURATION:PT1H
X-Robots-Tag:noindex
X-PUBLISHED-TTL:PT1H
BEGIN:VTIMEZONE
TZID:America/Toronto
BEGIN:DAYLIGHT
TZOFFSETFROM:-0500
TZOFFSETTO:-0400
TZNAME:EDT
DTSTART:20240310T070000
END:DAYLIGHT
BEGIN:STANDARD
TZOFFSETFROM:-0400
TZOFFSETTO:-0500
TZNAME:EST
DTSTART:20241103T060000
END:STANDARD
BEGIN:DAYLIGHT
TZOFFSETFROM:-0500
TZOFFSETTO:-0400
TZNAME:EDT
DTSTART:20250309T070000
END:DAYLIGHT
BEGIN:STANDARD
TZOFFSETFROM:-0400
TZOFFSETTO:-0500
TZNAME:EST
DTSTART:20251102T060000
END:STANDARD
BEGIN:DAYLIGHT
TZOFFSETFROM:-0500
TZOFFSETTO:-0400
TZNAME:EDT
DTSTART:20260308T070000
END:DAYLIGHT
BEGIN:STANDARD
TZOFFSETFROM:-0400
TZOFFSETTO:-0500
TZNAME:EST
DTSTART:20261101T060000
END:STANDARD
END:VTIMEZONE
BEGIN:VEVENT
DTSTART;TZID=America/Toronto:20251206T090000
DTEND;TZID=America/Toronto:20251206T113000
DTSTAMP:20260421T032205
CREATED:20250514T190044Z
LAST-MODIFIED:20250514T190052Z
UID:10002785-1765011600-1765020600@maxottawa.ca
SUMMARY:Frontrunners
DESCRIPTION:A running and walking club for 2SLGBTQ+ community and friends in the National Capital Region\, meeting Tuesday nights\, Friday nights\, and Saturday mornings (09:00 (spring\, summer\, fall); 09:30 (winter; from the first Saturday of December to the last Saturday of March)) at 111 Lisgar Street\, the rear entrance of City Hall. \n\n\n\nRuns are held: \n\n\n\n\nTuesdays at 6:30 pm\, after which we go for coffee (Routes)\n\n\n\nSaturdays at 9:00 am (9:30 am from the first Saturday of December to the last Saturday of March inclusive)\, followed by breakfast  (Routes)\n\n\n\n\nWomen’s 5km run \n\n\n\n\nFridays at 5:00 pm\n\n\n\nThis event is open to all who identify as women\, female-identifying\, non-binary\, and Two-Spirit individuals\n\n\n\nFor more details\, please email wmns@ottawafrontrunners.org \n\n\n\n\nNOTICE: 2025 Gatineau runs — Saturdays\, 10 May\, 14 June\, 12 July\, 9 August\, 13 September\, and 11 October. \n\n\n\nCancellation of runs are rare\, only owing to holidays and hazardous weather. When runs are cancelled\, we post a notice on the site linked below and send an e-mail to members.
URL:https://maxottawa.ca/list/frontrunners-2/2025-12-06/
LOCATION:Ontario
CATEGORIES:Regular programming,Social,Sports and recreation
END:VEVENT
BEGIN:VEVENT
DTSTART;TZID=America/Toronto:20251206T173000
DTEND;TZID=America/Toronto:20251206T193000
DTSTAMP:20260421T032205
CREATED:20251001T022958Z
LAST-MODIFIED:20251001T023009Z
UID:10003545-1765042200-1765049400@maxottawa.ca
SUMMARY:Poetry Night
DESCRIPTION:An informal evening of poetry reading and discussion. No mic\, no stage! Share poems you have discovered or ones you have written in a casual atmosphere of poetry appreciation. Meeting on the first Saturday of the month at 5:30.
URL:https://maxottawa.ca/list/poetry-night-2/2025-12-06/
LOCATION:Ottawa Trans Library\, 1104 Somerset St. West\, Ottawa\, Ontario\, K1Y3C8\, Canada
CATEGORIES:Ottawa,Regular programming,Social
END:VEVENT
END:VCALENDAR