BEGIN:VCALENDAR
VERSION:2.0
PRODID:-//MAX Ottawa - ECPv6.15.20//NONSGML v1.0//EN
CALSCALE:GREGORIAN
METHOD:PUBLISH
X-WR-CALNAME:MAX Ottawa
X-ORIGINAL-URL:https://maxottawa.ca
X-WR-CALDESC:Events for MAX Ottawa
REFRESH-INTERVAL;VALUE=DURATION:PT1H
X-Robots-Tag:noindex
X-PUBLISHED-TTL:PT1H
BEGIN:VTIMEZONE
TZID:America/Toronto
BEGIN:DAYLIGHT
TZOFFSETFROM:-0500
TZOFFSETTO:-0400
TZNAME:EDT
DTSTART:20250309T070000
END:DAYLIGHT
BEGIN:STANDARD
TZOFFSETFROM:-0400
TZOFFSETTO:-0500
TZNAME:EST
DTSTART:20251102T060000
END:STANDARD
BEGIN:DAYLIGHT
TZOFFSETFROM:-0500
TZOFFSETTO:-0400
TZNAME:EDT
DTSTART:20260308T070000
END:DAYLIGHT
BEGIN:STANDARD
TZOFFSETFROM:-0400
TZOFFSETTO:-0500
TZNAME:EST
DTSTART:20261101T060000
END:STANDARD
BEGIN:DAYLIGHT
TZOFFSETFROM:-0500
TZOFFSETTO:-0400
TZNAME:EDT
DTSTART:20270314T070000
END:DAYLIGHT
BEGIN:STANDARD
TZOFFSETFROM:-0400
TZOFFSETTO:-0500
TZNAME:EST
DTSTART:20271107T060000
END:STANDARD
END:VTIMEZONE
BEGIN:VEVENT
DTSTART;TZID=America/Toronto:20260127T190000
DTEND;TZID=America/Toronto:20260127T210000
DTSTAMP:20260420T023841
CREATED:20260109T203405Z
LAST-MODIFIED:20260109T203415Z
UID:10004115-1769540400-1769547600@maxottawa.ca
SUMMARY:Capital Bi's Board Game Night
DESCRIPTION:NEXT EVENT MARK YER CALENDARS! 📅 \n\n\n\nTuesday Jan 27 we are having a board game night! Join us at Studio Staja from 7-9PM to play a new game\, make a new friend\, and yap away the winter blues. 🎲 ❄️ 🫂 \n\n\n\nEvent is PWYC. Studio Staja has some goodies for purchase\, and you can support this amazing new local business by paying for some table time. \n\n\n\nAccessability: masked event! 😷 bring your own kn95 or equivalent (some will be available at the door)\, masks can be lowered to briefly eat/drink. Main floor/bathroom is accessible with stairs to 2nd floor.
URL:https://maxottawa.ca/list/capital-bis-board-game-night/
LOCATION:Studio Staja\, 507 Rideau St.\, Ottawa\, Ontario\, K1N 5Z5\, Canada
CATEGORIES:Ottawa,Social
END:VEVENT
END:VCALENDAR