BEGIN:VCALENDAR
VERSION:2.0
PRODID:-//MAX Ottawa - ECPv6.15.20//NONSGML v1.0//EN
CALSCALE:GREGORIAN
METHOD:PUBLISH
X-WR-CALNAME:MAX Ottawa
X-ORIGINAL-URL:https://maxottawa.ca
X-WR-CALDESC:Events for MAX Ottawa
REFRESH-INTERVAL;VALUE=DURATION:PT1H
X-Robots-Tag:noindex
X-PUBLISHED-TTL:PT1H
BEGIN:VTIMEZONE
TZID:America/Toronto
BEGIN:DAYLIGHT
TZOFFSETFROM:-0500
TZOFFSETTO:-0400
TZNAME:EDT
DTSTART:20250309T070000
END:DAYLIGHT
BEGIN:STANDARD
TZOFFSETFROM:-0400
TZOFFSETTO:-0500
TZNAME:EST
DTSTART:20251102T060000
END:STANDARD
BEGIN:DAYLIGHT
TZOFFSETFROM:-0500
TZOFFSETTO:-0400
TZNAME:EDT
DTSTART:20260308T070000
END:DAYLIGHT
BEGIN:STANDARD
TZOFFSETFROM:-0400
TZOFFSETTO:-0500
TZNAME:EST
DTSTART:20261101T060000
END:STANDARD
BEGIN:DAYLIGHT
TZOFFSETFROM:-0500
TZOFFSETTO:-0400
TZNAME:EDT
DTSTART:20270314T070000
END:DAYLIGHT
BEGIN:STANDARD
TZOFFSETFROM:-0400
TZOFFSETTO:-0500
TZNAME:EST
DTSTART:20271107T060000
END:STANDARD
END:VTIMEZONE
BEGIN:VEVENT
DTSTART;TZID=America/Toronto:20260331T190000
DTEND;TZID=America/Toronto:20260331T210000
DTSTAMP:20260421T180957
CREATED:20260330T182411Z
LAST-MODIFIED:20260330T182415Z
UID:10004843-1774983600-1774990800@maxottawa.ca
SUMMARY:Gay Speed Dating | Ages 27-43
DESCRIPTION:Speed Dating Events in Ottawa! Here’s what to expect!🎟️Purchase your ticket! A ticket confirmation will be sent to your inbox.🤩Dress code: Dress to impress – Our best advice is to dress in something you’ll feel comfortable and confident in.⏰Be on time! We recommend arriving 15 minutes early to check in with our host. Take this time to mingle\, grab a drink\, and meet the other singles. \n\n\n\nSo…how does speed dating work?💬Each speed dating event starts with a quick and fun game to help everyone meet and break the ice.⏳In 8-minute intervals\, you’ll spend 8 minutes getting to know each potential match.📝Once you’ve spoken to everyone\, you’ll fill out your scorecard and hand it back to our host.❤️‍🔥Within 48 hours\, our team will reach out via email with exciting news about your potential matches from our event.
URL:https://maxottawa.ca/list/gay-speed-dating-ages-27-43/
LOCATION:Beyond the Pale Brewing Company\, 250 City Centre Ave Bay 106\, Ottawa\, Ontario\, K1R 6K7\, Canada
CATEGORIES:Ottawa,Social
ORGANIZER;CN="Flare Events":MAILTO:ottawa@flareevents.com
END:VEVENT
END:VCALENDAR