BEGIN:VCALENDAR
VERSION:2.0
PRODID:-//MAX Ottawa - ECPv6.15.20//NONSGML v1.0//EN
CALSCALE:GREGORIAN
METHOD:PUBLISH
X-WR-CALNAME:MAX Ottawa
X-ORIGINAL-URL:https://maxottawa.ca
X-WR-CALDESC:Events for MAX Ottawa
REFRESH-INTERVAL;VALUE=DURATION:PT1H
X-Robots-Tag:noindex
X-PUBLISHED-TTL:PT1H
BEGIN:VTIMEZONE
TZID:America/Toronto
BEGIN:DAYLIGHT
TZOFFSETFROM:-0500
TZOFFSETTO:-0400
TZNAME:EDT
DTSTART:20230312T070000
END:DAYLIGHT
BEGIN:STANDARD
TZOFFSETFROM:-0400
TZOFFSETTO:-0500
TZNAME:EST
DTSTART:20231105T060000
END:STANDARD
BEGIN:DAYLIGHT
TZOFFSETFROM:-0500
TZOFFSETTO:-0400
TZNAME:EDT
DTSTART:20240310T070000
END:DAYLIGHT
BEGIN:STANDARD
TZOFFSETFROM:-0400
TZOFFSETTO:-0500
TZNAME:EST
DTSTART:20241103T060000
END:STANDARD
BEGIN:DAYLIGHT
TZOFFSETFROM:-0500
TZOFFSETTO:-0400
TZNAME:EDT
DTSTART:20250309T070000
END:DAYLIGHT
BEGIN:STANDARD
TZOFFSETFROM:-0400
TZOFFSETTO:-0500
TZNAME:EST
DTSTART:20251102T060000
END:STANDARD
END:VTIMEZONE
BEGIN:VEVENT
DTSTART;TZID=America/Toronto:20241105T180000
DTEND;TZID=America/Toronto:20241105T203000
DTSTAMP:20260422T002218
CREATED:20241030T184609Z
LAST-MODIFIED:20241106T152755Z
UID:10001251-1730829600-1730838600@maxottawa.ca
SUMMARY:Queer Lifting Club
DESCRIPTION:Free drop-in fitness and social club. Signed waivers required to participate.
URL:https://maxottawa.ca/list/queer-lifting-club/2024-11-05/
LOCATION:St. Peter’s Lutheran Church\, 400 Sparks St.\, Ottawa\, Ontario\, K1R5A2\, Canada
CATEGORIES:Sports and recreation
ORGANIZER;CN="Ottawa Queer Lifting Club":MAILTO:queerliftingclub@gmail.com
END:VEVENT
BEGIN:VEVENT
DTSTART;TZID=America/Toronto:20241105T183000
DTEND;TZID=America/Toronto:20241105T200000
DTSTAMP:20260422T002218
CREATED:20241030T175638Z
LAST-MODIFIED:20241108T142241Z
UID:10001185-1730831400-1730836800@maxottawa.ca
SUMMARY:Ottawa Frontrunners Weekly Meet
DESCRIPTION:Ottawa Frontrunners (OFR) is a running and walking club for members of the Two-Spirit\, Lesbian\, Gay\, Bisexual\, Transgender\, and Queer (2SLGBTQ) community and friends. Located in Ottawa\, it is Canada’s national capital chapter of International Frontrunners. We have runners of various ages and skill levels and typically have groups going between 5 and 9 km (3 and 5.59 miles) at various paces. Walkers are also members of the club\, consisting usually of runners on the injury list and partners or friends of runners.
URL:https://maxottawa.ca/list/frontrunners-ottawa-weekly-meet/
LOCATION:City Hall (Lisgar St Entrance)\, 111 Lisgar\, Ottawa\, ON\, Canada
CATEGORIES:Sports and recreation
END:VEVENT
BEGIN:VEVENT
DTSTART;TZID=America/Toronto:20241105T183000
DTEND;TZID=America/Toronto:20241105T200000
DTSTAMP:20260422T002218
CREATED:20241108T142102Z
LAST-MODIFIED:20241108T142107Z
UID:10001186-1730831400-1730836800@maxottawa.ca
SUMMARY:Ottawa Frontrunners Weekly Meet
DESCRIPTION:Ottawa Frontrunners (OFR) is a running and walking club for members of the Two-Spirit\, Lesbian\, Gay\, Bisexual\, Transgender\, and Queer (2SLGBTQ) community and friends. Located in Ottawa\, it is Canada’s national capital chapter of International Frontrunners. We have runners of various ages and skill levels and typically have groups going between 5 and 9 km (3 and 5.59 miles) at various paces. Walkers are also members of the club\, consisting usually of runners on the injury list and partners or friends of runners.
URL:https://maxottawa.ca/list/frontrunners-ottawa-weekly-meet-2/2024-11-05/
LOCATION:City Hall (Lisgar St Entrance)\, 111 Lisgar\, Ottawa\, ON\, Canada
CATEGORIES:Sports and recreation
END:VEVENT
BEGIN:VEVENT
DTSTART;TZID=America/Toronto:20241105T184500
DTEND;TZID=America/Toronto:20241105T194500
DTSTAMP:20260422T002218
CREATED:20241030T173807Z
LAST-MODIFIED:20241107T181759Z
UID:10001106-1730832300-1730835900@maxottawa.ca
SUMMARY:Swim Workout
DESCRIPTION:Meet fellow Queer swimmers & get a workout in. Open to members or drop-in registrations.
URL:https://maxottawa.ca/list/swim-workout-3/2024-11-05/
LOCATION:YMCA – Argyle\, 181 Argyle Ave.\, Ottawa\, Ontario\, K2P1B7\, Canada
CATEGORIES:Sports and recreation
ORGANIZER;CN="Rideau Speedeaus":MAILTO:info@rideauspeedeaus.com
END:VEVENT
END:VCALENDAR