BEGIN:VCALENDAR
VERSION:2.0
PRODID:-//MAX Ottawa - ECPv6.15.20//NONSGML v1.0//EN
CALSCALE:GREGORIAN
METHOD:PUBLISH
X-ORIGINAL-URL:https://maxottawa.ca
X-WR-CALDESC:Events for MAX Ottawa
REFRESH-INTERVAL;VALUE=DURATION:PT1H
X-Robots-Tag:noindex
X-PUBLISHED-TTL:PT1H
BEGIN:VTIMEZONE
TZID:America/Toronto
BEGIN:DAYLIGHT
TZOFFSETFROM:-0500
TZOFFSETTO:-0400
TZNAME:EDT
DTSTART:20240310T070000
END:DAYLIGHT
BEGIN:STANDARD
TZOFFSETFROM:-0400
TZOFFSETTO:-0500
TZNAME:EST
DTSTART:20241103T060000
END:STANDARD
BEGIN:DAYLIGHT
TZOFFSETFROM:-0500
TZOFFSETTO:-0400
TZNAME:EDT
DTSTART:20250309T070000
END:DAYLIGHT
BEGIN:STANDARD
TZOFFSETFROM:-0400
TZOFFSETTO:-0500
TZNAME:EST
DTSTART:20251102T060000
END:STANDARD
BEGIN:DAYLIGHT
TZOFFSETFROM:-0500
TZOFFSETTO:-0400
TZNAME:EDT
DTSTART:20260308T070000
END:DAYLIGHT
BEGIN:STANDARD
TZOFFSETFROM:-0400
TZOFFSETTO:-0500
TZNAME:EST
DTSTART:20261101T060000
END:STANDARD
END:VTIMEZONE
BEGIN:VEVENT
DTSTART;TZID=America/Toronto:20250201T093000
DTEND;TZID=America/Toronto:20250201T120000
DTSTAMP:20260424T213955
CREATED:20250105T191651Z
LAST-MODIFIED:20250105T191819Z
UID:10001228-1738402200-1738411200@maxottawa.ca
SUMMARY:OFR Winter Saturday Run + Breakfast (Winter)
DESCRIPTION:Run 5 \, 7\, or 9 km with the Frontrunners and have breakfast afterwards at Cooper’s Gastropub. \n\n\n\nOttawa Frontrunners (OFR) is a running and walking club for members of the Two-Spirit\, Lesbian\, Gay\, Bisexual\, Transgender\, and Queer (2SLGBTQ) community and friends. Located in Ottawa\, it is Canada’s national capital chapter of International Frontrunners. We have runners of various ages and skill levels and typically have groups going between 5 and 9 km (3 and 5.59 miles) at various paces. Walkers are also members of the club\, consisting usually of runners on the injury list and partners or friends of runners.
URL:https://maxottawa.ca/list/ottawa-frontrunners-saturday-meets-winter-2/2025-02-01/
LOCATION:City Hall (Lisgar St Entrance)\, 111 Lisgar\, Ottawa\, ON\, Canada
CATEGORIES:Sports and recreation
END:VEVENT
BEGIN:VEVENT
DTSTART;TZID=America/Toronto:20250201T130000
DTEND;TZID=America/Toronto:20250201T150000
DTSTAMP:20260424T213955
CREATED:20250127T190155Z
LAST-MODIFIED:20250127T190203Z
UID:10001613-1738414800-1738422000@maxottawa.ca
SUMMARY:Field Trip - Queers On Ice
DESCRIPTION:Come skate with us! \n\n\n\nGet ready for your next great Field Trip! \n\n\n\nIt can be really hard to make queer friends outside of the bars\, and although they’re a lot of fun\, they’re not everyone’s scene. Field Trip is a monthly hangout for MAX community members coming in August 2024! Each month\, we pick a location or an activity (ranging from free to low cost) where you can come and make queer friends while exploring the city! With so many events from hiking trips to museums to shopping sprees\, your next Field Trip is sure to be incredible. \n\n\n\nSign up through the link below!
URL:https://maxottawa.ca/list/field-trip-queers-on-ice/
LOCATION:Rideau Canal Skateway\, 1 Elgin St.\, Ottawa\, Ontario\, Canada
CATEGORIES:MAX Programs,Regular programming,Social,Sports and recreation
ORGANIZER;CN="MAX Ottawa":MAILTO:info@maxottawa.ca
END:VEVENT
END:VCALENDAR