BEGIN:VCALENDAR
VERSION:2.0
PRODID:-//MAX Ottawa - ECPv6.15.20//NONSGML v1.0//EN
CALSCALE:GREGORIAN
METHOD:PUBLISH
X-WR-CALNAME:MAX Ottawa
X-ORIGINAL-URL:https://maxottawa.ca
X-WR-CALDESC:Events for MAX Ottawa
REFRESH-INTERVAL;VALUE=DURATION:PT1H
X-Robots-Tag:noindex
X-PUBLISHED-TTL:PT1H
BEGIN:VTIMEZONE
TZID:America/Toronto
BEGIN:DAYLIGHT
TZOFFSETFROM:-0500
TZOFFSETTO:-0400
TZNAME:EDT
DTSTART:20240310T070000
END:DAYLIGHT
BEGIN:STANDARD
TZOFFSETFROM:-0400
TZOFFSETTO:-0500
TZNAME:EST
DTSTART:20241103T060000
END:STANDARD
BEGIN:DAYLIGHT
TZOFFSETFROM:-0500
TZOFFSETTO:-0400
TZNAME:EDT
DTSTART:20250309T070000
END:DAYLIGHT
BEGIN:STANDARD
TZOFFSETFROM:-0400
TZOFFSETTO:-0500
TZNAME:EST
DTSTART:20251102T060000
END:STANDARD
BEGIN:DAYLIGHT
TZOFFSETFROM:-0500
TZOFFSETTO:-0400
TZNAME:EDT
DTSTART:20260308T070000
END:DAYLIGHT
BEGIN:STANDARD
TZOFFSETFROM:-0400
TZOFFSETTO:-0500
TZNAME:EST
DTSTART:20261101T060000
END:STANDARD
END:VTIMEZONE
BEGIN:VEVENT
DTSTART;TZID=America/Toronto:20250427T120000
DTEND;TZID=America/Toronto:20250427T140000
DTSTAMP:20260421T024249
CREATED:20250413T201312Z
LAST-MODIFIED:20250413T201321Z
UID:10002441-1745755200-1745762400@maxottawa.ca
SUMMARY:What a Drag... Brunch
DESCRIPTION:Are you ready to “she bop\, he bop\, we bop”? Ottawa we’re going retro party vibes on April 27th. That’s right only hits from the 80’s and early 90’s will have you singing along and feeling a little nostalgic. \n\n\n\nAre you celebrating a birthday\, a girls brunch\, anniversary\, bridal/bachelorette/bachelor brunch\, or special event? Send an email to the organizer. Let’s celebrate together. \n\n\n\nWhat a Drag Brunch is presented by Beyond the Pale Byward Taproom and Heels and Heart Events. Let’s get together for brunch\, bring your friends\, family\, partner\, make it a pals day out. Link to tickets below. With guests Elle Faekwa and Love. Featuring Diamond D. Ladie and Lady Huntress. \n\n\n\nDoors open at 11 am\, show 12-2 \n\n\n\nWe have addressed the service wait times and developed a plan to ensure that everyone gets their food and beverage orders in a timely manner. \n\n\n\nCome and join Ottawa’s newest drag brunch experience.
URL:https://maxottawa.ca/list/what-a-drag-brunch/
LOCATION:Beyond the Pale Byward Taproom\, 21 George St.\, Ottawa\, Ontario\, K1N 8W5\, Canada
CATEGORIES:Drag & Burlesque
ORGANIZER;CN="Bianca Allen":MAILTO:heelsnheartevents@gmail.com
END:VEVENT
BEGIN:VEVENT
DTSTART;TZID=America/Toronto:20250405T210000
DTEND;TZID=America/Toronto:20250406T023000
DTSTAMP:20260421T024249
CREATED:20250402T205251Z
LAST-MODIFIED:20250402T205316Z
UID:10002372-1743886800-1743906600@maxottawa.ca
SUMMARY:Collider
DESCRIPTION:Room 1👄 @monsieurmadam (MTL)👄 @murderith (CDMX)👄 @mankaasha (MTL) \n\n\n\n🏰 @sweet_morgane (OTT)🏰 @lilfr1dge (OTT)🏰 @y3kuzey (OTT) \n\n\n\nRoom 2🌍 @soda.kids (MTL)🌍 @ily__bo (OTT)🌍 @shuv.ca (OTT) \n\n\n\n🐎 @ref4nged (MTL)🐎 @alexospino_ (OTT)🐎 @esme2k (OTT) \n\n\n\n+ 💡@werkfone (OTT)
URL:https://maxottawa.ca/list/collider/
LOCATION:Beyond the Pale Byward Taproom\, 21 George St.\, Ottawa\, Ontario\, K1N 8W5\, Canada
CATEGORIES:Live music,Nightlife
END:VEVENT
END:VCALENDAR