BEGIN:VCALENDAR
VERSION:2.0
PRODID:-//MAX Ottawa - ECPv6.15.20//NONSGML v1.0//EN
CALSCALE:GREGORIAN
METHOD:PUBLISH
X-WR-CALNAME:MAX Ottawa
X-ORIGINAL-URL:https://maxottawa.ca
X-WR-CALDESC:Events for MAX Ottawa
REFRESH-INTERVAL;VALUE=DURATION:PT1H
X-Robots-Tag:noindex
X-PUBLISHED-TTL:PT1H
BEGIN:VTIMEZONE
TZID:America/Toronto
BEGIN:DAYLIGHT
TZOFFSETFROM:-0500
TZOFFSETTO:-0400
TZNAME:EDT
DTSTART:20250309T070000
END:DAYLIGHT
BEGIN:STANDARD
TZOFFSETFROM:-0400
TZOFFSETTO:-0500
TZNAME:EST
DTSTART:20251102T060000
END:STANDARD
BEGIN:DAYLIGHT
TZOFFSETFROM:-0500
TZOFFSETTO:-0400
TZNAME:EDT
DTSTART:20260308T070000
END:DAYLIGHT
BEGIN:STANDARD
TZOFFSETFROM:-0400
TZOFFSETTO:-0500
TZNAME:EST
DTSTART:20261101T060000
END:STANDARD
BEGIN:DAYLIGHT
TZOFFSETFROM:-0500
TZOFFSETTO:-0400
TZNAME:EDT
DTSTART:20270314T070000
END:DAYLIGHT
BEGIN:STANDARD
TZOFFSETFROM:-0400
TZOFFSETTO:-0500
TZNAME:EST
DTSTART:20271107T060000
END:STANDARD
END:VTIMEZONE
BEGIN:VEVENT
DTSTART;TZID=America/Toronto:20260630T183000
DTEND;TZID=America/Toronto:20260630T203000
DTSTAMP:20260420T012144
CREATED:20260402T191556Z
LAST-MODIFIED:20260402T191615Z
UID:10004894-1782844200-1782851400@maxottawa.ca
SUMMARY:Frontrunners: Weekly Run & Coffee
DESCRIPTION:Run or walk with Frontrunners and join them for a beverage or supper after (place to be determined).  \n\n\n\nAll runs begin at the Lisgar Street entrance of City Hall\, 111 Lisgar. \n\n\n\nCancellation of runs are rare\, only owing to holidays and hazardous weather. When runs are cancelled\, they post a notice on their site and send an e-mail to members.
URL:https://maxottawa.ca/list/frontrunners-weekly-run-coffee/2026-06-30/
LOCATION:City Hall (Lisgar St Entrance)\, 111 Lisgar\, Ottawa\, ON\, Canada
CATEGORIES:Ottawa,Sports and recreation
END:VEVENT
BEGIN:VEVENT
DTSTART;TZID=America/Toronto:20260704T093000
DTEND;TZID=America/Toronto:20260704T120000
DTSTAMP:20260420T012144
CREATED:20260402T190529Z
LAST-MODIFIED:20260402T190549Z
UID:10004865-1783157400-1783166400@maxottawa.ca
SUMMARY:Frontrunners: Saturday Run & Breakfast
DESCRIPTION:5\, 7\, and 9KM runs with the Frontrunners. \n\n\n\nAll runs begin at the Lisgar Street entrance of City Hall\, 111 Lisgar. \n\n\n\nCancellation of runs are rare\, only owing to holidays and hazardous weather. When runs are cancelled\, they post a notice on their  site and send an e-mail to members.
URL:https://maxottawa.ca/list/frontrunners-saturday-run-breakfast/2026-07-04/
LOCATION:City Hall (Lisgar St Entrance)\, 111 Lisgar\, Ottawa\, ON\, Canada
CATEGORIES:Ottawa,Sports and recreation
END:VEVENT
BEGIN:VEVENT
DTSTART;TZID=America/Toronto:20260707T183000
DTEND;TZID=America/Toronto:20260707T203000
DTSTAMP:20260420T012144
CREATED:20260402T191556Z
LAST-MODIFIED:20260402T191615Z
UID:10004895-1783449000-1783456200@maxottawa.ca
SUMMARY:Frontrunners: Weekly Run & Coffee
DESCRIPTION:Run or walk with Frontrunners and join them for a beverage or supper after (place to be determined).  \n\n\n\nAll runs begin at the Lisgar Street entrance of City Hall\, 111 Lisgar. \n\n\n\nCancellation of runs are rare\, only owing to holidays and hazardous weather. When runs are cancelled\, they post a notice on their site and send an e-mail to members.
URL:https://maxottawa.ca/list/frontrunners-weekly-run-coffee/2026-07-07/
LOCATION:City Hall (Lisgar St Entrance)\, 111 Lisgar\, Ottawa\, ON\, Canada
CATEGORIES:Ottawa,Sports and recreation
END:VEVENT
BEGIN:VEVENT
DTSTART;TZID=America/Toronto:20260711T093000
DTEND;TZID=America/Toronto:20260711T120000
DTSTAMP:20260420T012144
CREATED:20260402T190529Z
LAST-MODIFIED:20260402T190549Z
UID:10004866-1783762200-1783771200@maxottawa.ca
SUMMARY:Frontrunners: Saturday Run & Breakfast
DESCRIPTION:5\, 7\, and 9KM runs with the Frontrunners. \n\n\n\nAll runs begin at the Lisgar Street entrance of City Hall\, 111 Lisgar. \n\n\n\nCancellation of runs are rare\, only owing to holidays and hazardous weather. When runs are cancelled\, they post a notice on their  site and send an e-mail to members.
URL:https://maxottawa.ca/list/frontrunners-saturday-run-breakfast/2026-07-11/
LOCATION:City Hall (Lisgar St Entrance)\, 111 Lisgar\, Ottawa\, ON\, Canada
CATEGORIES:Ottawa,Sports and recreation
END:VEVENT
BEGIN:VEVENT
DTSTART;TZID=America/Toronto:20260714T183000
DTEND;TZID=America/Toronto:20260714T203000
DTSTAMP:20260420T012144
CREATED:20260402T191556Z
LAST-MODIFIED:20260402T191615Z
UID:10004896-1784053800-1784061000@maxottawa.ca
SUMMARY:Frontrunners: Weekly Run & Coffee
DESCRIPTION:Run or walk with Frontrunners and join them for a beverage or supper after (place to be determined).  \n\n\n\nAll runs begin at the Lisgar Street entrance of City Hall\, 111 Lisgar. \n\n\n\nCancellation of runs are rare\, only owing to holidays and hazardous weather. When runs are cancelled\, they post a notice on their site and send an e-mail to members.
URL:https://maxottawa.ca/list/frontrunners-weekly-run-coffee/2026-07-14/
LOCATION:City Hall (Lisgar St Entrance)\, 111 Lisgar\, Ottawa\, ON\, Canada
CATEGORIES:Ottawa,Sports and recreation
END:VEVENT
BEGIN:VEVENT
DTSTART;TZID=America/Toronto:20260718T093000
DTEND;TZID=America/Toronto:20260718T120000
DTSTAMP:20260420T012144
CREATED:20260402T190529Z
LAST-MODIFIED:20260402T190549Z
UID:10004867-1784367000-1784376000@maxottawa.ca
SUMMARY:Frontrunners: Saturday Run & Breakfast
DESCRIPTION:5\, 7\, and 9KM runs with the Frontrunners. \n\n\n\nAll runs begin at the Lisgar Street entrance of City Hall\, 111 Lisgar. \n\n\n\nCancellation of runs are rare\, only owing to holidays and hazardous weather. When runs are cancelled\, they post a notice on their  site and send an e-mail to members.
URL:https://maxottawa.ca/list/frontrunners-saturday-run-breakfast/2026-07-18/
LOCATION:City Hall (Lisgar St Entrance)\, 111 Lisgar\, Ottawa\, ON\, Canada
CATEGORIES:Ottawa,Sports and recreation
END:VEVENT
BEGIN:VEVENT
DTSTART;TZID=America/Toronto:20260721T183000
DTEND;TZID=America/Toronto:20260721T203000
DTSTAMP:20260420T012144
CREATED:20260402T191556Z
LAST-MODIFIED:20260402T191615Z
UID:10004897-1784658600-1784665800@maxottawa.ca
SUMMARY:Frontrunners: Weekly Run & Coffee
DESCRIPTION:Run or walk with Frontrunners and join them for a beverage or supper after (place to be determined).  \n\n\n\nAll runs begin at the Lisgar Street entrance of City Hall\, 111 Lisgar. \n\n\n\nCancellation of runs are rare\, only owing to holidays and hazardous weather. When runs are cancelled\, they post a notice on their site and send an e-mail to members.
URL:https://maxottawa.ca/list/frontrunners-weekly-run-coffee/2026-07-21/
LOCATION:City Hall (Lisgar St Entrance)\, 111 Lisgar\, Ottawa\, ON\, Canada
CATEGORIES:Ottawa,Sports and recreation
END:VEVENT
BEGIN:VEVENT
DTSTART;TZID=America/Toronto:20260725T093000
DTEND;TZID=America/Toronto:20260725T120000
DTSTAMP:20260420T012144
CREATED:20260402T190529Z
LAST-MODIFIED:20260402T190549Z
UID:10004868-1784971800-1784980800@maxottawa.ca
SUMMARY:Frontrunners: Saturday Run & Breakfast
DESCRIPTION:5\, 7\, and 9KM runs with the Frontrunners. \n\n\n\nAll runs begin at the Lisgar Street entrance of City Hall\, 111 Lisgar. \n\n\n\nCancellation of runs are rare\, only owing to holidays and hazardous weather. When runs are cancelled\, they post a notice on their  site and send an e-mail to members.
URL:https://maxottawa.ca/list/frontrunners-saturday-run-breakfast/2026-07-25/
LOCATION:City Hall (Lisgar St Entrance)\, 111 Lisgar\, Ottawa\, ON\, Canada
CATEGORIES:Ottawa,Sports and recreation
END:VEVENT
BEGIN:VEVENT
DTSTART;TZID=America/Toronto:20260728T183000
DTEND;TZID=America/Toronto:20260728T203000
DTSTAMP:20260420T012144
CREATED:20260402T191556Z
LAST-MODIFIED:20260402T191615Z
UID:10004898-1785263400-1785270600@maxottawa.ca
SUMMARY:Frontrunners: Weekly Run & Coffee
DESCRIPTION:Run or walk with Frontrunners and join them for a beverage or supper after (place to be determined).  \n\n\n\nAll runs begin at the Lisgar Street entrance of City Hall\, 111 Lisgar. \n\n\n\nCancellation of runs are rare\, only owing to holidays and hazardous weather. When runs are cancelled\, they post a notice on their site and send an e-mail to members.
URL:https://maxottawa.ca/list/frontrunners-weekly-run-coffee/2026-07-28/
LOCATION:City Hall (Lisgar St Entrance)\, 111 Lisgar\, Ottawa\, ON\, Canada
CATEGORIES:Ottawa,Sports and recreation
END:VEVENT
BEGIN:VEVENT
DTSTART;TZID=America/Toronto:20260801T093000
DTEND;TZID=America/Toronto:20260801T120000
DTSTAMP:20260420T012144
CREATED:20260402T190529Z
LAST-MODIFIED:20260402T190549Z
UID:10004869-1785576600-1785585600@maxottawa.ca
SUMMARY:Frontrunners: Saturday Run & Breakfast
DESCRIPTION:5\, 7\, and 9KM runs with the Frontrunners. \n\n\n\nAll runs begin at the Lisgar Street entrance of City Hall\, 111 Lisgar. \n\n\n\nCancellation of runs are rare\, only owing to holidays and hazardous weather. When runs are cancelled\, they post a notice on their  site and send an e-mail to members.
URL:https://maxottawa.ca/list/frontrunners-saturday-run-breakfast/2026-08-01/
LOCATION:City Hall (Lisgar St Entrance)\, 111 Lisgar\, Ottawa\, ON\, Canada
CATEGORIES:Ottawa,Sports and recreation
END:VEVENT
BEGIN:VEVENT
DTSTART;TZID=America/Toronto:20260804T183000
DTEND;TZID=America/Toronto:20260804T203000
DTSTAMP:20260420T012144
CREATED:20260402T191556Z
LAST-MODIFIED:20260402T191615Z
UID:10004899-1785868200-1785875400@maxottawa.ca
SUMMARY:Frontrunners: Weekly Run & Coffee
DESCRIPTION:Run or walk with Frontrunners and join them for a beverage or supper after (place to be determined).  \n\n\n\nAll runs begin at the Lisgar Street entrance of City Hall\, 111 Lisgar. \n\n\n\nCancellation of runs are rare\, only owing to holidays and hazardous weather. When runs are cancelled\, they post a notice on their site and send an e-mail to members.
URL:https://maxottawa.ca/list/frontrunners-weekly-run-coffee/2026-08-04/
LOCATION:City Hall (Lisgar St Entrance)\, 111 Lisgar\, Ottawa\, ON\, Canada
CATEGORIES:Ottawa,Sports and recreation
END:VEVENT
BEGIN:VEVENT
DTSTART;TZID=America/Toronto:20260808T093000
DTEND;TZID=America/Toronto:20260808T120000
DTSTAMP:20260420T012144
CREATED:20260402T190529Z
LAST-MODIFIED:20260402T190549Z
UID:10004870-1786181400-1786190400@maxottawa.ca
SUMMARY:Frontrunners: Saturday Run & Breakfast
DESCRIPTION:5\, 7\, and 9KM runs with the Frontrunners. \n\n\n\nAll runs begin at the Lisgar Street entrance of City Hall\, 111 Lisgar. \n\n\n\nCancellation of runs are rare\, only owing to holidays and hazardous weather. When runs are cancelled\, they post a notice on their  site and send an e-mail to members.
URL:https://maxottawa.ca/list/frontrunners-saturday-run-breakfast/2026-08-08/
LOCATION:City Hall (Lisgar St Entrance)\, 111 Lisgar\, Ottawa\, ON\, Canada
CATEGORIES:Ottawa,Sports and recreation
END:VEVENT
BEGIN:VEVENT
DTSTART;TZID=America/Toronto:20260811T183000
DTEND;TZID=America/Toronto:20260811T203000
DTSTAMP:20260420T012144
CREATED:20260402T191556Z
LAST-MODIFIED:20260402T191615Z
UID:10004900-1786473000-1786480200@maxottawa.ca
SUMMARY:Frontrunners: Weekly Run & Coffee
DESCRIPTION:Run or walk with Frontrunners and join them for a beverage or supper after (place to be determined).  \n\n\n\nAll runs begin at the Lisgar Street entrance of City Hall\, 111 Lisgar. \n\n\n\nCancellation of runs are rare\, only owing to holidays and hazardous weather. When runs are cancelled\, they post a notice on their site and send an e-mail to members.
URL:https://maxottawa.ca/list/frontrunners-weekly-run-coffee/2026-08-11/
LOCATION:City Hall (Lisgar St Entrance)\, 111 Lisgar\, Ottawa\, ON\, Canada
CATEGORIES:Ottawa,Sports and recreation
END:VEVENT
BEGIN:VEVENT
DTSTART;TZID=America/Toronto:20260815T093000
DTEND;TZID=America/Toronto:20260815T120000
DTSTAMP:20260420T012144
CREATED:20260402T190529Z
LAST-MODIFIED:20260402T190549Z
UID:10004871-1786786200-1786795200@maxottawa.ca
SUMMARY:Frontrunners: Saturday Run & Breakfast
DESCRIPTION:5\, 7\, and 9KM runs with the Frontrunners. \n\n\n\nAll runs begin at the Lisgar Street entrance of City Hall\, 111 Lisgar. \n\n\n\nCancellation of runs are rare\, only owing to holidays and hazardous weather. When runs are cancelled\, they post a notice on their  site and send an e-mail to members.
URL:https://maxottawa.ca/list/frontrunners-saturday-run-breakfast/2026-08-15/
LOCATION:City Hall (Lisgar St Entrance)\, 111 Lisgar\, Ottawa\, ON\, Canada
CATEGORIES:Ottawa,Sports and recreation
END:VEVENT
BEGIN:VEVENT
DTSTART;TZID=America/Toronto:20260818T183000
DTEND;TZID=America/Toronto:20260818T203000
DTSTAMP:20260420T012144
CREATED:20260402T191556Z
LAST-MODIFIED:20260402T191615Z
UID:10004901-1787077800-1787085000@maxottawa.ca
SUMMARY:Frontrunners: Weekly Run & Coffee
DESCRIPTION:Run or walk with Frontrunners and join them for a beverage or supper after (place to be determined).  \n\n\n\nAll runs begin at the Lisgar Street entrance of City Hall\, 111 Lisgar. \n\n\n\nCancellation of runs are rare\, only owing to holidays and hazardous weather. When runs are cancelled\, they post a notice on their site and send an e-mail to members.
URL:https://maxottawa.ca/list/frontrunners-weekly-run-coffee/2026-08-18/
LOCATION:City Hall (Lisgar St Entrance)\, 111 Lisgar\, Ottawa\, ON\, Canada
CATEGORIES:Ottawa,Sports and recreation
END:VEVENT
BEGIN:VEVENT
DTSTART;TZID=America/Toronto:20260822T093000
DTEND;TZID=America/Toronto:20260822T120000
DTSTAMP:20260420T012144
CREATED:20260402T190529Z
LAST-MODIFIED:20260402T190549Z
UID:10004872-1787391000-1787400000@maxottawa.ca
SUMMARY:Frontrunners: Saturday Run & Breakfast
DESCRIPTION:5\, 7\, and 9KM runs with the Frontrunners. \n\n\n\nAll runs begin at the Lisgar Street entrance of City Hall\, 111 Lisgar. \n\n\n\nCancellation of runs are rare\, only owing to holidays and hazardous weather. When runs are cancelled\, they post a notice on their  site and send an e-mail to members.
URL:https://maxottawa.ca/list/frontrunners-saturday-run-breakfast/2026-08-22/
LOCATION:City Hall (Lisgar St Entrance)\, 111 Lisgar\, Ottawa\, ON\, Canada
CATEGORIES:Ottawa,Sports and recreation
END:VEVENT
BEGIN:VEVENT
DTSTART;TZID=America/Toronto:20260825T183000
DTEND;TZID=America/Toronto:20260825T203000
DTSTAMP:20260420T012144
CREATED:20260402T191556Z
LAST-MODIFIED:20260402T191615Z
UID:10004902-1787682600-1787689800@maxottawa.ca
SUMMARY:Frontrunners: Weekly Run & Coffee
DESCRIPTION:Run or walk with Frontrunners and join them for a beverage or supper after (place to be determined).  \n\n\n\nAll runs begin at the Lisgar Street entrance of City Hall\, 111 Lisgar. \n\n\n\nCancellation of runs are rare\, only owing to holidays and hazardous weather. When runs are cancelled\, they post a notice on their site and send an e-mail to members.
URL:https://maxottawa.ca/list/frontrunners-weekly-run-coffee/2026-08-25/
LOCATION:City Hall (Lisgar St Entrance)\, 111 Lisgar\, Ottawa\, ON\, Canada
CATEGORIES:Ottawa,Sports and recreation
END:VEVENT
BEGIN:VEVENT
DTSTART;TZID=America/Toronto:20260829T093000
DTEND;TZID=America/Toronto:20260829T120000
DTSTAMP:20260420T012144
CREATED:20260402T190529Z
LAST-MODIFIED:20260402T190549Z
UID:10004873-1787995800-1788004800@maxottawa.ca
SUMMARY:Frontrunners: Saturday Run & Breakfast
DESCRIPTION:5\, 7\, and 9KM runs with the Frontrunners. \n\n\n\nAll runs begin at the Lisgar Street entrance of City Hall\, 111 Lisgar. \n\n\n\nCancellation of runs are rare\, only owing to holidays and hazardous weather. When runs are cancelled\, they post a notice on their  site and send an e-mail to members.
URL:https://maxottawa.ca/list/frontrunners-saturday-run-breakfast/2026-08-29/
LOCATION:City Hall (Lisgar St Entrance)\, 111 Lisgar\, Ottawa\, ON\, Canada
CATEGORIES:Ottawa,Sports and recreation
END:VEVENT
BEGIN:VEVENT
DTSTART;TZID=America/Toronto:20260901T183000
DTEND;TZID=America/Toronto:20260901T203000
DTSTAMP:20260420T012144
CREATED:20260402T191556Z
LAST-MODIFIED:20260402T191615Z
UID:10004903-1788287400-1788294600@maxottawa.ca
SUMMARY:Frontrunners: Weekly Run & Coffee
DESCRIPTION:Run or walk with Frontrunners and join them for a beverage or supper after (place to be determined).  \n\n\n\nAll runs begin at the Lisgar Street entrance of City Hall\, 111 Lisgar. \n\n\n\nCancellation of runs are rare\, only owing to holidays and hazardous weather. When runs are cancelled\, they post a notice on their site and send an e-mail to members.
URL:https://maxottawa.ca/list/frontrunners-weekly-run-coffee/2026-09-01/
LOCATION:City Hall (Lisgar St Entrance)\, 111 Lisgar\, Ottawa\, ON\, Canada
CATEGORIES:Ottawa,Sports and recreation
END:VEVENT
BEGIN:VEVENT
DTSTART;TZID=America/Toronto:20260905T093000
DTEND;TZID=America/Toronto:20260905T120000
DTSTAMP:20260420T012144
CREATED:20260402T190529Z
LAST-MODIFIED:20260402T190549Z
UID:10004874-1788600600-1788609600@maxottawa.ca
SUMMARY:Frontrunners: Saturday Run & Breakfast
DESCRIPTION:5\, 7\, and 9KM runs with the Frontrunners. \n\n\n\nAll runs begin at the Lisgar Street entrance of City Hall\, 111 Lisgar. \n\n\n\nCancellation of runs are rare\, only owing to holidays and hazardous weather. When runs are cancelled\, they post a notice on their  site and send an e-mail to members.
URL:https://maxottawa.ca/list/frontrunners-saturday-run-breakfast/2026-09-05/
LOCATION:City Hall (Lisgar St Entrance)\, 111 Lisgar\, Ottawa\, ON\, Canada
CATEGORIES:Ottawa,Sports and recreation
END:VEVENT
BEGIN:VEVENT
DTSTART;TZID=America/Toronto:20260908T183000
DTEND;TZID=America/Toronto:20260908T203000
DTSTAMP:20260420T012144
CREATED:20260402T191556Z
LAST-MODIFIED:20260402T191615Z
UID:10004904-1788892200-1788899400@maxottawa.ca
SUMMARY:Frontrunners: Weekly Run & Coffee
DESCRIPTION:Run or walk with Frontrunners and join them for a beverage or supper after (place to be determined).  \n\n\n\nAll runs begin at the Lisgar Street entrance of City Hall\, 111 Lisgar. \n\n\n\nCancellation of runs are rare\, only owing to holidays and hazardous weather. When runs are cancelled\, they post a notice on their site and send an e-mail to members.
URL:https://maxottawa.ca/list/frontrunners-weekly-run-coffee/2026-09-08/
LOCATION:City Hall (Lisgar St Entrance)\, 111 Lisgar\, Ottawa\, ON\, Canada
CATEGORIES:Ottawa,Sports and recreation
END:VEVENT
BEGIN:VEVENT
DTSTART;TZID=America/Toronto:20260912T093000
DTEND;TZID=America/Toronto:20260912T120000
DTSTAMP:20260420T012144
CREATED:20260402T190529Z
LAST-MODIFIED:20260402T190549Z
UID:10004875-1789205400-1789214400@maxottawa.ca
SUMMARY:Frontrunners: Saturday Run & Breakfast
DESCRIPTION:5\, 7\, and 9KM runs with the Frontrunners. \n\n\n\nAll runs begin at the Lisgar Street entrance of City Hall\, 111 Lisgar. \n\n\n\nCancellation of runs are rare\, only owing to holidays and hazardous weather. When runs are cancelled\, they post a notice on their  site and send an e-mail to members.
URL:https://maxottawa.ca/list/frontrunners-saturday-run-breakfast/2026-09-12/
LOCATION:City Hall (Lisgar St Entrance)\, 111 Lisgar\, Ottawa\, ON\, Canada
CATEGORIES:Ottawa,Sports and recreation
END:VEVENT
BEGIN:VEVENT
DTSTART;TZID=America/Toronto:20260915T183000
DTEND;TZID=America/Toronto:20260915T203000
DTSTAMP:20260420T012144
CREATED:20260402T191556Z
LAST-MODIFIED:20260402T191615Z
UID:10004905-1789497000-1789504200@maxottawa.ca
SUMMARY:Frontrunners: Weekly Run & Coffee
DESCRIPTION:Run or walk with Frontrunners and join them for a beverage or supper after (place to be determined).  \n\n\n\nAll runs begin at the Lisgar Street entrance of City Hall\, 111 Lisgar. \n\n\n\nCancellation of runs are rare\, only owing to holidays and hazardous weather. When runs are cancelled\, they post a notice on their site and send an e-mail to members.
URL:https://maxottawa.ca/list/frontrunners-weekly-run-coffee/2026-09-15/
LOCATION:City Hall (Lisgar St Entrance)\, 111 Lisgar\, Ottawa\, ON\, Canada
CATEGORIES:Ottawa,Sports and recreation
END:VEVENT
BEGIN:VEVENT
DTSTART;TZID=America/Toronto:20260919T093000
DTEND;TZID=America/Toronto:20260919T120000
DTSTAMP:20260420T012144
CREATED:20260402T190529Z
LAST-MODIFIED:20260402T190549Z
UID:10004876-1789810200-1789819200@maxottawa.ca
SUMMARY:Frontrunners: Saturday Run & Breakfast
DESCRIPTION:5\, 7\, and 9KM runs with the Frontrunners. \n\n\n\nAll runs begin at the Lisgar Street entrance of City Hall\, 111 Lisgar. \n\n\n\nCancellation of runs are rare\, only owing to holidays and hazardous weather. When runs are cancelled\, they post a notice on their  site and send an e-mail to members.
URL:https://maxottawa.ca/list/frontrunners-saturday-run-breakfast/2026-09-19/
LOCATION:City Hall (Lisgar St Entrance)\, 111 Lisgar\, Ottawa\, ON\, Canada
CATEGORIES:Ottawa,Sports and recreation
END:VEVENT
BEGIN:VEVENT
DTSTART;TZID=America/Toronto:20260922T183000
DTEND;TZID=America/Toronto:20260922T203000
DTSTAMP:20260420T012144
CREATED:20260402T191556Z
LAST-MODIFIED:20260402T191615Z
UID:10004906-1790101800-1790109000@maxottawa.ca
SUMMARY:Frontrunners: Weekly Run & Coffee
DESCRIPTION:Run or walk with Frontrunners and join them for a beverage or supper after (place to be determined).  \n\n\n\nAll runs begin at the Lisgar Street entrance of City Hall\, 111 Lisgar. \n\n\n\nCancellation of runs are rare\, only owing to holidays and hazardous weather. When runs are cancelled\, they post a notice on their site and send an e-mail to members.
URL:https://maxottawa.ca/list/frontrunners-weekly-run-coffee/2026-09-22/
LOCATION:City Hall (Lisgar St Entrance)\, 111 Lisgar\, Ottawa\, ON\, Canada
CATEGORIES:Ottawa,Sports and recreation
END:VEVENT
BEGIN:VEVENT
DTSTART;TZID=America/Toronto:20260926T093000
DTEND;TZID=America/Toronto:20260926T120000
DTSTAMP:20260420T012144
CREATED:20260402T190529Z
LAST-MODIFIED:20260402T190549Z
UID:10004877-1790415000-1790424000@maxottawa.ca
SUMMARY:Frontrunners: Saturday Run & Breakfast
DESCRIPTION:5\, 7\, and 9KM runs with the Frontrunners. \n\n\n\nAll runs begin at the Lisgar Street entrance of City Hall\, 111 Lisgar. \n\n\n\nCancellation of runs are rare\, only owing to holidays and hazardous weather. When runs are cancelled\, they post a notice on their  site and send an e-mail to members.
URL:https://maxottawa.ca/list/frontrunners-saturday-run-breakfast/2026-09-26/
LOCATION:City Hall (Lisgar St Entrance)\, 111 Lisgar\, Ottawa\, ON\, Canada
CATEGORIES:Ottawa,Sports and recreation
END:VEVENT
BEGIN:VEVENT
DTSTART;TZID=America/Toronto:20260929T183000
DTEND;TZID=America/Toronto:20260929T203000
DTSTAMP:20260420T012144
CREATED:20260402T191556Z
LAST-MODIFIED:20260402T191615Z
UID:10004907-1790706600-1790713800@maxottawa.ca
SUMMARY:Frontrunners: Weekly Run & Coffee
DESCRIPTION:Run or walk with Frontrunners and join them for a beverage or supper after (place to be determined).  \n\n\n\nAll runs begin at the Lisgar Street entrance of City Hall\, 111 Lisgar. \n\n\n\nCancellation of runs are rare\, only owing to holidays and hazardous weather. When runs are cancelled\, they post a notice on their site and send an e-mail to members.
URL:https://maxottawa.ca/list/frontrunners-weekly-run-coffee/2026-09-29/
LOCATION:City Hall (Lisgar St Entrance)\, 111 Lisgar\, Ottawa\, ON\, Canada
CATEGORIES:Ottawa,Sports and recreation
END:VEVENT
BEGIN:VEVENT
DTSTART;TZID=America/Toronto:20261003T093000
DTEND;TZID=America/Toronto:20261003T120000
DTSTAMP:20260420T012144
CREATED:20260402T190529Z
LAST-MODIFIED:20260402T190549Z
UID:10004878-1791019800-1791028800@maxottawa.ca
SUMMARY:Frontrunners: Saturday Run & Breakfast
DESCRIPTION:5\, 7\, and 9KM runs with the Frontrunners. \n\n\n\nAll runs begin at the Lisgar Street entrance of City Hall\, 111 Lisgar. \n\n\n\nCancellation of runs are rare\, only owing to holidays and hazardous weather. When runs are cancelled\, they post a notice on their  site and send an e-mail to members.
URL:https://maxottawa.ca/list/frontrunners-saturday-run-breakfast/2026-10-03/
LOCATION:City Hall (Lisgar St Entrance)\, 111 Lisgar\, Ottawa\, ON\, Canada
CATEGORIES:Ottawa,Sports and recreation
END:VEVENT
BEGIN:VEVENT
DTSTART;TZID=America/Toronto:20261006T183000
DTEND;TZID=America/Toronto:20261006T203000
DTSTAMP:20260420T012144
CREATED:20260402T191556Z
LAST-MODIFIED:20260402T191615Z
UID:10004908-1791311400-1791318600@maxottawa.ca
SUMMARY:Frontrunners: Weekly Run & Coffee
DESCRIPTION:Run or walk with Frontrunners and join them for a beverage or supper after (place to be determined).  \n\n\n\nAll runs begin at the Lisgar Street entrance of City Hall\, 111 Lisgar. \n\n\n\nCancellation of runs are rare\, only owing to holidays and hazardous weather. When runs are cancelled\, they post a notice on their site and send an e-mail to members.
URL:https://maxottawa.ca/list/frontrunners-weekly-run-coffee/2026-10-06/
LOCATION:City Hall (Lisgar St Entrance)\, 111 Lisgar\, Ottawa\, ON\, Canada
CATEGORIES:Ottawa,Sports and recreation
END:VEVENT
BEGIN:VEVENT
DTSTART;TZID=America/Toronto:20261010T093000
DTEND;TZID=America/Toronto:20261010T120000
DTSTAMP:20260420T012144
CREATED:20260402T190529Z
LAST-MODIFIED:20260402T190549Z
UID:10004879-1791624600-1791633600@maxottawa.ca
SUMMARY:Frontrunners: Saturday Run & Breakfast
DESCRIPTION:5\, 7\, and 9KM runs with the Frontrunners. \n\n\n\nAll runs begin at the Lisgar Street entrance of City Hall\, 111 Lisgar. \n\n\n\nCancellation of runs are rare\, only owing to holidays and hazardous weather. When runs are cancelled\, they post a notice on their  site and send an e-mail to members.
URL:https://maxottawa.ca/list/frontrunners-saturday-run-breakfast/2026-10-10/
LOCATION:City Hall (Lisgar St Entrance)\, 111 Lisgar\, Ottawa\, ON\, Canada
CATEGORIES:Ottawa,Sports and recreation
END:VEVENT
END:VCALENDAR