BEGIN:VCALENDAR
VERSION:2.0
PRODID:-//MAX Ottawa - ECPv6.15.20//NONSGML v1.0//EN
CALSCALE:GREGORIAN
METHOD:PUBLISH
X-ORIGINAL-URL:https://maxottawa.ca
X-WR-CALDESC:Events for MAX Ottawa
REFRESH-INTERVAL;VALUE=DURATION:PT1H
X-Robots-Tag:noindex
X-PUBLISHED-TTL:PT1H
BEGIN:VTIMEZONE
TZID:America/Toronto
BEGIN:DAYLIGHT
TZOFFSETFROM:-0500
TZOFFSETTO:-0400
TZNAME:EDT
DTSTART:20240310T070000
END:DAYLIGHT
BEGIN:STANDARD
TZOFFSETFROM:-0400
TZOFFSETTO:-0500
TZNAME:EST
DTSTART:20241103T060000
END:STANDARD
BEGIN:DAYLIGHT
TZOFFSETFROM:-0500
TZOFFSETTO:-0400
TZNAME:EDT
DTSTART:20250309T070000
END:DAYLIGHT
BEGIN:STANDARD
TZOFFSETFROM:-0400
TZOFFSETTO:-0500
TZNAME:EST
DTSTART:20251102T060000
END:STANDARD
BEGIN:DAYLIGHT
TZOFFSETFROM:-0500
TZOFFSETTO:-0400
TZNAME:EDT
DTSTART:20260308T070000
END:DAYLIGHT
BEGIN:STANDARD
TZOFFSETFROM:-0400
TZOFFSETTO:-0500
TZNAME:EST
DTSTART:20261101T060000
END:STANDARD
BEGIN:DAYLIGHT
TZOFFSETFROM:-0500
TZOFFSETTO:-0400
TZNAME:EDT
DTSTART:20270314T070000
END:DAYLIGHT
BEGIN:STANDARD
TZOFFSETFROM:-0400
TZOFFSETTO:-0500
TZNAME:EST
DTSTART:20271107T060000
END:STANDARD
END:VTIMEZONE
BEGIN:VEVENT
DTSTART;TZID=America/Toronto:20260218T193000
DTEND;TZID=America/Toronto:20260218T230000
DTSTAMP:20260419T134434
CREATED:20260213T143659Z
LAST-MODIFIED:20260213T143702Z
UID:10004748-1771443000-1771455600@maxottawa.ca
SUMMARY:Bienvenue
DESCRIPTION:WILLKOMMEN\, BIENVENUE\, WELCOME!!! 🎩❤️‍🔥 friends\, étrangers\, strangers! citizens of so called “ottawa” \n\n\n\nfrabjous events is so happy to have you 🧸! we present bienvenue 🤍🖤 our own little cabaret inspired event! \n\n\n\nauthoritarianism is up! bank accounts are low! media literacy is dead. SO THE CIRCUS IS BACK 🙊🙈 OHHH WHAT BETTER TIME THAN THE PRESENT 🎁 \n\n\n\n— hosted by the magical and talented 🪄 ✩★ glenys marshall ★✩— accompanied by our magnificent house band ✩★ the Odd Fellows Orchestra ★✩ 🎉— ++ burlesque by the stunning ✩★ mona moor ★✩ 🎀— fantastical cirque by ✩★ valarie ★✩ 💐— & a dramatic performance that i’m sure will —- caw caw call ☎️🐦 2 you by ✩★ sarah ivanco ★✩ \n\n\n\nso leave your troubles outside! \n\n\n\ndoors at 7:30pm / show at 8:30pm
URL:https://maxottawa.ca/list/bienvenue/
LOCATION:Laugh Lounge\, 61 York St.\, Ottawa\, Ontario\, K1N 9C7\, Canada
CATEGORIES:Drag & Burlesque,Nightlife,Ottawa
END:VEVENT
BEGIN:VEVENT
DTSTART;TZID=America/Toronto:20260212T200000
DTEND;TZID=America/Toronto:20260212T230000
DTSTAMP:20260419T134434
CREATED:20260116T202416Z
LAST-MODIFIED:20260116T202423Z
UID:10004421-1770926400-1770937200@maxottawa.ca
SUMMARY:S3x(+) Stand-Up Special: Lovers Edition
DESCRIPTION:A spicy comedy show featuring a diverse lineup of comics and a sensual Valentine’s-themed live demo focused on connection! \n\n\n\nThe Sex-Positive Stand-Up Special: Lovers Edition \n\n\n\nOur annual Valentine’s Day edition of this popular s3x-positive comedy show series is back! Join us on Thursday\, February 12 at the Laugh Lounge to celebrate love\, lust\, and connection in all of its deliciously messy forms. \n\n\n\nAs always\, we’re bringing together a diverse lineup of comics delivering their very best jokes about love\, relationships\, s3x\, and intimacy… from sweet and heartfelt to filthy and unfiltered. Get ready to let loose in a safe\, shame-free space where nothing is too taboo\, too weird\, or too vulnerable to laugh about. \n\n\n\nOnce the comedy winds down\, S3x Educator Natalia (@kinksandcoffee) takes the stage for a live demonstration of tools and techniques focused on deepening connection\, building trust\, and enhancing intimacy with your partner. This Lovers Edition demo is intentionally sensual\, playful\, and connective – designed to inspire closeness\, curiosity\, and new ways to explore pleasure together. \n\n\n\nWhether you’re coming with a lover\, multiple lovers\, friends\, or flying solo\, this night is about celebrating connection – to others and to yourself! Come ready to laugh\, blush\, and feel the love 💖 \n\n\n\nDoors open: 8:00 pmComedy show: 8:30 pmKink demo: 10:00 pm
URL:https://maxottawa.ca/list/s3x-stand-up-special-lovers-edition/
LOCATION:Laugh Lounge\, 61 York St.\, Ottawa\, Ontario\, K1N 9C7\, Canada
CATEGORIES:Comedy,Ottawa,Sex positive
END:VEVENT
BEGIN:VEVENT
DTSTART;TZID=America/Toronto:20251002T200000
DTEND;TZID=America/Toronto:20251002T230000
DTSTAMP:20260419T134434
CREATED:20250915T175410Z
LAST-MODIFIED:20250915T175416Z
UID:10003475-1759435200-1759446000@maxottawa.ca
SUMMARY:Sex (+) Stand-Up
DESCRIPTION:The Sex-Positive Stand-Up Special is a one-of-a-kind comedy show where the punchlines and the paddles both land 💥Our lineup of diverse comics is bringing their filthiest\, funniest takes on sex\, dating\, and intimacy. Think raw\, raunchy\, and real – delivered in a safe\, shame-free space where we can laugh out loud about the things we usually only whisper. Nothing’s too taboo\, too weird\, or too messy – we’re laughing with it all. \n\n\n\nAnd just when you think the night can’t get hotter… Sex Educator Natalia (@kinksandcoffee) takes the stage with her demo dolly for a live BDSM scene designed to get you giggling\, blushing\, and inspired to spice things up in your own bedroom. It’s sexy\, silly\, and just the right amount of shocking – in the best way possible. \n\n\n\nSo grab your friends\, your partner(s)\, or just your curious self\, and join us for a night of laughter and sexual liberation! \n\n\n\nDoors open at 8:00 pm \n\n\n\nComedy show starts at 8:30 pm \n\n\n\nKink demo starts at 10:00 pm
URL:https://maxottawa.ca/list/sex-stand-up/
LOCATION:Laugh Lounge\, 61 York St.\, Ottawa\, Ontario\, K1N 9C7\, Canada
CATEGORIES:Comedy,Nightlife,Ottawa,Sex positive
END:VEVENT
BEGIN:VEVENT
DTSTART;TZID=America/Toronto:20250601T183000
DTEND;TZID=America/Toronto:20250601T203000
DTSTAMP:20260419T134434
CREATED:20250519T215336Z
LAST-MODIFIED:20250601T161855Z
UID:10002808-1748802600-1748809800@maxottawa.ca
SUMMARY:Singles Mingle
DESCRIPTION:Join us on Sunday June 1\, 2025 at Laugh Lounge in the Byward Market for the next Singles Mingle! Your hosts Natalia (sex educator & entrepreneur) and Joey (theatre & comedy queen) will guide you through interactive activities that allow you to get to know others in a fun and playful way.  \n\n\n\nHaven’t been to a Singles Mingle before? It’s a special funnel style format – we start playing with the entire group and slowly get into smaller\, more intimate groups as the night progresses. These activities are designed to help you let loose and laugh\, because humour helps to alleviate stress and makes interactions more enjoyable and relaxed. As always\, you will also have the opportunity to win some amazing door prizes (including sex toys from Wicked Wanda’s)!
URL:https://maxottawa.ca/list/singles-mingle-3/
LOCATION:Laugh Lounge\, 61 York St.\, Ottawa\, Ontario\, K1N 9C7\, Canada
CATEGORIES:Ottawa,Sex positive,Social
END:VEVENT
BEGIN:VEVENT
DTSTART;TZID=America/Toronto:20250525T193000
DTEND;TZID=America/Toronto:20250525T223000
DTSTAMP:20260419T134434
CREATED:20250513T203142Z
LAST-MODIFIED:20250513T203155Z
UID:10002621-1748201400-1748212200@maxottawa.ca
SUMMARY:Splash Into Summer: A Drag & Burlesque Variety Show
DESCRIPTION:Welcome to Laughs & Legs: Splash into summer! \n\n\n\nCome join us at Laugh Lounge for a night of Drag\, Burlesque and fun as we kick off the summer season. Get ready for a Sickening lineup of amazing perfomers who will have you in stitches all night long feauturing your hosts : Luscious and Cleo the performers are: Wynter Lylac\, Shubhi\, Zak Zinya\, Satin Sadie & Mx.Caligula. \n\n\n\nSo grab your friends\, put on your favorite summer outfit\, and get ready to party at Laughs & Legs: Splash into summer! See you there!
URL:https://maxottawa.ca/list/splash-into-summer-a-drag-burlesque-variety-show/
LOCATION:Laugh Lounge\, 61 York St.\, Ottawa\, Ontario\, K1N 9C7\, Canada
CATEGORIES:Drag & Burlesque,Nightlife
ORGANIZER;CN="Laughs & Legs":MAILTO:Laughs_Legs@hotmail.com
END:VEVENT
BEGIN:VEVENT
DTSTART;TZID=America/Toronto:20250508T203000
DTEND;TZID=America/Toronto:20250508T223000
DTSTAMP:20260419T134434
CREATED:20250417T192207Z
LAST-MODIFIED:20250423T152933Z
UID:10002519-1746736200-1746743400@maxottawa.ca
SUMMARY:Sex(+) Stand-Up Special: MILF Madness Edition!
DESCRIPTION:The SPICIEST comedy show in our city is BACK to celebrate the raw\, ridiculous and real truths about managing sex and intimacy as a mother! \n\n\n\nFeaturing a powerhouse line-up of fierce\, funny\, and fabulously filthy mom comics\, this one-of-a-kind show brings the laughs with parenting war stories\, bedroom confessions\, and the kind of jokes you definitely can’t share at PTA meetings. \n\n\n\nBut that’s not all—stick around for the grand finale: a live\, interactive kinky demonstration by sex educator Natalia (Kinks & Coffee) that dives into the playful world of MILF role-play. Get ready to giggle\, blush\, and maybe even learn a few things you’ll want to try at home (or in the minivan). \n\n\n\nWhether you’re a mama\, a mama-lover\, or just MILF-curious — this is the Mother’s Day experience you won’t want to miss!
URL:https://maxottawa.ca/list/sex-stand-up-special-milf-madness-edition/
LOCATION:Laugh Lounge\, 61 York St.\, Ottawa\, Ontario\, K1N 9C7\, Canada
CATEGORIES:Nightlife,Sex positive,Social
END:VEVENT
BEGIN:VEVENT
DTSTART;TZID=America/Toronto:20250504T180000
DTEND;TZID=America/Toronto:20250504T203000
DTSTAMP:20260419T134434
CREATED:20250402T134805Z
LAST-MODIFIED:20250402T134820Z
UID:10002353-1746381600-1746390600@maxottawa.ca
SUMMARY:Singles Mingle
DESCRIPTION:Join us on Sunday May 4\, 2025 at Laugh Lounge in the Byward Market for the next Singles Mingle! Your hosts Natalia (sex educator & entrepreneur) and Joey (theatre & comedy queen) will guide you through interactive activities that allow you to get to know others in an easy\, comfortable and fun way.  \n\n\n\nHaven’t been to a Singles Mingle before? It’s a special funnel style format – we start playing with the entire group and slowly get into smaller intimate groups as the night progresses. These activities are designed to help you let loose and laugh\, because humour helps to alleviate stress and makes interactions more enjoyable and relaxed. As a bonus\, you will also have the opportunity to win some amazing door prizes (including sex toys from Wicked Wanda’s)!  \n\n\n\nWhen it comes to in-person dating events\, this is the best bang for your buck in our city. We pride ourselves on remaining affordable and ensuring that there are enough registrants to make your participation worth your precious time. We always attract between 60-80 people each time we host the Singles Mingle\, so you are guaranteed many people to meet! This matters because dating is a numbers game – the more people you get to interact with\, the closer you are to finding a real romantic connection.  \n\n\n\nNo matter your culture\, sexual orientation\, gender or kinks\, you are welcome at the Singles Mingle.  \n\n\n\nThe only criteria is that you are between the ages of 25 and 45 and you are currently single (not already in a romantic relationship) and ready to mingle! Feel free to reach out to the organizers with any questions or concerns you have\, it’s our priority to make you feel at ease 🙂  \n\n\n\n*** Doors open at 7:00 pm Mingling activities start at 7:30 pm Mingling activities ends at 9:30 pm Option to stay and continue mingling if you’re enjoying your conversations!
URL:https://maxottawa.ca/list/singles-mingle-2/
LOCATION:Laugh Lounge\, 61 York St.\, Ottawa\, Ontario\, K1N 9C7\, Canada
CATEGORIES:Nightlife,Regular programming,Sex positive,Social
END:VEVENT
BEGIN:VEVENT
DTSTART;TZID=America/Toronto:20250313T190000
DTEND;TZID=America/Toronto:20250313T213000
DTSTAMP:20260419T134434
CREATED:20250216T184700Z
LAST-MODIFIED:20250216T184710Z
UID:10001944-1741892400-1741901400@maxottawa.ca
SUMMARY:Singles Mingle
DESCRIPTION:Join us on Thursday March 13\, 2025 at Laugh Lounge in the Byward Market for the next Singles Mingle! Your hosts Natalia (sex educator & entrepreneur) and Joey (theatre & comedy queen) will guide you through interactive activities that allow you to get to know others in an easy\, comfortable and fun way. \n\n\n\nHaven’t been to a Singles Mingle before? It’s a special funnel style format – we start playing with the entire group and slowly get into smaller intimate groups as the night progresses. These activities are designed to help you let loose and laugh\, because humour helps to alleviate stress and makes interactions more enjoyable and relaxed. As a bonus\, you will also have the opportunity to win some amazing door prizes (including sex toys from Wicked Wanda’s)! \n\n\n\nNo matter your culture\, sexual orientation\, gender or kinks\, you are welcome at the Singles Mingle. The only criteria is that you are between the ages of 25 and 45 and you are currently single (not already in a romantic relationship) and ready to mingle! \n\n\n\nFeel free to reach out to the organizers with any questions or concerns you have\, it’s our priority to make you feel at ease 🙂 \n\n\n\n*** \n\n\n\nDoors open at 7:00 pm \n\n\n\nMingling activities start at 7:30 pm \n\n\n\nMingling activities ends at 9:30 pm \n\n\n\nOption to stay and continue mingling if you’re enjoying your conversations!
URL:https://maxottawa.ca/list/singles-mingle/
LOCATION:Laugh Lounge\, 61 York St.\, Ottawa\, Ontario\, K1N 9C7\, Canada
CATEGORIES:Nightlife,Social
END:VEVENT
END:VCALENDAR