BEGIN:VCALENDAR
VERSION:2.0
PRODID:-//MAX Ottawa - ECPv6.15.20//NONSGML v1.0//EN
CALSCALE:GREGORIAN
METHOD:PUBLISH
X-ORIGINAL-URL:https://maxottawa.ca
X-WR-CALDESC:Events for MAX Ottawa
REFRESH-INTERVAL;VALUE=DURATION:PT1H
X-Robots-Tag:noindex
X-PUBLISHED-TTL:PT1H
BEGIN:VTIMEZONE
TZID:America/Toronto
BEGIN:DAYLIGHT
TZOFFSETFROM:-0500
TZOFFSETTO:-0400
TZNAME:EDT
DTSTART:20240310T070000
END:DAYLIGHT
BEGIN:STANDARD
TZOFFSETFROM:-0400
TZOFFSETTO:-0500
TZNAME:EST
DTSTART:20241103T060000
END:STANDARD
BEGIN:DAYLIGHT
TZOFFSETFROM:-0500
TZOFFSETTO:-0400
TZNAME:EDT
DTSTART:20250309T070000
END:DAYLIGHT
BEGIN:STANDARD
TZOFFSETFROM:-0400
TZOFFSETTO:-0500
TZNAME:EST
DTSTART:20251102T060000
END:STANDARD
BEGIN:DAYLIGHT
TZOFFSETFROM:-0500
TZOFFSETTO:-0400
TZNAME:EDT
DTSTART:20260308T070000
END:DAYLIGHT
BEGIN:STANDARD
TZOFFSETFROM:-0400
TZOFFSETTO:-0500
TZNAME:EST
DTSTART:20261101T060000
END:STANDARD
END:VTIMEZONE
BEGIN:VEVENT
DTSTART;TZID=America/Toronto:20250416T183000
DTEND;TZID=America/Toronto:20250416T193000
DTSTAMP:20260421T092429
CREATED:20241030T174132Z
LAST-MODIFIED:20241107T181623Z
UID:10001155-1744828200-1744831800@maxottawa.ca
SUMMARY:Swim Workout
DESCRIPTION:Meet fellow Queer swimmers & get a workout in. Open to members or drop-in registrations.
URL:https://maxottawa.ca/list/swim-workout-4/2025-04-16/
LOCATION:Montpetit Hall – uOttawa\, 125 University Private\, Ottawa\, Ontario\, Canada
CATEGORIES:Sports and recreation
ORGANIZER;CN="Rideau Speedeaus":MAILTO:info@rideauspeedeaus.com
END:VEVENT
BEGIN:VEVENT
DTSTART;TZID=America/Toronto:20250414T183000
DTEND;TZID=America/Toronto:20250414T193000
DTSTAMP:20260421T092429
CREATED:20241030T173439Z
LAST-MODIFIED:20241107T182001Z
UID:10001103-1744655400-1744659000@maxottawa.ca
SUMMARY:Swim Workout
DESCRIPTION:Meet fellow Queer swimmers & get a workout in. Open to members or drop-in registrations.
URL:https://maxottawa.ca/list/swim-workout-2/2025-04-14/
LOCATION:Montpetit Hall – uOttawa\, 125 University Private\, Ottawa\, Ontario\, Canada
CATEGORIES:Sports and recreation
ORGANIZER;CN="Rideau Speedeaus":MAILTO:info@rideauspeedeaus.com
END:VEVENT
BEGIN:VEVENT
DTSTART;TZID=America/Toronto:20250413T113000
DTEND;TZID=America/Toronto:20250413T123000
DTSTAMP:20260421T092429
CREATED:20241030T172809Z
LAST-MODIFIED:20241107T182238Z
UID:10001077-1744543800-1744547400@maxottawa.ca
SUMMARY:Swim Workout
DESCRIPTION:Meet fellow Queer swimmers & get a workout in. Open to members or drop-in registrations.
URL:https://maxottawa.ca/list/swim-workout/2025-04-13/
LOCATION:Montpetit Hall – uOttawa\, 125 University Private\, Ottawa\, Ontario\, Canada
CATEGORIES:Sports and recreation
ORGANIZER;CN="Rideau Speedeaus":MAILTO:info@rideauspeedeaus.com
END:VEVENT
BEGIN:VEVENT
DTSTART;TZID=America/Toronto:20250410T193000
DTEND;TZID=America/Toronto:20250410T203000
DTSTAMP:20260421T092429
CREATED:20241030T174439Z
LAST-MODIFIED:20241107T181452Z
UID:10001180-1744313400-1744317000@maxottawa.ca
SUMMARY:Swim Workout
DESCRIPTION:Meet fellow Queer swimmers & get a workout in. Open to members or drop-in registrations.
URL:https://maxottawa.ca/list/swim-workout-5/2025-04-10/
LOCATION:Montpetit Hall – uOttawa\, 125 University Private\, Ottawa\, Ontario\, Canada
CATEGORIES:Sports and recreation
ORGANIZER;CN="Rideau Speedeaus":MAILTO:info@rideauspeedeaus.com
END:VEVENT
BEGIN:VEVENT
DTSTART;TZID=America/Toronto:20250409T183000
DTEND;TZID=America/Toronto:20250409T193000
DTSTAMP:20260421T092429
CREATED:20241030T174132Z
LAST-MODIFIED:20241107T181623Z
UID:10001154-1744223400-1744227000@maxottawa.ca
SUMMARY:Swim Workout
DESCRIPTION:Meet fellow Queer swimmers & get a workout in. Open to members or drop-in registrations.
URL:https://maxottawa.ca/list/swim-workout-4/2025-04-09/
LOCATION:Montpetit Hall – uOttawa\, 125 University Private\, Ottawa\, Ontario\, Canada
CATEGORIES:Sports and recreation
ORGANIZER;CN="Rideau Speedeaus":MAILTO:info@rideauspeedeaus.com
END:VEVENT
BEGIN:VEVENT
DTSTART;TZID=America/Toronto:20250407T183000
DTEND;TZID=America/Toronto:20250407T193000
DTSTAMP:20260421T092429
CREATED:20241030T173439Z
LAST-MODIFIED:20241107T182001Z
UID:10001102-1744050600-1744054200@maxottawa.ca
SUMMARY:Swim Workout
DESCRIPTION:Meet fellow Queer swimmers & get a workout in. Open to members or drop-in registrations.
URL:https://maxottawa.ca/list/swim-workout-2/2025-04-07/
LOCATION:Montpetit Hall – uOttawa\, 125 University Private\, Ottawa\, Ontario\, Canada
CATEGORIES:Sports and recreation
ORGANIZER;CN="Rideau Speedeaus":MAILTO:info@rideauspeedeaus.com
END:VEVENT
BEGIN:VEVENT
DTSTART;TZID=America/Toronto:20250406T113000
DTEND;TZID=America/Toronto:20250406T123000
DTSTAMP:20260421T092429
CREATED:20241030T172809Z
LAST-MODIFIED:20241107T182238Z
UID:10001076-1743939000-1743942600@maxottawa.ca
SUMMARY:Swim Workout
DESCRIPTION:Meet fellow Queer swimmers & get a workout in. Open to members or drop-in registrations.
URL:https://maxottawa.ca/list/swim-workout/2025-04-06/
LOCATION:Montpetit Hall – uOttawa\, 125 University Private\, Ottawa\, Ontario\, Canada
CATEGORIES:Sports and recreation
ORGANIZER;CN="Rideau Speedeaus":MAILTO:info@rideauspeedeaus.com
END:VEVENT
BEGIN:VEVENT
DTSTART;TZID=America/Toronto:20250403T193000
DTEND;TZID=America/Toronto:20250403T203000
DTSTAMP:20260421T092429
CREATED:20241030T174439Z
LAST-MODIFIED:20241107T181452Z
UID:10001179-1743708600-1743712200@maxottawa.ca
SUMMARY:Swim Workout
DESCRIPTION:Meet fellow Queer swimmers & get a workout in. Open to members or drop-in registrations.
URL:https://maxottawa.ca/list/swim-workout-5/2025-04-03/
LOCATION:Montpetit Hall – uOttawa\, 125 University Private\, Ottawa\, Ontario\, Canada
CATEGORIES:Sports and recreation
ORGANIZER;CN="Rideau Speedeaus":MAILTO:info@rideauspeedeaus.com
END:VEVENT
BEGIN:VEVENT
DTSTART;TZID=America/Toronto:20250402T183000
DTEND;TZID=America/Toronto:20250402T193000
DTSTAMP:20260421T092429
CREATED:20241030T174132Z
LAST-MODIFIED:20241107T181623Z
UID:10001153-1743618600-1743622200@maxottawa.ca
SUMMARY:Swim Workout
DESCRIPTION:Meet fellow Queer swimmers & get a workout in. Open to members or drop-in registrations.
URL:https://maxottawa.ca/list/swim-workout-4/2025-04-02/
LOCATION:Montpetit Hall – uOttawa\, 125 University Private\, Ottawa\, Ontario\, Canada
CATEGORIES:Sports and recreation
ORGANIZER;CN="Rideau Speedeaus":MAILTO:info@rideauspeedeaus.com
END:VEVENT
BEGIN:VEVENT
DTSTART;TZID=America/Toronto:20250331T183000
DTEND;TZID=America/Toronto:20250331T193000
DTSTAMP:20260421T092429
CREATED:20241030T173439Z
LAST-MODIFIED:20241107T182001Z
UID:10001101-1743445800-1743449400@maxottawa.ca
SUMMARY:Swim Workout
DESCRIPTION:Meet fellow Queer swimmers & get a workout in. Open to members or drop-in registrations.
URL:https://maxottawa.ca/list/swim-workout-2/2025-03-31/
LOCATION:Montpetit Hall – uOttawa\, 125 University Private\, Ottawa\, Ontario\, Canada
CATEGORIES:Sports and recreation
ORGANIZER;CN="Rideau Speedeaus":MAILTO:info@rideauspeedeaus.com
END:VEVENT
BEGIN:VEVENT
DTSTART;TZID=America/Toronto:20250330T113000
DTEND;TZID=America/Toronto:20250330T123000
DTSTAMP:20260421T092429
CREATED:20241030T172809Z
LAST-MODIFIED:20241107T182238Z
UID:10001075-1743334200-1743337800@maxottawa.ca
SUMMARY:Swim Workout
DESCRIPTION:Meet fellow Queer swimmers & get a workout in. Open to members or drop-in registrations.
URL:https://maxottawa.ca/list/swim-workout/2025-03-30/
LOCATION:Montpetit Hall – uOttawa\, 125 University Private\, Ottawa\, Ontario\, Canada
CATEGORIES:Sports and recreation
ORGANIZER;CN="Rideau Speedeaus":MAILTO:info@rideauspeedeaus.com
END:VEVENT
BEGIN:VEVENT
DTSTART;TZID=America/Toronto:20250328T183000
DTEND;TZID=America/Toronto:20250328T193000
DTSTAMP:20260421T092429
CREATED:20241030T174847Z
LAST-MODIFIED:20241107T182528Z
UID:10001417-1743186600-1743190200@maxottawa.ca
SUMMARY:Swim Workout
DESCRIPTION:Meet fellow Queer swimmers & get a workout in. Open to members or drop-in registrations.
URL:https://maxottawa.ca/list/swim-workout-6/2025-03-28/
LOCATION:Montpetit Hall – uOttawa\, 125 University Private\, Ottawa\, Ontario\, Canada
CATEGORIES:Sports and recreation
ORGANIZER;CN="Rideau Speedeaus":MAILTO:info@rideauspeedeaus.com
END:VEVENT
BEGIN:VEVENT
DTSTART;TZID=America/Toronto:20250327T193000
DTEND;TZID=America/Toronto:20250327T203000
DTSTAMP:20260421T092429
CREATED:20241030T174439Z
LAST-MODIFIED:20241107T181452Z
UID:10001178-1743103800-1743107400@maxottawa.ca
SUMMARY:Swim Workout
DESCRIPTION:Meet fellow Queer swimmers & get a workout in. Open to members or drop-in registrations.
URL:https://maxottawa.ca/list/swim-workout-5/2025-03-27/
LOCATION:Montpetit Hall – uOttawa\, 125 University Private\, Ottawa\, Ontario\, Canada
CATEGORIES:Sports and recreation
ORGANIZER;CN="Rideau Speedeaus":MAILTO:info@rideauspeedeaus.com
END:VEVENT
BEGIN:VEVENT
DTSTART;TZID=America/Toronto:20250326T183000
DTEND;TZID=America/Toronto:20250326T193000
DTSTAMP:20260421T092429
CREATED:20241030T174132Z
LAST-MODIFIED:20241107T181623Z
UID:10001152-1743013800-1743017400@maxottawa.ca
SUMMARY:Swim Workout
DESCRIPTION:Meet fellow Queer swimmers & get a workout in. Open to members or drop-in registrations.
URL:https://maxottawa.ca/list/swim-workout-4/2025-03-26/
LOCATION:Montpetit Hall – uOttawa\, 125 University Private\, Ottawa\, Ontario\, Canada
CATEGORIES:Sports and recreation
ORGANIZER;CN="Rideau Speedeaus":MAILTO:info@rideauspeedeaus.com
END:VEVENT
BEGIN:VEVENT
DTSTART;TZID=America/Toronto:20250324T183000
DTEND;TZID=America/Toronto:20250324T193000
DTSTAMP:20260421T092429
CREATED:20241030T173439Z
LAST-MODIFIED:20241107T182001Z
UID:10001100-1742841000-1742844600@maxottawa.ca
SUMMARY:Swim Workout
DESCRIPTION:Meet fellow Queer swimmers & get a workout in. Open to members or drop-in registrations.
URL:https://maxottawa.ca/list/swim-workout-2/2025-03-24/
LOCATION:Montpetit Hall – uOttawa\, 125 University Private\, Ottawa\, Ontario\, Canada
CATEGORIES:Sports and recreation
ORGANIZER;CN="Rideau Speedeaus":MAILTO:info@rideauspeedeaus.com
END:VEVENT
BEGIN:VEVENT
DTSTART;TZID=America/Toronto:20250323T113000
DTEND;TZID=America/Toronto:20250323T123000
DTSTAMP:20260421T092429
CREATED:20241030T172809Z
LAST-MODIFIED:20241107T182238Z
UID:10001074-1742729400-1742733000@maxottawa.ca
SUMMARY:Swim Workout
DESCRIPTION:Meet fellow Queer swimmers & get a workout in. Open to members or drop-in registrations.
URL:https://maxottawa.ca/list/swim-workout/2025-03-23/
LOCATION:Montpetit Hall – uOttawa\, 125 University Private\, Ottawa\, Ontario\, Canada
CATEGORIES:Sports and recreation
ORGANIZER;CN="Rideau Speedeaus":MAILTO:info@rideauspeedeaus.com
END:VEVENT
BEGIN:VEVENT
DTSTART;TZID=America/Toronto:20250321T183000
DTEND;TZID=America/Toronto:20250321T193000
DTSTAMP:20260421T092429
CREATED:20241030T174847Z
LAST-MODIFIED:20241107T182528Z
UID:10001416-1742581800-1742585400@maxottawa.ca
SUMMARY:Swim Workout
DESCRIPTION:Meet fellow Queer swimmers & get a workout in. Open to members or drop-in registrations.
URL:https://maxottawa.ca/list/swim-workout-6/2025-03-21/
LOCATION:Montpetit Hall – uOttawa\, 125 University Private\, Ottawa\, Ontario\, Canada
CATEGORIES:Sports and recreation
ORGANIZER;CN="Rideau Speedeaus":MAILTO:info@rideauspeedeaus.com
END:VEVENT
BEGIN:VEVENT
DTSTART;TZID=America/Toronto:20250320T193000
DTEND;TZID=America/Toronto:20250320T203000
DTSTAMP:20260421T092429
CREATED:20241030T174439Z
LAST-MODIFIED:20241107T181452Z
UID:10001177-1742499000-1742502600@maxottawa.ca
SUMMARY:Swim Workout
DESCRIPTION:Meet fellow Queer swimmers & get a workout in. Open to members or drop-in registrations.
URL:https://maxottawa.ca/list/swim-workout-5/2025-03-20/
LOCATION:Montpetit Hall – uOttawa\, 125 University Private\, Ottawa\, Ontario\, Canada
CATEGORIES:Sports and recreation
ORGANIZER;CN="Rideau Speedeaus":MAILTO:info@rideauspeedeaus.com
END:VEVENT
BEGIN:VEVENT
DTSTART;TZID=America/Toronto:20250319T183000
DTEND;TZID=America/Toronto:20250319T193000
DTSTAMP:20260421T092429
CREATED:20241030T174132Z
LAST-MODIFIED:20241107T181623Z
UID:10001151-1742409000-1742412600@maxottawa.ca
SUMMARY:Swim Workout
DESCRIPTION:Meet fellow Queer swimmers & get a workout in. Open to members or drop-in registrations.
URL:https://maxottawa.ca/list/swim-workout-4/2025-03-19/
LOCATION:Montpetit Hall – uOttawa\, 125 University Private\, Ottawa\, Ontario\, Canada
CATEGORIES:Sports and recreation
ORGANIZER;CN="Rideau Speedeaus":MAILTO:info@rideauspeedeaus.com
END:VEVENT
BEGIN:VEVENT
DTSTART;TZID=America/Toronto:20250317T183000
DTEND;TZID=America/Toronto:20250317T193000
DTSTAMP:20260421T092429
CREATED:20241030T173439Z
LAST-MODIFIED:20241107T182001Z
UID:10001099-1742236200-1742239800@maxottawa.ca
SUMMARY:Swim Workout
DESCRIPTION:Meet fellow Queer swimmers & get a workout in. Open to members or drop-in registrations.
URL:https://maxottawa.ca/list/swim-workout-2/2025-03-17/
LOCATION:Montpetit Hall – uOttawa\, 125 University Private\, Ottawa\, Ontario\, Canada
CATEGORIES:Sports and recreation
ORGANIZER;CN="Rideau Speedeaus":MAILTO:info@rideauspeedeaus.com
END:VEVENT
BEGIN:VEVENT
DTSTART;TZID=America/Toronto:20250316T113000
DTEND;TZID=America/Toronto:20250316T123000
DTSTAMP:20260421T092429
CREATED:20241030T172809Z
LAST-MODIFIED:20241107T182238Z
UID:10001073-1742124600-1742128200@maxottawa.ca
SUMMARY:Swim Workout
DESCRIPTION:Meet fellow Queer swimmers & get a workout in. Open to members or drop-in registrations.
URL:https://maxottawa.ca/list/swim-workout/2025-03-16/
LOCATION:Montpetit Hall – uOttawa\, 125 University Private\, Ottawa\, Ontario\, Canada
CATEGORIES:Sports and recreation
ORGANIZER;CN="Rideau Speedeaus":MAILTO:info@rideauspeedeaus.com
END:VEVENT
BEGIN:VEVENT
DTSTART;TZID=America/Toronto:20250314T183000
DTEND;TZID=America/Toronto:20250314T193000
DTSTAMP:20260421T092429
CREATED:20241030T174847Z
LAST-MODIFIED:20241107T182528Z
UID:10001415-1741977000-1741980600@maxottawa.ca
SUMMARY:Swim Workout
DESCRIPTION:Meet fellow Queer swimmers & get a workout in. Open to members or drop-in registrations.
URL:https://maxottawa.ca/list/swim-workout-6/2025-03-14/
LOCATION:Montpetit Hall – uOttawa\, 125 University Private\, Ottawa\, Ontario\, Canada
CATEGORIES:Sports and recreation
ORGANIZER;CN="Rideau Speedeaus":MAILTO:info@rideauspeedeaus.com
END:VEVENT
BEGIN:VEVENT
DTSTART;TZID=America/Toronto:20250313T193000
DTEND;TZID=America/Toronto:20250313T203000
DTSTAMP:20260421T092429
CREATED:20241030T174439Z
LAST-MODIFIED:20241107T181452Z
UID:10001176-1741894200-1741897800@maxottawa.ca
SUMMARY:Swim Workout
DESCRIPTION:Meet fellow Queer swimmers & get a workout in. Open to members or drop-in registrations.
URL:https://maxottawa.ca/list/swim-workout-5/2025-03-13/
LOCATION:Montpetit Hall – uOttawa\, 125 University Private\, Ottawa\, Ontario\, Canada
CATEGORIES:Sports and recreation
ORGANIZER;CN="Rideau Speedeaus":MAILTO:info@rideauspeedeaus.com
END:VEVENT
BEGIN:VEVENT
DTSTART;TZID=America/Toronto:20250312T183000
DTEND;TZID=America/Toronto:20250312T193000
DTSTAMP:20260421T092429
CREATED:20241030T174132Z
LAST-MODIFIED:20241107T181623Z
UID:10001150-1741804200-1741807800@maxottawa.ca
SUMMARY:Swim Workout
DESCRIPTION:Meet fellow Queer swimmers & get a workout in. Open to members or drop-in registrations.
URL:https://maxottawa.ca/list/swim-workout-4/2025-03-12/
LOCATION:Montpetit Hall – uOttawa\, 125 University Private\, Ottawa\, Ontario\, Canada
CATEGORIES:Sports and recreation
ORGANIZER;CN="Rideau Speedeaus":MAILTO:info@rideauspeedeaus.com
END:VEVENT
BEGIN:VEVENT
DTSTART;TZID=America/Toronto:20250310T183000
DTEND;TZID=America/Toronto:20250310T193000
DTSTAMP:20260421T092429
CREATED:20241030T173439Z
LAST-MODIFIED:20241107T182001Z
UID:10001098-1741631400-1741635000@maxottawa.ca
SUMMARY:Swim Workout
DESCRIPTION:Meet fellow Queer swimmers & get a workout in. Open to members or drop-in registrations.
URL:https://maxottawa.ca/list/swim-workout-2/2025-03-10/
LOCATION:Montpetit Hall – uOttawa\, 125 University Private\, Ottawa\, Ontario\, Canada
CATEGORIES:Sports and recreation
ORGANIZER;CN="Rideau Speedeaus":MAILTO:info@rideauspeedeaus.com
END:VEVENT
BEGIN:VEVENT
DTSTART;TZID=America/Toronto:20250309T113000
DTEND;TZID=America/Toronto:20250309T123000
DTSTAMP:20260421T092429
CREATED:20241030T172809Z
LAST-MODIFIED:20241107T182238Z
UID:10001072-1741519800-1741523400@maxottawa.ca
SUMMARY:Swim Workout
DESCRIPTION:Meet fellow Queer swimmers & get a workout in. Open to members or drop-in registrations.
URL:https://maxottawa.ca/list/swim-workout/2025-03-09/
LOCATION:Montpetit Hall – uOttawa\, 125 University Private\, Ottawa\, Ontario\, Canada
CATEGORIES:Sports and recreation
ORGANIZER;CN="Rideau Speedeaus":MAILTO:info@rideauspeedeaus.com
END:VEVENT
BEGIN:VEVENT
DTSTART;TZID=America/Toronto:20250307T183000
DTEND;TZID=America/Toronto:20250307T193000
DTSTAMP:20260421T092429
CREATED:20241030T174847Z
LAST-MODIFIED:20241107T182528Z
UID:10001414-1741372200-1741375800@maxottawa.ca
SUMMARY:Swim Workout
DESCRIPTION:Meet fellow Queer swimmers & get a workout in. Open to members or drop-in registrations.
URL:https://maxottawa.ca/list/swim-workout-6/2025-03-07/
LOCATION:Montpetit Hall – uOttawa\, 125 University Private\, Ottawa\, Ontario\, Canada
CATEGORIES:Sports and recreation
ORGANIZER;CN="Rideau Speedeaus":MAILTO:info@rideauspeedeaus.com
END:VEVENT
BEGIN:VEVENT
DTSTART;TZID=America/Toronto:20250306T193000
DTEND;TZID=America/Toronto:20250306T203000
DTSTAMP:20260421T092429
CREATED:20241030T174439Z
LAST-MODIFIED:20241107T181452Z
UID:10001175-1741289400-1741293000@maxottawa.ca
SUMMARY:Swim Workout
DESCRIPTION:Meet fellow Queer swimmers & get a workout in. Open to members or drop-in registrations.
URL:https://maxottawa.ca/list/swim-workout-5/2025-03-06/
LOCATION:Montpetit Hall – uOttawa\, 125 University Private\, Ottawa\, Ontario\, Canada
CATEGORIES:Sports and recreation
ORGANIZER;CN="Rideau Speedeaus":MAILTO:info@rideauspeedeaus.com
END:VEVENT
BEGIN:VEVENT
DTSTART;TZID=America/Toronto:20250305T183000
DTEND;TZID=America/Toronto:20250305T193000
DTSTAMP:20260421T092429
CREATED:20241030T174132Z
LAST-MODIFIED:20241107T181623Z
UID:10001149-1741199400-1741203000@maxottawa.ca
SUMMARY:Swim Workout
DESCRIPTION:Meet fellow Queer swimmers & get a workout in. Open to members or drop-in registrations.
URL:https://maxottawa.ca/list/swim-workout-4/2025-03-05/
LOCATION:Montpetit Hall – uOttawa\, 125 University Private\, Ottawa\, Ontario\, Canada
CATEGORIES:Sports and recreation
ORGANIZER;CN="Rideau Speedeaus":MAILTO:info@rideauspeedeaus.com
END:VEVENT
BEGIN:VEVENT
DTSTART;TZID=America/Toronto:20250303T183000
DTEND;TZID=America/Toronto:20250303T193000
DTSTAMP:20260421T092429
CREATED:20241030T173439Z
LAST-MODIFIED:20241107T182001Z
UID:10001097-1741026600-1741030200@maxottawa.ca
SUMMARY:Swim Workout
DESCRIPTION:Meet fellow Queer swimmers & get a workout in. Open to members or drop-in registrations.
URL:https://maxottawa.ca/list/swim-workout-2/2025-03-03/
LOCATION:Montpetit Hall – uOttawa\, 125 University Private\, Ottawa\, Ontario\, Canada
CATEGORIES:Sports and recreation
ORGANIZER;CN="Rideau Speedeaus":MAILTO:info@rideauspeedeaus.com
END:VEVENT
END:VCALENDAR