BEGIN:VCALENDAR
VERSION:2.0
PRODID:-//MAX Ottawa - ECPv6.15.20//NONSGML v1.0//EN
CALSCALE:GREGORIAN
METHOD:PUBLISH
X-ORIGINAL-URL:https://maxottawa.ca
X-WR-CALDESC:Events for MAX Ottawa
REFRESH-INTERVAL;VALUE=DURATION:PT1H
X-Robots-Tag:noindex
X-PUBLISHED-TTL:PT1H
BEGIN:VTIMEZONE
TZID:America/Toronto
BEGIN:DAYLIGHT
TZOFFSETFROM:-0500
TZOFFSETTO:-0400
TZNAME:EDT
DTSTART:20230312T070000
END:DAYLIGHT
BEGIN:STANDARD
TZOFFSETFROM:-0400
TZOFFSETTO:-0500
TZNAME:EST
DTSTART:20231105T060000
END:STANDARD
BEGIN:DAYLIGHT
TZOFFSETFROM:-0500
TZOFFSETTO:-0400
TZNAME:EDT
DTSTART:20240310T070000
END:DAYLIGHT
BEGIN:STANDARD
TZOFFSETFROM:-0400
TZOFFSETTO:-0500
TZNAME:EST
DTSTART:20241103T060000
END:STANDARD
BEGIN:DAYLIGHT
TZOFFSETFROM:-0500
TZOFFSETTO:-0400
TZNAME:EDT
DTSTART:20250309T070000
END:DAYLIGHT
BEGIN:STANDARD
TZOFFSETFROM:-0400
TZOFFSETTO:-0500
TZNAME:EST
DTSTART:20251102T060000
END:STANDARD
END:VTIMEZONE
BEGIN:VEVENT
DTSTART;TZID=America/Toronto:20241123T200000
DTEND;TZID=America/Toronto:20241123T230000
DTSTAMP:20260424T221803
CREATED:20241101T203215Z
LAST-MODIFIED:20241106T150944Z
UID:10001386-1732392000-1732402800@maxottawa.ca
SUMMARY:Lust Island Sexy Drag Cabaret Show!
DESCRIPTION:Come join us for another steamy night of passion and romance on Lust Island – where the heat is on! Get ready to ignite your senses at the Poa Tiki Bar for an unforgettable in-person event. \n\n\n\nLet the tropical vibes and sultry atmosphere transport you to a world of mysteryand sexy excitementIndulge in exotic cocktails\, dance to seductive beats\, and mingle with like-minded individuals looking for a night of pure bliss!Don’t miss out on this opportunity to experience a night of sexy performances and playful mystery. Join us on Lust Island – where fantasies come to life!Get ready for a unique sexy cabaret drag show that will ignite all of the senses!Your host\, drag king\, Zak Zinya\, will guide you through an island mystery (similar to the game of Clue) that takes place on our fictional Lust Island which is set in the fantastical Poa Tiki Bar on Dalhousie. \n\n\n\nWill someone take our treasure? \n\n\n\nWill someone try to steal Zak’s heart? \n\n\n\nWill Madam Kitty’s pet lion go missing? \n\n\n\nHelp us uncover the culprit!This is an interactive drag experience where the audience will be participating in fun games & challenges to feel sexy and win prizes! \n\n\n\nCome for the drag & drama\, stay for Letasha’s Goodies @letashasgoodiesxo!
URL:https://maxottawa.ca/list/lust-island-sexy-drag-cabaret-show/
LOCATION:Poa Tiki Bar\, 281a Dalhousie St.\, Ottawa\, Ontario\, K1N 7E5\, Canada
CATEGORIES:Drag & Burlesque,Nightlife
ORGANIZER;CN="Michelle Zakrison":MAILTO:michelle.zakrison@gmail.com
END:VEVENT
END:VCALENDAR