BEGIN:VCALENDAR
VERSION:2.0
PRODID:-//MAX Ottawa - ECPv6.15.20//NONSGML v1.0//EN
CALSCALE:GREGORIAN
METHOD:PUBLISH
X-WR-CALNAME:MAX Ottawa
X-ORIGINAL-URL:https://maxottawa.ca
X-WR-CALDESC:Events for MAX Ottawa
REFRESH-INTERVAL;VALUE=DURATION:PT1H
X-Robots-Tag:noindex
X-PUBLISHED-TTL:PT1H
BEGIN:VTIMEZONE
TZID:America/Toronto
BEGIN:DAYLIGHT
TZOFFSETFROM:-0500
TZOFFSETTO:-0400
TZNAME:EDT
DTSTART:20230312T070000
END:DAYLIGHT
BEGIN:STANDARD
TZOFFSETFROM:-0400
TZOFFSETTO:-0500
TZNAME:EST
DTSTART:20231105T060000
END:STANDARD
BEGIN:DAYLIGHT
TZOFFSETFROM:-0500
TZOFFSETTO:-0400
TZNAME:EDT
DTSTART:20240310T070000
END:DAYLIGHT
BEGIN:STANDARD
TZOFFSETFROM:-0400
TZOFFSETTO:-0500
TZNAME:EST
DTSTART:20241103T060000
END:STANDARD
BEGIN:DAYLIGHT
TZOFFSETFROM:-0500
TZOFFSETTO:-0400
TZNAME:EDT
DTSTART:20250309T070000
END:DAYLIGHT
BEGIN:STANDARD
TZOFFSETFROM:-0400
TZOFFSETTO:-0500
TZNAME:EST
DTSTART:20251102T060000
END:STANDARD
END:VTIMEZONE
BEGIN:VEVENT
DTSTART;TZID=America/Toronto:20241115T233000
DTEND;TZID=America/Toronto:20241116T020000
DTSTAMP:20260421T050430
CREATED:20241101T171349Z
LAST-MODIFIED:20241106T151739Z
UID:10001379-1731713400-1731722400@maxottawa.ca
SUMMARY:Friday Night Drag with Shea D. Ladie & Karamilk
DESCRIPTION:Doors open upon conclusion of the prior show\, at approx. 11:00pm. This ticket ensures priority entry to the venue up until showtime of 11:30pm. After the show begins\, entry is subject to capacity requirements. \n\n\n\nThis performance is in a nightclub format\, and does not include seat assignments. The dance floor is open\, and customer dancing with a live DJ is invited in between drag sets\, as well as after the show until close. Refunds not granted within 48 hours of showtime.
URL:https://maxottawa.ca/list/friday-night-drag-with-shea-d-ladie-karamilk/
LOCATION:The Lookout Bar\, 41 York Street\, 2nd Floor\, Ottawa\, ON\, K1N 5S7\, Canada
CATEGORIES:Drag & Burlesque,Nightlife
END:VEVENT
BEGIN:VEVENT
DTSTART;TZID=America/Toronto:20241115T203000
DTEND;TZID=America/Toronto:20241115T223000
DTSTAMP:20260421T050430
CREATED:20241101T171715Z
LAST-MODIFIED:20241106T151750Z
UID:10001380-1731702600-1731709800@maxottawa.ca
SUMMARY:Friday Night Drag with Shea D. Ladie and Karamilk
DESCRIPTION:Karamilk & Shea D. Ladie serve you amazing live drag performances at Ottawa’s Home for Drag.
URL:https://maxottawa.ca/list/friday-night-drag-with-shea-d-ladie-and-karamilk/
LOCATION:The Lookout Bar\, 41 York Street\, 2nd Floor\, Ottawa\, ON\, K1N 5S7\, Canada
CATEGORIES:Drag & Burlesque,Nightlife
END:VEVENT
BEGIN:VEVENT
DTSTART;TZID=America/Toronto:20241114T200000
DTEND;TZID=America/Toronto:20241114T233000
DTSTAMP:20260421T050430
CREATED:20241107T213507Z
LAST-MODIFIED:20241107T213511Z
UID:10001427-1731614400-1731627000@maxottawa.ca
SUMMARY:BJ and The Boys Movember fundraiser
DESCRIPTION:The show starts at 8:00 PM featuring a line up of incredible preformers! Hosted by BJ Stoker\, the reigning champion of ONDS All-Starts 2024\, this charity event is one you don’t want to miss! \n\n\n\nFeatured preformers: Jawn Wooders\, Twink Van Dyke\, Morgan Mercury\, Sam Smitten\, Bratt Pitt\, Caleb O’guy and Ass Catchum. \n\n\n\nPerformer lineup subject to change; all Lookout programming is 19+.
URL:https://maxottawa.ca/list/bj-and-the-boys-movember-fundraiser/
LOCATION:The Lookout Bar\, 41 York Street\, 2nd Floor\, Ottawa\, ON\, K1N 5S7\, Canada
CATEGORIES:Drag & Burlesque,Nightlife
END:VEVENT
BEGIN:VEVENT
DTSTART;TZID=America/Toronto:20241109T233000
DTEND;TZID=America/Toronto:20241110T020000
DTSTAMP:20260421T050430
CREATED:20241029T200338Z
LAST-MODIFIED:20241106T152259Z
UID:10000190-1731195000-1731204000@maxottawa.ca
SUMMARY:Saturday Night Drag with Kimmy Couture & Yeti
DESCRIPTION:Doors open upon conclusion of the prior show\, at approx. 11:00pm. This ticket ensures priority entry to the venue up until showtime of 11:30pm. After the show begins\, entry is subject to capacity requirements.This performance is in a nightclub format\, and does not include seat assignments. The dance floor is open\, and customer dancing with a live DJ is invited in between drag sets\, as well as after the show until close. Refunds not granted within 48 hours of showtime.
URL:https://maxottawa.ca/list/saturday-night-drag-with-kimmy-couture-yeti-2/
LOCATION:The Lookout Bar\, 41 York Street\, 2nd Floor\, Ottawa\, ON\, K1N 5S7\, Canada
CATEGORIES:Drag & Burlesque,Nightlife
END:VEVENT
BEGIN:VEVENT
DTSTART;TZID=America/Toronto:20241109T203000
DTEND;TZID=America/Toronto:20241109T223000
DTSTAMP:20260421T050430
CREATED:20241029T194925Z
LAST-MODIFIED:20241106T152330Z
UID:10000189-1731184200-1731191400@maxottawa.ca
SUMMARY:Saturday Night Drag with Kimmy Couture & Yeti
DESCRIPTION:Kimmy Couture and Yeti serve you amazing live drag performances at Ottawa’s Home for Drag.
URL:https://maxottawa.ca/list/saturday-night-drag-with-kimmy-couture-yeti/
LOCATION:The Lookout Bar\, 41 York Street\, 2nd Floor\, Ottawa\, ON\, K1N 5S7\, Canada
CATEGORIES:Drag & Burlesque,Nightlife
END:VEVENT
BEGIN:VEVENT
DTSTART;TZID=America/Toronto:20241108T233000
DTEND;TZID=America/Toronto:20241109T023000
DTSTAMP:20260421T050430
CREATED:20241029T183843Z
LAST-MODIFIED:20241106T152421Z
UID:10000186-1731108600-1731119400@maxottawa.ca
SUMMARY:Friday Night Drag with Vera and Bae Root
DESCRIPTION:Doors open upon conclusion of the prior show\, at approx. 11:00pm. This ticket ensures priority entry to the venue up until showtime of 11:30pm. After the show begins\, entry is subject to capacity requirements.This performance is in a nightclub format\, and does not include seat assignments. The dance floor is open\, and customer dancing with a live DJ is invited in between drag sets\, as well as after the show until close. Refunds not granted within 48 hours of showtime.
URL:https://maxottawa.ca/list/friday-night-drag-with-vera-and-bae-root-2/
LOCATION:The Lookout Bar\, 41 York Street\, 2nd Floor\, Ottawa\, ON\, K1N 5S7\, Canada
CATEGORIES:Drag & Burlesque,Nightlife
END:VEVENT
BEGIN:VEVENT
DTSTART;TZID=America/Toronto:20241108T203000
DTEND;TZID=America/Toronto:20241108T223000
DTSTAMP:20260421T050430
CREATED:20241029T183400Z
LAST-MODIFIED:20241106T152433Z
UID:10000185-1731097800-1731105000@maxottawa.ca
SUMMARY:Friday Night Drag with Vera and Bae Root
DESCRIPTION:Vera and Bae Root serve you amazing live drag performances at Ottawa’s Home for Drag.
URL:https://maxottawa.ca/list/friday-night-drag-with-vera-and-bae-root/
LOCATION:The Lookout Bar\, 41 York Street\, 2nd Floor\, Ottawa\, ON\, K1N 5S7\, Canada
CATEGORIES:Drag & Burlesque,Nightlife
END:VEVENT
BEGIN:VEVENT
DTSTART;TZID=America/Toronto:20241102T233000
DTEND;TZID=America/Toronto:20241103T020000
DTSTAMP:20260421T050430
CREATED:20241029T181938Z
LAST-MODIFIED:20241106T153139Z
UID:10000183-1730590200-1730599200@maxottawa.ca
SUMMARY:Saturday Night Drag with Karamilk and Van Goth
DESCRIPTION:Doors open upon conclusion of the prior show\, at approx. 11:00pm. This ticket ensures priority entry to the venue up until showtime of 11:30pm. After the show begins\, entry is subject to capacity requirements.This performance is in a nightclub format\, and does not include seat assignments. The dance floor is open\, and customer dancing with a live DJ is invited in between drag sets\, as well as after the show until close. Refunds not granted within 48 hours of showtime.
URL:https://maxottawa.ca/list/saturday-night-drag-with-karamilk-and-van-goth-2/
LOCATION:The Lookout Bar\, 41 York Street\, 2nd Floor\, Ottawa\, ON\, K1N 5S7\, Canada
CATEGORIES:Drag & Burlesque,Nightlife
END:VEVENT
BEGIN:VEVENT
DTSTART;TZID=America/Toronto:20241102T203000
DTEND;TZID=America/Toronto:20241102T223000
DTSTAMP:20260421T050430
CREATED:20241029T181408Z
LAST-MODIFIED:20241106T153211Z
UID:10000182-1730579400-1730586600@maxottawa.ca
SUMMARY:Saturday Night Drag with Karamilk and Van Goth
DESCRIPTION:Van Goth (Toronto) and Karamilk serve you amazing live drag performances at Ottawa’s Home for Drag.
URL:https://maxottawa.ca/list/saturday-night-drag-with-karamilk-and-van-goth/
LOCATION:The Lookout Bar\, 41 York Street\, 2nd Floor\, Ottawa\, ON\, K1N 5S7\, Canada
CATEGORIES:Drag & Burlesque,Nightlife
END:VEVENT
BEGIN:VEVENT
DTSTART;TZID=America/Toronto:20241031T200000
DTEND;TZID=America/Toronto:20241031T230000
DTSTAMP:20260421T050430
CREATED:20241028T201017Z
LAST-MODIFIED:20241106T153348Z
UID:10000162-1730404800-1730415600@maxottawa.ca
SUMMARY:Queer of Halloween
DESCRIPTION:Join us for an exciting Halloween night of unforgettable performances\, as incredible drag artists compete for the coveted title and a $300 cash prize! Who will be crowned this year’s Head of Horror?Hosted by Vera\, each contestant will vie to wow the judges and audience\, in an effort to succeed 2023 winner\, Lady Justice!Stick around after the show for a Halloween dance party with DJ Roxy Sunset\, a $100 cash prize for best audience costume\, and spooky drunk specials until late!Performer lineup subject to change. All Lookout programming is 19+.
URL:https://maxottawa.ca/list/queer-of-halloween/
LOCATION:The Lookout Bar\, 41 York Street\, 2nd Floor\, Ottawa\, ON\, K1N 5S7\, Canada
CATEGORIES:Drag & Burlesque,Nightlife
END:VEVENT
BEGIN:VEVENT
DTSTART;TZID=America/Toronto:20241029T200000
DTEND;TZID=America/Toronto:20241029T230000
DTSTAMP:20260421T050430
CREATED:20241029T175945Z
LAST-MODIFIED:20241106T153534Z
UID:10000180-1730232000-1730242800@maxottawa.ca
SUMMARY:Super Mario Hoes
DESCRIPTION:Join us for an incredible night of Super performances from BJ Stroker\, Bae Root\, Yeti\, Minnie Monroe\, Caligula\, Phionna Kitty\, and hosted by Wysteria!Doors at 7pm\, showtime at 8pm. Guests are encouraged to arrive early to ensure preferred seating\, as some tickets may be standing
URL:https://maxottawa.ca/list/super-mario-hoes/
LOCATION:The Lookout Bar\, 41 York Street\, 2nd Floor\, Ottawa\, ON\, K1N 5S7\, Canada
CATEGORIES:Drag & Burlesque,Nightlife
END:VEVENT
END:VCALENDAR