BEGIN:VCALENDAR
VERSION:2.0
PRODID:-//MAX Ottawa - ECPv6.15.20//NONSGML v1.0//EN
CALSCALE:GREGORIAN
METHOD:PUBLISH
X-WR-CALNAME:MAX Ottawa
X-ORIGINAL-URL:https://maxottawa.ca
X-WR-CALDESC:Events for MAX Ottawa
REFRESH-INTERVAL;VALUE=DURATION:PT1H
X-Robots-Tag:noindex
X-PUBLISHED-TTL:PT1H
BEGIN:VTIMEZONE
TZID:America/Toronto
BEGIN:DAYLIGHT
TZOFFSETFROM:-0500
TZOFFSETTO:-0400
TZNAME:EDT
DTSTART:20240310T070000
END:DAYLIGHT
BEGIN:STANDARD
TZOFFSETFROM:-0400
TZOFFSETTO:-0500
TZNAME:EST
DTSTART:20241103T060000
END:STANDARD
BEGIN:DAYLIGHT
TZOFFSETFROM:-0500
TZOFFSETTO:-0400
TZNAME:EDT
DTSTART:20250309T070000
END:DAYLIGHT
BEGIN:STANDARD
TZOFFSETFROM:-0400
TZOFFSETTO:-0500
TZNAME:EST
DTSTART:20251102T060000
END:STANDARD
BEGIN:DAYLIGHT
TZOFFSETFROM:-0500
TZOFFSETTO:-0400
TZNAME:EDT
DTSTART:20260308T070000
END:DAYLIGHT
BEGIN:STANDARD
TZOFFSETFROM:-0400
TZOFFSETTO:-0500
TZNAME:EST
DTSTART:20261101T060000
END:STANDARD
END:VTIMEZONE
BEGIN:VEVENT
DTSTART;TZID=America/Toronto:20250705T130000
DTEND;TZID=America/Toronto:20250705T160000
DTSTAMP:20260420T043849
CREATED:20250702T020145Z
LAST-MODIFIED:20250702T020153Z
UID:10003201-1751720400-1751731200@maxottawa.ca
SUMMARY:Capital Bi's Beach Day
DESCRIPTION:Next event coming in HOTTEST! 🥵 \n\n\n\nSaturday July 5: wear your cutest swimsuit\, bring a snack to share\, and get ready to spend the afternoon with your fave bi+ babes 🌞⛱️🩱 \n\n\n\nAll ages! We will have a tent for some shade. Westboro Beach is easily accessed by bike/transit with accessible washrooms. Masks are optional for this outdoor event.
URL:https://maxottawa.ca/list/capital-bis-beach-day/
LOCATION:Westboro Beach\, 745 Kichi Zībī Mīkan\, Ottawa\, Ontario\, K2A 4B1\, Canada
CATEGORIES:Ottawa,Social
END:VEVENT
END:VCALENDAR